{"text_format":"1","workbook":"xlsx","n_sheets":6,"sheets":["CATALOGUE","APR","APRRetail","APRBulk","NonZero","Instructions"],"not_rendered":{"charts":0,"images":48,"macros":1,"external_links":0,"defined_names":6,"comments":0,"pivot_tables":0},"unopened":[],"bounds":{"document_bytes":16777216,"sheet_cells":100000,"rows_first":2000,"rows_last":500,"rows_between":2000,"halvings":0,"cell_chars":16384,"cell_head_chars":4096},"cells_cut":0,"cells_raw":0,"read":"whole","date_system":"1900"}

{"sheet":"CATALOGUE","index":0,"n_rows":186,"n_cols":10,"rows_kept":186,"cut":false,"hidden":false,"merged":[[0,0,0,7],[2,6,2,7],[2,3,2,4],[2,2,3,2],[2,1,3,1],[2,0,3,0]]}
["CATALOGUE"]
[null,null,"SEARCH ITEM:"]
["SELECT\n\nALL","ITEM CODE","ITEM DESCRIPTION/SPECIFICATIONS","RETAIL",null,null,"BIG BOX"]
[null,null,null,"UNIT","UNIT PRICE\n(as of 12/01/2016)",null,"UNIT","UNIT PRICE\n(as of 12/01/2016)",null,182]
[1,"13111203-AC-F01","ACETATE","roll",624,2,"roll",624,2]
[2,"47131812-AF-A01","AIR FRESHENER, aerosol, 280ml/150g min            ","can",83.2,12,"box",998.4,12]
[3,"12191601-AL-E01","ALCOHOL, ethyl, 68%-70%, scented, 500ml (-5ml)    ","bottle",47.82,36,"box",1721.52,36]
[4,"39111801-BA-F02","BALLAST, 36 WATTS","piece",74.78,26,"box",1944.28,26]
[5,"26111702-BT-A02","BATTERY, dry cell, AA, 2 pieces per blister pack","pack",19.5,10,"box",195,50]
[6,"26111702-BT-A01","BATTERY, dry cell, AAA, 2 pieces per blister pack","pack",18.46,10,"box",184.6,50]
[7,"26111702-BT-A03","BATTERY, dry cell, D, 2 pieces per blister pack","pack",88.4,10,"box",884,60]
[8,"44101602-PB-M01","BINDING AND PUNCHING MACHINE","unit",10400,3,"unit",10400,3]
[9,"47131604-BR-S01","BROOM, SOFT (TAMBO), weight: 200g min tiger grass ","piece",88.4,25,"bundle",2210,25]
[10,"47131604-BR-T01","BROOM, STICK (TINGTING)","piece",23.92,25,"bundle",598,25]
[11,"44101807-CA-C01","CALCULATOR, COMPACT, electronic, 12 digits cap, 1 unit\nin individual box","unit",135.19999999999999,40,"carton",5408,40]
[12,"44101810-CA-D01","CALCULATOR, MINI-PRINTING, 1 unit per box","unit",930.8,20,"pack",18616,20]
[13,"44101810-CA-D02","CALCULATOR, PRINTING, DESKTOP, 1 unit per box","unit",1965.6,6,"pack",11793.6,12]
[14,"44101807-CA-S01","CALCULATOR, SCIENTIFIC, 1 unit in indiviual box","unit",258.83999999999997,40,"carton",10353.6,40]
[15,"13111201-CF-P01","CARBON FILM, A4 SIZE, 100 sheets per box","box",197.58,50,"carton",9879,50]
[16,"13111201-CF-P02","CARBON FILM, PE, black, size 216mm x 330mm, 100 sheets per box     ","box",202.8,50,"carton",10140,50]
[17,"14111525-CA-A01","CARTOLINA, ASSORTED COLORS, 20 pieces per pack","pack",64.48,5,"bundle",322.39999999999998,10]
[18,"14111525-CA-W01","CARTOLINA, WHITE, 20 pieces per pack","pack",52,5,"bundle",260,10]
[19,"56101504-CM-B01","CHAIR, MONOBLOC, BEIGE, with backrest, w/o armrest","piece",254.68,25,"stack",6367,2]
[20,"56101504-CM-W01","CHAIR, MONOBLOC, WHITE, with backrest, w/o armrest","piece",254.8,25,"stack",6370,2]
[21,"44121710-CH-W01","CHALK, WHITE ENAMEL, 100 pieces per box","box",25.86,30,"carton",775.8,2]
[22,"47131829-TB-C01","CLEANER, TOILET BOWL AND URINAL, , 900ml-1,000ml cap","bottle",41.6,12,"box",499.2,25]
[23,"47131805-CL-P01","CLEANSER, SCOURING POWDER, 350g min./can","can",21.27,48,"box",1020.96,25]
[24,"60121413-CB-P01","CLEARBOOK, A4 SIZE","piece",39.520000000000003,12,"box",474.24,30]
[25,"60121413-CB-P02","CLEARBOOK, LEGAL","piece",43.68,12,"box",524.16,12]
[26,"44122105-BF-C01","CLIP, BACKFOLD, 19MM, 12 pieces per box","box",7.28,50,"carton",364,48]
[27,"44122105-BF-C02","CLIP, BACKFOLD, 25MM, 12 pieces per box","box",10.4,50,"carton",520,24]
[28,"44122105-BF-C03","CLIP, BACKFOLD, 32MM, 12 pieces per box","box",19.12,50,"carton",956,24]
[29,"44122105-BF-C04","CLIP, BACKFOLD, 50MM, 12 pieces per box","box",36.380000000000003,50,"carton",1819,300]
[30,"44122105-BD-C01","CLIP, BULLDOG","piece",8.32,36,"box",299.52,240]
[31,"14111513-CO-P04","COLUMNAR PAD, 18 COLS.","pad",65.52,10,"bundle",655.20000000000005,50]
[32,"39101619-FL-C01","COMPACT FLUORESCENT LAMP, 18 WATTS, 1 piece in individual box","piece",93.29,50,"carton",4664.5,60]
[33,"14111506-CF-L11","CONTINUOUS FORM, 1 PLY, 280 x 241mm ,2,000 sets per box               ","box",630.76,2,"box",630.76,108]
[34,"14111506-CF-L21","CONTINUOUS FORM, 2 PLY, 280 x 241mm, 1,000 sets per box","box",716.04,2,"box",716.04,50]
[35,"14111506-CF-L31","CONTINUOUS FORM, 3 PLY, 280 x 241mm, 500 sets per box","box",596.79999999999995,2,"box",596.79999999999995,50]
[36,"14111506-CF-L12","CONTINUOUS FORM, 1 PLY, 280MM X 378MM, 2,000 sets per box","box",950.3,2,"box",950.3,2]
[37,"14111506-CF-L22","CONTINUOUS FORM, 2 PLY, 280MM X 378MM, 1,000 sets per box","box",1220.96,2,"box",1220.96,2]
[38,"14111506-CF-L32","CONTINUOUS FORM, 3 PLY, 280MM X 378MM, 500 sets per box","box",958.15,2,"box",958.15,2]
[39,"44121801-CT-R01","CORRECTION TAPE, 1 piece in individual plastic","piece",31.2,50,"box",1560,50]
[40,"44121612-BL-H01","CUTTER BLADE, 10 pieces per tube","tube",9.19,20,"box",183.8,40]
[41,"44121612-CU-H01","CUTTER KNIFE","piece",19.760000000000002,24,"box",474.24,48]
[42,"44111515-DF-B01","DATA FILE BOX, made of chipboard, with closed ends","piece",69.78,8,"bundle",558.24,8]
[43,"44122011-DF-F01","DATA FOLDER, made of chipboard, taglia lock       ","piece",68.64,6,"bundle",411.84,12]
[44,"44103202-DS-M01","DATING AND STAMPING MACHINE","piece",478.38,12,"box",5740.56,24]
[45,"47131811-DE-P02","DETERGENT POWDER, all purpose, 1kg per plastic pouch","pouch",37.43,25,"sack",935.75,30]
[46,"52161535-DV-R01","DIGITAL VOICE RECORDER, memory: 4GB (expandable), 1 unit in individual box","unit",6229.6,10,"pack",62296,10]
[47,"47131800-DB-S01","DISINFECTANT, bleaching solution","container",101.82,6,"box",610.91999999999996,12]
[48,"47131803-DS-A01","DISINFECTANT SPRAY, aerosol type, 400-550 grams   ","can",119.6,12,"box",1435.2,4]
[49,"45121517-DO-C01","DOCUMENT CAMERA","unit",25272,3,"unit",25272,24]
[50,"47131601-DU-P01","DUST PAN","piece",24.96,12,"bundle",299.52,90]
[51,"43202003-DV-W01","DVD RE-WRITABLE","piece",21.79,10,"pack",217.9,4]
[52,"40101604-EF-G01","ELECTRIC FAN, INDUSTRIAL","unit",956.8,4,"unit",956.8,4]
[53,"40101604-EF-C01","ELECTRIC FAN, ORBIT type, ceiling,  metal blade","unit",1248,4,"unit",1248,4]
[54,"40101604-EF-S01","ELECTRIC FAN, STAND TYPE","unit",967.1,4,"unit",967.1,4]
[55,"40101604-EF-W01","ELECTRIC FAN, WALL TYPE","unit",790.4,4,"unit",790.4,3]
[56,"44103201-ET-R01","ELECTRONIC TIME RECORDER OR BUNDY CLOCK","unit",3315.52,3,"unit",3315.52,2]
[57,"44121506-EN-D01","ENVELOPE, DOCUMENTARY, for A4 size document, 500 pieces per box","box",381.54,2,"box",381.54,2]
[58,"44121506-EN-D02","ENVELOPE, DOCUMENTARY, for legal size document, \n500 pieces per box","box",507.4,2,"box",507.4,2]
[59,"44121506-EN-X01","ENVELOPE, EXPANDING, KRAFTBOARD,for legal size doc, 100 pieces per box","box",621.71,2,"box",621.71,100]
[60,"44121506-EN-X02","ENVELOPE, EXPANDING, PLASTIC","piece",27.61,100,"box",2761,2]
[61,"44121506-EN-M01","ENVELOPE, MAILING, 500 pieces per box","box",499.2,2,"box",499.2,2]
[62,"44121504-EN-W01","ENVELOPE, MAILING, WITH WINDOW, 500 pieces per box","box",561.6,2,"box",561.6,8]
[63,"44121506-EN-P01","ENVELOPE, PAY, 500 pieces per box","box",119.39,7,"box",119.39,36]
[64,"44111912-ER-B01","ERASER, FELT, FOR BLACKBOARD OR WHITEBOARD","piece",11.11,12,"box",133.32,60]
[65,"60121534-ER-P01","ERASER, PLASTIC OR RUBBER","piece",2.29,30,"box",68.7,10]
[66,"43201827-HD-X02","EXTERNAL HARD DRIVE, 1TB, 2.5\"HDD, USB 3.0, 1 unit \nin individual box","unit",2818.4,10,"pack",28184,3]
[67,"44101714-FX-M01","FACSIMILE MACHINE","unit",3502.72,3,"unit",3502.72,50]
[68,"44122118-FA-P01","FASTENER, METAL, 70mm between prongs, 50 sets per box","box",57.09,10,"pack",570.9,50]
[69,"44111515-FO-X01","FILE ORGANIZER, LEGAL","piece",70.67,50,"box",3533.5,75]
[70,"44122018-FT-D01","FILE TAB DIVIDER, A4, 5 colors per set","set",12.48,10,"pack",124.8,75]
[71,"44122018-FT-D02","FILE TAB DIVIDER, LEGAL, 5 colors per set","set",16.64,10,"pack",166.4,3]
[72,"46191601-FE-M01","FIRE EXTINGUISHER, DRY CHEMICAL","unit",1080.56,3,"unit",1080.56,3]
[73,"46191601-FE-H01","FIRE EXTINGUISHER, PURE HCFC","unit",4992,3,"unit",4992,15]
[74,"43202101-FD-U01","FLASH DRIVE, 16 GB capacity,1 piece in individual blister pack              ","piece",194.48,5,"box",972.4,8]
[75,"47131802-FW-L01","FLOOR WAX, LIQUID TYPE, NATURAL","can",370.5,4,"box",1482,4]
[76,"47131802-FW-P01","FLOOR WAX, PASTE TYPE, NATURAL","can",223.6,4,"box",894.4,4]
[77,"47131802-FW-P02","FLOOR WAX, PASTE, RED","can",202.8,4,"box",811.2,25]
[78,"39101605-FL-T03","FLUORESCENT LAMP, 14 WATTS","tube",88.4,25,"box",2210,25]
[79,"39101605-FL-T04","FLUORESCENT LAMP, 28 WATTS","tube",114.4,25,"box",2860,25]
[80,"39101628-LT-L01","LINEAR TUBE, LED, 18 WATTS","tube",280.8,20,"box",5616,20]
[81,"39111501-FF-C02","FLUORESCENT LIGHTING FIXTURES, 1 X 36 WATTS","set",364,10,"box",3640,5]
[82,"44122011-FO-F01","FOLDER, FANCY, A4, 50 pieces per bundle","bundle",234,5,"bundle",234,5]
[83,"44122011-FO-F02","FOLDER, FANCY, legal, 50 pieces per bundle","bundle",291.2,5,"bundle",291.2,48]
[84,"44122011-FO-L01","FOLDER, L-TYPE, A4 SIZE, 50 pieces per pack","pack",166.4,24,"box",3993.6,48]
[85,"44122011-FO-L02","FOLDER, L-TYPE, LEGAL SIZE, 50 pieces per pack","pack",203.84,24,"box",4892.16,2]
[86,"44122027-FO-P01","FOLDER, PRESSBOARD, size: 240mm x 370mm (-5mm), 100 pieces per box    ","box",746.72,2,"box",746.72,4]
[87,"44122011-FO-T01","FOLDER, TAGBOARD, for A4 size documents, \n100 pieces per pack","pack",179.28,4,"pack",179.28,4]
[88,"44122011-FO-T02","FOLDER, TAGBOARD, for legal size documents ,100 pieces per pack        ","pack",200.37,4,"pack",200.37,12]
[89,"47131830-FC-A01","FURNITURE CLEANER, aerosol, 300ml min./can","can",84.76,12,"box",1017.12,36]
[90,"31201610-GL-J01","GLUE, all purpose, gross weight: 200 grams min    ","jars",44.18,36,"box",1590.48,40]
[91,"55101524-RA-H01","HANDBOOK ON RA9184","book",61.83,20,"bundle",1236.5999999999999,40]
[92,"60121138-IL-B01","ILLUSTRATION BOARD, 760MM X 1000MM","piece",35.049999999999997,20,"bundle",701,10]
[93,"44111515-IC-B01","INDEX CARD BOX, 3X5","piece",36.4,10,"pack",364,10]
[94,"44100515-IC-B02","INDEX CARD BOX, 5X8","piece",55.12,10,"pack",551.20000000000005,10]
[95,"14111518-IC-R01","INDEX CARD, 3X5, 500 pieces per pack","pack",51.27,10,"box",512.70000000000005,10]
[96,"14111518-IC-R02","INDEX CARD, 5X8, 500 pieces per pack","pack",139.34,10,"box",1393.4,200]
[97,"44122008-IT-T01","INDEX TAB, 5 sets per box","box",47.9,50,"pack",2395,60]
[98,"12171703-SI-P01","STAMP PAD INK, purple or violet, 50ml (min.)","bottle",24.63,12,"box",295.56,12]
[99,"10191509-IN-A01","INSECTICIDE, aerosol type, net content: 600ml min ","can",124.8,12,"box",1497.6,5]
[100,"14111609-LL-C01","LOOSELEAF COVER, 50 sets per bundle","bundle",539.76,5,"bundle",539.76,20]
[101,"44111515-MF-B02","MAGAZINE FILE BOX, LARGE","piece",41.6,20,"pack",832,20]
[102,"60121124-MA-P01","MANILA PAPER, 10 sheets per pack","pack",26,20,"bundle",520,100]
[103,"44122106-MP-R01","MAP PIN, ROUND HEAD, 100 pieces per case","case",40.35,10,"box",403.5,48]
[104,"44121716-MA-F01","MARKER, FLUORESCENT, 3 colors per set","set",35.549999999999997,48,"pack",1706.4,48]
[105,"44121708-MP-B01","MARKER, PERMANENT, bullet type, black             ","piece",9.65,12,"box",115.8,48]
[106,"44121708-MP-B02","MARKER, PERMANENT, bullet type, blue              ","piece",9.65,12,"box",115.8,48]
[107,"44121708-MP-B03","MARKER, PERMANENT, bullet type, red               ","piece",9.65,12,"box",115.8,48]
[108,"44121708-MW-B01","MARKER, WHITEBOARD, black","piece",10.28,12,"box",123.36,48]
[109,"44121708-MW-B02","MARKER, WHITEBOARD, blue","piece",10.28,12,"box",123.36,48]
[110,"44121708-MW-B03","MARKER, WHITEBOARD, red","piece",10.28,12,"box",123.36,3]
[111,"52161533-ME-P01","MEGAPHONE","unit",2704,3,"unit",2704,3]
[112,"56101519-TMS02","MONOBLOC, TABLE, BEIGE","unit",1289.5999999999999,3,"unit",1289.5999999999999,3]
[113,"56101519-TM-S01","MONOBLOC, TABLE, WHITE","unit",1289.5999999999999,3,"unit",1289.5999999999999,3]
[114,"47121804-MP-B01","MOPBUCKET","unit",1911,3,"unit",1911,12]
[115,"47131613-MP-H02","MOPHANDLE","piece",142.47999999999999,12,"bundle",1709.76,12]
[116,"47131619-MP-R01","MOPHEAD, made of rayon, weight: 400 grams min     ","piece",98.8,12,"bundle",1185.5999999999999,10]
[117,"43211708-MO-O01","MOUSE, OPTICAL, USB CONNECTION TYPE, 1 unit in individual box","unit",127.8,10,"pack",1278,3]
[118,"45111609-MM-P01","MULTIMEDIA PROJECTOR, 4000 min ANSI Lumens        ","unit",26483.599999999999,3,"unit",26483.599999999999,40]
[119,"14111514-NB-S01","NOTEBOOK, STENOGRAPHER, spiral, 40 leaves         ","piece",12.04,20,"pack",240.8,48]
[120,"14111514-NP-S02","NOTEPAD, STICK-ON, 2X3, 100 sheets per pad","pad",31.2,12,"pack",374.4,48]
[121,"14111514-NP-S03","NOTEPAD, STICK-ON, 3X3, 100 sheets per pad","pad",40.54,12,"pack",486.48,48]
[122,"14111514-NP-S04","NOTEPAD, STICK-ON, 3X4, 100 sheets per pad","pad",54.06,12,"pack",648.72,72]
[123,"12181601-OL-G01","OIL, GENERAL PURPOSE LUBRICANT, 120ml per bottle","bottle",36.9,72,"box",2656.8,40]
[124,"14111531-PP-R01","PAD PAPER, RULED","pad",18.260000000000002,10,"bundle",182.6,50]
[125,"44122104-PC-G01","PAPER CLIP, 32MM, 100 pieces per box\nor 52 grams (min.) (net of box)","box",6.43,50,"carton",321.5,50]
[126,"44122104-PC-J02","PAPER CLIP, 48MM, 100 pieces per box\nor 120 grams (min.) (net of box)","box",12.85,50,"carton",642.5,3]
[127,"44101603-PS-M01","PAPER SHREDDER","unit",5699.2,3,"unit",5699.2,3]
[128,"44101601-PT-M01","PAPER TRIMMER CUTTING MACHINE","unit",7488,3,"unit",7488,10]
[129,"14111507-PP-M01","PAPER, MULTICOPY, 80gsm, size: 210mm x 297mm      ","ream",112.32,5,"box",561.6,10]
[130,"14111507-PP-M02","PAPER, MULTICOPY, 80gsm, size: 216mm x 330mm      ","ream",132.02000000000001,5,"box",660.1,10]
[131,"14111507-PP-C01","PAPER, Multi-Purpose (COPY) A4, 70 gsm., 5 reams/box","ream",95.26,5,"box",476.3,10]
[132,"14111507-PP-C02","PAPER, Multi-Purpose (COPY) Legal, 70 gsm., 5 reams/box","ream",114.35,5,"box",571.75,20]
[133,"14111503-PA-P01","PAPER, PARCHMENT, 100 sheets per box","box",88.4,20,"pack",1768,48]
[134,"14111818-TH-P01","PAPER, THERMAL, 210MM X 30M","roll",29.95,48,"box",1437.6,48]
[135,"14111818-TH-P02","PAPER, THERMAL, 216MM X 30M","roll",31.15,48,"box",1495.2,50]
[136,"44121619-PS-M01","PENCIL SHARPENER, 1 piece in individual plastic case","piece",187.2,24,"box",4492.8,48]
[137,"44121706-PE-L01","PENCIL, LEAD WITH ERASER, 1 dozen per box","box",19.62,12,"pack",235.44,80]
[138,"55121905-PH-F01","PHILIPPINE NATIONAL FLAG","piece",278.72000000000003,10,"bundle",2787.2,10]
[139,"43212102-PR-D02","PRINTER, IMPACT DOT MATRIX, 24 pins, 136 column   ","unit",18709.599999999999,3,"unit",18709.599999999999,3]
[140,"43212102-PR-D01","PRINTER, IMPACT DOT MATRIX, 9 pins, 80 columns    ","unit",5831.52,3,"unit",5831.52,3]
[141,"43212104-PR-I01","PRINTER, INKJET, WIRELESS","unit",10000,3,"unit",10000,3]
[142,"43212105-PR-L01","PRINTER, LASER, MONOCHROME","unit",1237.5999999999999,3,"unit",1237.5999999999999,3]
[143,"44101602-PU-P01","PUNCHER, paper, heavy duty, with two hole guide, 1 piece in individual box","piece",114.28,24,"carton",2742.72,24]
[144,"44122106-PP-F02","PUSH PIN, 100 pieces per case","case",24.96,12,"box",299.52,96]
[145,"47131501-RG-C01","RAGS, ALL COTTON, 32 pieces per kilo per bundle","bundle",49.69,30,"sack",1490.7,30]
[146,"14111531-RE-B01","RECORD BOOK, 300 PAGES, size: 214mm x 278mm min   ","book",60.32,10,"bundle",603.20000000000005,10]
[147,"14111531-RE-B02","RECORD BOOK, 500 PAGES, size: 214mm x 278mm min   ","book",86.85,5,"bundle",434.25,10]
[148,"44102606-RI-T01","RIBBON, FOR MANUAL TYPEWRITER, In box, with each spool individually wrapped in plastic","spool",17.14,12,"box",205.68,60]
[149,"44122037-RB-P07","RING BINDER, PLASTIC, 25MM, 10 pieces per bundle","bundle",150.80000000000001,16,"pack",2412.8000000000002,80]
[150,"44122037-RB-P09","RING BINDER, PLASTIC, 32MM, 10 pieces per bundle","bundle",256.87,16,"pack",4109.92,80]
[151,"44122037-RB-P12","RING BINDER, PLASTIC, 50MM, 10 pieces per bundle","bundle",291.02999999999997,16,"pack",4656.4799999999996,80]
[152,"44122101-RU-B01","RUBBER BAND, 70mm min lay flat length (#18) ","box",93.31,50,"carton",4665.5,50]
[153,"41111604-RU-P02","RULER, PLASTIC, 450MM, 1 piece in individual plastic","piece",15.48,50,"box",774,50]
[154,"44121618-SS-S01","SCISSORS, symmetrical, blade length: 65mm, 1 piece in individual plastic","pair",13.73,36,"box",494.28,72]
[155,"47131602-SC-N01","SCOURING PAD, 5 pieces per pack","pack",102.96,20,"box",2059.1999999999998,20]
[156,"60121524-SP-G01","SIGN PEN, BLACK, liquid/gel ink, 0.5mm needle tip ","piece",38.1,12,"box",457.2,48]
[157,"60121524-SP-G02","SIGN PEN, BLUE, liquid/gel ink, 0.5mm needle tip  ","piece",38.1,12,"box",457.2,48]
[158,"60121524-SP-G03","SIGN PEN, RED, liquid/gel ink, 0.5mm needle tip   ","piece",38.1,12,"box",457.2,48]
[159,"53131608-SB-R01","SOAP, BATHROOM, 90 grams, 1 piece in individual box","piece",22.36,65,"carton",1453.4,65]
[160,"44121905-SP-F01","STAMP PAD, FELT, bed dimension: 60mm x 100mm","piece",27.66,12,"pack",331.92,36]
[161,"44121613-SR-P01","STAPLE REMOVER, PLIER TYPE","piece",18.18,24,"box",436.32,48]
[162,"31151804-SW-H01","STAPLE WIRE, HEAVY DUTY, 23/13","box",23.4,10,"pack",234,100]
[163,"31151804-SW-H02","STAPLE WIRE, HEAVY DUTY, 23/17","box",41.48,10,"pack",414.8,100]
[164,"31151804-SW-S01","STAPLE WIRE, STANDARD","box",18.920000000000002,100,"carton",1892,100]
[165,"44121615-ST-B01","STAPLER, BINDER TYPE","unit",878.8,9,"unit",878.8,10]
[166,"44121615-ST-S01","STAPLER, STANDARD TYPE, load cap: 200 staples min, 1 piece in individual box","piece",82.16,8,"pack",657.28,8]
[167,"44121605-TD-H01","TAPE DISPENSER, HANDHELD","piece",29.1,10,"box",291,100]
[168,"44121605-TD-T01","TAPE DISPENSER, TABLE TOP","piece",47.72,9,"piece",47.72,36]
[169,"31201502-TA-E01","TAPE, ELECTRICAL","roll",18.2,25,"pack",455,90]
[170,"14111515-TA-C01","TAPE, FOR ADDING MACHINE","roll",8.11,20,"pack",162.19999999999999,80]
[171,"31201503-TA-M01","TAPE, MASKING, width: 24mm (±1mm)                 ","roll",55.12,12,"pack",661.44,36]
[172,"31201503-TA-M02","TAPE, MASKING, width: 48mm (±1mm)                 ","roll",105.04,6,"pack",630.24,36]
[173,"31201517-TA-P01","TAPE, PACKAGING, width: 48mm (±1mm)               ","roll",32.74,6,"pack",196.44,36]
[174,"31201512-TA-T01","TAPE, TRANSPARENT, width: 24mm (±1mm)             ","roll",10.92,12,"pack",131.04,36]
[175,"31201512-TA-T02","TAPE, TRANSPARENT, width: 48mm (±1mm)             ","roll",26.52,6,"pack",159.12,36]
[176,"44103205-TC-A01","TIME CARD, AMANO, 100 pieces per bundle","bundle",69.47,10,"pack",694.7,90]
[177,"14111704-TT-P01","TOILET TISSUE PAPER 2-plys sheets, 150 pulls, 12 rolls in a pack","pack",67.599999999999994,8,"box",540.79999999999995,8]
[178,"47121701-TB-P01","TRASHBAG, plastic, gusseted type, black, 10 pcs per roll/pack         ","roll",139.88,30,"sack",4196.3999999999996,40]
[179,"31151507-TW-P01","TWINE, PLASTIC","roll",49.92,10,"bundle",499.2,20]
[180,"47121702-WB-P01","WASTEBASKET, NON RIGID PLASTIC","piece",23.9,24,"bundle",573.6,24]
[181,"43222609-WR-R01","WIRELESS N-ROUTER","unit",1037.92,3,"unit",1037.92,3]
[182,"60121124-WR-P02","WRAPPING PAPER, 50 sheets per pack","pack",128.84,20,"bundle",2576.8000000000002,20]

{"sheet":"APR","index":1,"n_rows":216,"n_cols":16,"rows_kept":216,"cut":false,"hidden":false,"merged":[[3,11,3,12],[212,1,212,13],[4,0,4,8],[18,2,19,2],[18,1,19,1],[18,0,19,0],[17,0,17,13],[206,0,206,13],[205,0,205,13],[202,0,202,7],[13,1,13,9],[15,1,15,11],[16,1,16,11],[215,1,215,10],[1,0,1,1],[2,0,2,1],[3,0,3,1],[204,0,204,13],[18,3,18,4],[18,6,18,9],[18,10,18,13],[1,11,1,12],[2,11,2,12],[4,10,4,12],[1,2,1,8],[2,2,2,8],[3,2,3,8],[1,9,1,10],[2,9,2,10],[214,1,214,8],[207,1,207,13],[211,1,211,13],[203,12,203,13],[10,1,10,8],[12,1,12,9]]}
["APR FORM revised May 2015 ",null,null,null,null,null,null,null,null,null,null,null,null,null,11]
["AGENCY NAME *",null,null,null,null,null,null,null,null,"AGENCY ACCOUNT CODE *"]
["ADDRESS *",null,null,null,null,null,null,null,null,"AGENCY CONTROL No."]
["TEL. NOS. *",null,null,null,null,null,null,null,null,"DATE PREPARED:"]
["AGENCY PROCUREMENT REQUEST",null,null,null,null,null,null,null,null,"PS APR No."]
[]
["To:","PROCUREMENT SERVICE"]
[null,"DBM Compound, RR Road"]
[null,"Cristobal St., Paco, Manila"]
[]
[null,"PLEASE INDICATE (X) APPROPRIATE BOX ON ACTION REQUESTED ON THE ITEMS LISTED BELOW"]
[]
[null,"[  ]  Please issue common-use supplies/materials as indicated below"]
[null,"Mode of delivery: [  ] Pick-up (Fast Lane)           [  ] Pick-up (Schedule)           [  ] Scheduled Delivery on ________________________"]
[]
[null,"In case fund is not sufficient: [  ] Reduce Quantity           [  ] Charge to Unutilized Deposit, APR No.: ___________ Date: ____________"]
[null,"( * Please verify with PS-Accounting prior to your transaction date)"]
[]
[null,"ITEM CODE","ITEM DESCRIPTION/\nSPECIFICATIONS","REQUESTED",null,null,"RETAIL",null,null,null,"BIG BOX"]
[null,null,null,"QTY","UNIT","RETAIL/ BULK","QTY","UNIT",{"$f":"CATALOGUE!E4","v":"UNIT PRICE\n(as of 12/01/2016)"}," AMOUNT","QTY","UNIT",{"$f":"CATALOGUE!H4","v":"UNIT PRICE\n(as of 12/01/2016)"},"AMOUNT",null,"Select \"Remove\" to Delete Item/s"]
[{"$f":"SUBTOTAL(103,C$21:C21)","v":0},"13111203-AC-F01","ACETATE",0,"roll",2,{"$f":"IF(D21>F21,0,D21)","v":0},"roll",624,{"$f":"G21*I21","v":0},{"$f":"IF(D21>F21,D21,0)","v":0},"roll",624,{"$f":"K21*M21","v":0},{"$f":"COUNTIF(G21:G202,\">0\")","v":0},"-"]
[{"$f":"SUBTOTAL(103,C$21:C22)","v":0},"47131812-AF-A01","AIR FRESHENER, aerosol, 280ml/150g min            ",0,"can",12,{"$f":"MOD(D22,F22)","v":0},"can",83.2,0,{"$f":"QUOTIENT(D22,F22)","v":0},"box",998.4,0,{"$f":"COUNTIF(K21:K202,\">0\")","v":0},"-"]
[{"$f":"SUBTOTAL(103,C$21:C23)","v":0},"12191601-AL-E01","ALCOHOL, ethyl, 68%-70%, scented, 500ml (-5ml)    ",0,"bottle",36,{"$f":"MOD(D23,F23)","v":0},"bottle",47.82,0,{"$f":"QUOTIENT(D23,F23)","v":0},"box",1721.52,0,{"$f":"SUMPRODUCT(SUBTOTAL(103,OFFSET(D21,ROW(D21:D202)-ROW(D21),0)),(D21:D202=0)+0)","v":0},"-"]
[{"$f":"SUBTOTAL(103,C$21:C24)","v":0},"39111801-BA-F02","BALLAST, 36 WATTS",0,"piece",26,{"$f":"MOD(D24,F24)","v":0},"piece",74.78,0,{"$f":"QUOTIENT(D24,F24)","v":0},"box",1944.28,0,{"$f":"COUNTIF(D21:D202,\"\")","v":0},"-"]
[{"$f":"SUBTOTAL(103,C$21:C25)","v":0},"26111702-BT-A02","BATTERY, dry cell, AA, 2 pieces per blister pack",0,"pack",10,{"$f":"IF(D25>49,(MOD(D25,F25)),D25)","v":0},"pack",19.5,0,{"$f":"IF(D25>49,(QUOTIENT(D25,F25)),0)","v":0},"box",195,0,null,"-"]
[{"$f":"SUBTOTAL(103,C$21:C26)","v":0},"26111702-BT-A01","BATTERY, dry cell, AAA, 2 pieces per blister pack",0,"pack",10,{"$f":"IF(D26>49,(MOD(D26,F26)),D26)","v":0},"pack",18.46,0,{"$f":"IF(D26>49,(QUOTIENT(D26,F26)),0)","v":0},"box",184.6,0,null,"-"]
[{"$f":"SUBTOTAL(103,C$21:C27)","v":0},"26111702-BT-A03","BATTERY, dry cell, D, 2 pieces per blister pack",0,"pack",10,{"$f":"IF(D27>49,(MOD(D27,F27)),D27)","v":0},"pack",88.4,0,{"$f":"IF(D27>49,(QUOTIENT(D27,F27)),0)","v":0},"box",884,0,null,"-"]
[{"$f":"SUBTOTAL(103,C$21:C28)","v":0},"44101602-PB-M01","BINDING AND PUNCHING MACHINE",0,"unit",3,{"$f":"IF(D28>F28,0,D28)","v":0},"unit",10400,0,{"$f":"IF(D28>F28,D28,0)","v":0},"unit",10400,0,null,"-"]
[{"$f":"SUBTOTAL(103,C$21:C29)","v":0},"47131604-BR-S01","BROOM, SOFT (TAMBO), weight: 200g min tiger grass ",0,"piece",25,{"$f":"MOD(D29,F29)","v":0},"piece",88.4,0,{"$f":"QUOTIENT(D29,F29)","v":0},"bundle",2210,0,null,"-"]
[{"$f":"SUBTOTAL(103,C$21:C30)","v":0},"47131604-BR-T01","BROOM, STICK (TINGTING)",0,"piece",25,0,"piece",23.92,0,0,"bundle",598,0,null,"-"]
[{"$f":"SUBTOTAL(103,C$21:C31)","v":0},"44101807-CA-C01","CALCULATOR, COMPACT, electronic, 12 digits cap, 1 unit\nin individual box",0,"unit",40,0,"unit",135.19999999999999,0,0,"carton",5408,0,null,"-"]
[{"$f":"SUBTOTAL(103,C$21:C32)","v":0},"44101810-CA-D01","CALCULATOR, MINI-PRINTING, 1 unit per box",0,"unit",20,0,"unit",930.8,0,0,"pack",18616,0,null,"-"]
[{"$f":"SUBTOTAL(103,C$21:C33)","v":0},"44101810-CA-D02","CALCULATOR, PRINTING, DESKTOP, 1 unit per box",0,"unit",6,0,"unit",1965.6,0,0,"pack",11793.6,0,null,"-"]
[{"$f":"SUBTOTAL(103,C$21:C34)","v":0},"44101807-CA-S01","CALCULATOR, SCIENTIFIC, 1 unit in indiviual box",0,"unit",40,0,"unit",258.83999999999997,0,0,"carton",10353.6,0,null,"-"]
[{"$f":"SUBTOTAL(103,C$21:C35)","v":0},"13111201-CF-P01","CARBON FILM, A4 SIZE, 100 sheets per box",0,"box",50,0,"box",197.58,0,0,"carton",9879,0,null,"-"]
[{"$f":"SUBTOTAL(103,C$21:C36)","v":0},"13111201-CF-P02","CARBON FILM, PE, black, size 216mm x 330mm, 100 sheets per box     ",0,"box",50,0,"box",202.8,0,0,"carton",10140,0,null,"-"]
[{"$f":"SUBTOTAL(103,C$21:C37)","v":0},"14111525-CA-A01","CARTOLINA, ASSORTED COLORS, 20 pieces per pack",0,"pack",5,{"$f":"IF(D37>9,(MOD(D37,F37)),D37)","v":0},"pack",64.48,0,{"$f":"IF(D37>9,(QUOTIENT(D37,F37)),0)","v":0},"bundle",322.39999999999998,0,null,"-"]
[{"$f":"SUBTOTAL(103,C$21:C38)","v":0},"14111525-CA-W01","CARTOLINA, WHITE, 20 pieces per pack",0,"pack",5,{"$f":"IF(D38>9,(MOD(D38,F38)),D38)","v":0},"pack",52,0,{"$f":"IF(D38>9,(QUOTIENT(D38,F38)),0)","v":0},"bundle",260,0,null,"-"]
[{"$f":"SUBTOTAL(103,C$21:C39)","v":0},"56101504-CM-B01","CHAIR, MONOBLOC, BEIGE, with backrest, w/o armrest",0,"piece",25,{"$f":"MOD(D39,F39)","v":0},"piece",254.68,0,{"$f":"QUOTIENT(D39,F39)","v":0},"stack",6367,0,null,"-"]
[{"$f":"SUBTOTAL(103,C$21:C40)","v":0},"56101504-CM-W01","CHAIR, MONOBLOC, WHITE, with backrest, w/o armrest",0,"piece",25,{"$f":"MOD(D40,F40)","v":0},"piece",254.8,0,{"$f":"QUOTIENT(D40,F40)","v":0},"stack",6370,0,null,"-"]
[{"$f":"SUBTOTAL(103,C$21:C41)","v":0},"44121710-CH-W01","CHALK, WHITE ENAMEL, 100 pieces per box",0,"box",30,{"$f":"MOD(D41,F41)","v":0},"box",25.86,0,{"$f":"QUOTIENT(D41,F41)","v":0},"carton",775.8,0,null,"-"]
[{"$f":"SUBTOTAL(103,C$21:C42)","v":0},"47131829-TB-C01","CLEANER, TOILET BOWL AND URINAL, , 900ml-1,000ml cap",0,"bottle",12,{"$f":"MOD(D42,F42)","v":0},"bottle",41.6,0,{"$f":"QUOTIENT(D42,F42)","v":0},"box",499.2,0,null,"-"]
[{"$f":"SUBTOTAL(103,C$21:C43)","v":0},"47131805-CL-P01","CLEANSER, SCOURING POWDER, 350g min./can",0,"can",48,{"$f":"MOD(D43,F43)","v":0},"can",21.27,0,{"$f":"QUOTIENT(D43,F43)","v":0},"box",1020.96,0,null,"-"]
[{"$f":"SUBTOTAL(103,C$21:C44)","v":0},"60121413-CB-P01","CLEARBOOK, A4 SIZE",0,"piece",12,{"$f":"IF(D44>23,(MOD(D44,F44)),D44)","v":0},"piece",39.520000000000003,0,{"$f":"IF(D44>23,(QUOTIENT(D44,F44)),0)","v":0},"box",474.24,0,null,"-"]
[{"$f":"SUBTOTAL(103,C$21:C45)","v":0},"60121413-CB-P02","CLEARBOOK, LEGAL",0,"piece",12,{"$f":"IF(D45>23,(MOD(D45,F45)),D45)","v":0},"piece",43.68,0,{"$f":"IF(D45>23,(QUOTIENT(D45,F45)),0)","v":0},"box",524.16,0,null,"-"]
[{"$f":"SUBTOTAL(103,C$21:C46)","v":0},"44122105-BF-C01","CLIP, BACKFOLD, 19MM, 12 pieces per box",0,"box",50,{"$f":"MOD(D46,F46)","v":0},"box",7.28,0,{"$f":"QUOTIENT(D46,F46)","v":0},"carton",364,0,null,"-"]
[{"$f":"SUBTOTAL(103,C$21:C47)","v":0},"44122105-BF-C02","CLIP, BACKFOLD, 25MM, 12 pieces per box",0,"box",50,{"$f":"MOD(D47,F47)","v":0},"box",10.4,0,{"$f":"QUOTIENT(D47,F47)","v":0},"carton",520,0,null,"-"]
[{"$f":"SUBTOTAL(103,C$21:C48)","v":0},"44122105-BF-C03","CLIP, BACKFOLD, 32MM, 12 pieces per box",0,"box",50,{"$f":"MOD(D48,F48)","v":0},"box",19.12,0,{"$f":"QUOTIENT(D48,F48)","v":0},"carton",956,0,null,"-"]
[{"$f":"SUBTOTAL(103,C$21:C49)","v":0},"44122105-BF-C04","CLIP, BACKFOLD, 50MM, 12 pieces per box",0,"box",50,{"$f":"MOD(D49,F49)","v":0},"box",36.380000000000003,0,{"$f":"QUOTIENT(D49,F49)","v":0},"carton",1819,0,null,"-"]
[{"$f":"SUBTOTAL(103,C$21:C50)","v":0},"44122105-BD-C01","CLIP, BULLDOG",0,"piece",36,{"$f":"MOD(D50,F50)","v":0},"piece",8.32,0,{"$f":"QUOTIENT(D50,F50)","v":0},"box",299.52,0,null,"-"]
[{"$f":"SUBTOTAL(103,C$21:C51)","v":0},"14111513-CO-P04","COLUMNAR PAD, 18 COLS.",0,"pad",10,{"$f":"IF(D51>49,(MOD(D51,F51)),D51)","v":0},"pad",65.52,0,{"$f":"IF(D51>49,(QUOTIENT(D51,F51)),0)","v":0},"bundle",655.20000000000005,0,null,"-"]
[{"$f":"SUBTOTAL(103,C$21:C52)","v":0},"39101619-FL-C01","COMPACT FLUORESCENT LAMP, 18 WATTS, 1 piece in individual box",0,"piece",50,{"$f":"MOD(D52,F52)","v":0},"piece",93.29,0,{"$f":"QUOTIENT(D52,F52)","v":0},"carton",4664.5,0,null,"-"]
[{"$f":"SUBTOTAL(103,C$21:C53)","v":0},"14111506-CF-L11","CONTINUOUS FORM, 1 PLY, 280 x 241mm ,2,000 sets per box               ",0,"box",2,{"$f":"IF(D53>F53,0,D53)","v":0},"box",630.76,{"$f":"G53*I53","v":0},{"$f":"IF(D53>F53,D53,0)","v":0},"box",630.76,{"$f":"K53*M53","v":0},null,"-"]
[{"$f":"SUBTOTAL(103,C$21:C54)","v":0},"14111506-CF-L21","CONTINUOUS FORM, 2 PLY, 280 x 241mm, 1,000 sets per box",0,"box",2,0,"box",716.04,0,0,"box",716.04,0,null,"-"]
[{"$f":"SUBTOTAL(103,C$21:C55)","v":0},"14111506-CF-L31","CONTINUOUS FORM, 3 PLY, 280 x 241mm, 500 sets per box",0,"box",2,0,"box",596.79999999999995,0,0,"box",596.79999999999995,0,null,"-"]
[{"$f":"SUBTOTAL(103,C$21:C56)","v":0},"14111506-CF-L12","CONTINUOUS FORM, 1 PLY, 280MM X 378MM, 2,000 sets per box",0,"box",2,0,"box",950.3,0,0,"box",950.3,0,null,"-"]
[{"$f":"SUBTOTAL(103,C$21:C57)","v":0},"14111506-CF-L22","CONTINUOUS FORM, 2 PLY, 280MM X 378MM, 1,000 sets per box",0,"box",2,0,"box",1220.96,0,0,"box",1220.96,0,null,"-"]
[{"$f":"SUBTOTAL(103,C$21:C58)","v":0},"14111506-CF-L32","CONTINUOUS FORM, 3 PLY, 280MM X 378MM, 500 sets per box",0,"box",2,0,"box",958.15,0,0,"box",958.15,0,null,"-"]
[{"$f":"SUBTOTAL(103,C$21:C59)","v":0},"44121801-CT-R01","CORRECTION TAPE, 1 piece in individual plastic",0,"piece",50,{"$f":"MOD(D59,F59)","v":0},"piece",31.2,0,{"$f":"QUOTIENT(D59,F59)","v":0},"box",1560,0,null,"-"]
[{"$f":"SUBTOTAL(103,C$21:C60)","v":0},"44121612-BL-H01","CUTTER BLADE, 10 pieces per tube",0,"tube",20,{"$f":"IF(D60>39,(MOD(D60,F60)),D60)","v":0},"tube",9.19,0,{"$f":"IF(D60>39,(QUOTIENT(D60,F60)),0)","v":0},"box",183.8,0,null,"-"]
[{"$f":"SUBTOTAL(103,C$21:C61)","v":0},"44121612-CU-H01","CUTTER KNIFE",0,"piece",24,{"$f":"IF(D61>47,(MOD(D61,F61)),D61)","v":0},"piece",19.760000000000002,0,{"$f":"IF(D61>47,(QUOTIENT(D61,F61)),0)","v":0},"box",474.24,0,null,"-"]
[{"$f":"SUBTOTAL(103,C$21:C62)","v":0},"44111515-DF-B01","DATA FILE BOX, made of chipboard, with closed ends",0,"piece",8,{"$f":"MOD(D62,F62)","v":0},"piece",69.78,0,{"$f":"QUOTIENT(D62,F62)","v":0},"bundle",558.24,0,null,"-"]
[{"$f":"SUBTOTAL(103,C$21:C63)","v":0},"44122011-DF-F01","DATA FOLDER, made of chipboard, taglia lock       ",0,"piece",6,{"$f":"IF(D63>11,(MOD(D63,F63)),D63)","v":0},"piece",68.64,0,{"$f":"IF(D63>11,(QUOTIENT(D63,F63)),0)","v":0},"bundle",411.84,0,null,"-"]
[{"$f":"SUBTOTAL(103,C$21:C64)","v":0},"44103202-DS-M01","DATING AND STAMPING MACHINE",0,"piece",12,{"$f":"IF(D64>23,(MOD(D64,F64)),D64)","v":0},"piece",478.38,0,{"$f":"IF(D64>23,(QUOTIENT(D64,F64)),0)","v":0},"box",5740.56,0,null,"-"]
[{"$f":"SUBTOTAL(103,C$21:C65)","v":0},"47131811-DE-P02","DETERGENT POWDER, all purpose, 1kg per plastic pouch",0,"pouch",25,{"$f":"MOD(D65,F65)","v":0},"pouch",37.43,0,{"$f":"QUOTIENT(D65,F65)","v":0},"sack",935.75,0,null,"-"]
[{"$f":"SUBTOTAL(103,C$21:C66)","v":0},"52161535-DV-R01","DIGITAL VOICE RECORDER, memory: 4GB (expandable), 1 unit in individual box",0,"unit",10,{"$f":"MOD(D66,F66)","v":0},"unit",6229.6,0,{"$f":"QUOTIENT(D66,F66)","v":0},"pack",62296,0,null,"-"]
[{"$f":"SUBTOTAL(103,C$21:C68)","v":0},"47131800-DB-S01","DISINFECTANT, bleaching solution",0,"container",6,{"$f":"MOD(D67,F67)","v":0},"container",101.82,0,{"$f":"QUOTIENT(D67,F67)","v":0},"box",610.91999999999996,0,null,"-"]
[{"$f":"SUBTOTAL(103,C$21:C69)","v":0},"47131803-DS-A01","DISINFECTANT SPRAY, aerosol type, 400-550 grams   ",0,"can",12,{"$f":"MOD(D68,F68)","v":0},"can",119.6,{"$f":"G68*I68","v":0},{"$f":"QUOTIENT(D68,F68)","v":0},"box",1435.2,{"$f":"K68*M68","v":0},null,"-"]
[{"$f":"SUBTOTAL(103,C$21:C70)","v":0},"45121517-DO-C01","DOCUMENT CAMERA",0,"unit",3,{"$f":"IF(D69>F69,0,D69)","v":0},"unit",25272,0,{"$f":"IF(D69>F69,D69,0)","v":0},"unit",25272,0,null,"-"]
[{"$f":"SUBTOTAL(103,C$21:C71)","v":0},"47131601-DU-P01","DUST PAN",0,"piece",12,{"$f":"IF(D70>23,(MOD(D70,F70)),D70)","v":0},"piece",24.96,0,{"$f":"IF(D70>23,(QUOTIENT(D70,F70)),0)","v":0},"bundle",299.52,0,null,"-"]
[{"$f":"SUBTOTAL(103,C$21:C72)","v":0},"43202003-DV-W01","DVD RE-WRITABLE",0,"piece",10,{"$f":"IF(D71>49,(MOD(D71,F71)),D71)","v":0},"piece",21.79,0,{"$f":"IF(D71>49,(QUOTIENT(D71,F71)),0)","v":0},"pack",217.9,0,null,"-"]
[{"$f":"SUBTOTAL(103,C$21:C73)","v":0},"40101604-EF-G01","ELECTRIC FAN, INDUSTRIAL",0,"unit",4,{"$f":"IF(D72>F72,0,D72)","v":0},"unit",956.8,0,{"$f":"IF(D72>F72,D72,0)","v":0},"unit",956.8,0,null,"-"]
[{"$f":"SUBTOTAL(103,C$21:C74)","v":0},"40101604-EF-C01","ELECTRIC FAN, ORBIT type, ceiling,  metal blade",0,"unit",4,0,"unit",1248,0,0,"unit",1248,0,null,"-"]
[{"$f":"SUBTOTAL(103,C$21:C75)","v":0},"40101604-EF-S01","ELECTRIC FAN, STAND TYPE",0,"unit",4,0,"unit",967.1,0,{"$f":"IF(D74>F74,D74,0)","v":0},"unit",967.1,0,null,"-"]
[{"$f":"SUBTOTAL(103,C$21:C76)","v":0},"40101604-EF-W01","ELECTRIC FAN, WALL TYPE",0,"unit",4,0,"unit",790.4,0,0,"unit",790.4,0,null,"-"]
[{"$f":"SUBTOTAL(103,C$21:C77)","v":0},"44103201-ET-R01","ELECTRONIC TIME RECORDER OR BUNDY CLOCK",0,"unit",3,0,"unit",3315.52,0,0,"unit",3315.52,0,null,"-"]
[{"$f":"SUBTOTAL(103,C$21:C78)","v":0},"44121506-EN-D01","ENVELOPE, DOCUMENTARY, for A4 size document, 500 pieces per box",0,"box",2,0,"box",381.54,0,0,"box",381.54,0,null,"-"]
[{"$f":"SUBTOTAL(103,C$21:C79)","v":0},"44121506-EN-D02","ENVELOPE, DOCUMENTARY, for legal size document, \n500 pieces per box",0,"box",2,0,"box",507.4,0,0,"box",507.4,0,null,"-"]
[{"$f":"SUBTOTAL(103,C$21:C80)","v":0},"44121506-EN-X01","ENVELOPE, EXPANDING, KRAFTBOARD,for legal size doc, 100 pieces per box",0,"box",2,0,"box",621.71,0,0,"box",621.71,0,null,"-"]
[{"$f":"SUBTOTAL(103,C$21:C81)","v":0},"44121506-EN-X02","ENVELOPE, EXPANDING, PLASTIC",0,"piece",100,{"$f":"MOD(D80,F80)","v":0},"piece",27.61,0,{"$f":"QUOTIENT(D80,F80)","v":0},"box",2761,0,null,"-"]
[{"$f":"SUBTOTAL(103,C$21:C82)","v":0},"44121506-EN-M01","ENVELOPE, MAILING, 500 pieces per box",0,"box",2,{"$f":"IF(D81>F81,0,D81)","v":0},"box",499.2,0,{"$f":"IF(D81>F81,D81,0)","v":0},"box",499.2,0,null,"-"]
[{"$f":"SUBTOTAL(103,C$21:C83)","v":0},"44121504-EN-W01","ENVELOPE, MAILING, WITH WINDOW, 500 pieces per box",0,"box",2,{"$f":"IF(D82>F82,0,D82)","v":0},"box",561.6,0,{"$f":"IF(D82>F82,D82,0)","v":0},"box",561.6,0,null,"-"]
[{"$f":"SUBTOTAL(103,C$21:C84)","v":0},"44121506-EN-P01","ENVELOPE, PAY, 500 pieces per box",0,"box",7,{"$f":"IF(D83>F83,0,D83)","v":0},"box",119.39,0,{"$f":"IF(D83>F83,D83,0)","v":0},"box",119.39,0,null,"-"]
[{"$f":"SUBTOTAL(103,C$21:C85)","v":0},"44111912-ER-B01","ERASER, FELT, FOR BLACKBOARD OR WHITEBOARD",0,"piece",12,{"$f":"IF(D84>35,(MOD(D84,F84)),D84)","v":0},"piece",11.11,0,{"$f":"IF(D84>35,(QUOTIENT(D84,F84)),0)","v":0},"box",133.32,0,null,"-"]
[{"$f":"SUBTOTAL(103,C$21:C86)","v":0},"60121534-ER-P01","ERASER, PLASTIC OR RUBBER",0,"piece",30,{"$f":"IF(D85>59,(MOD(D85,F85)),D85)","v":0},"piece",2.29,0,{"$f":"IF(D85>59,(QUOTIENT(D85,F85)),0)","v":0},"box",68.7,0,null,"-"]
[{"$f":"SUBTOTAL(103,C$21:C87)","v":0},"43201827-HD-X02","EXTERNAL HARD DRIVE, 1TB, 2.5\"HDD, USB 3.0, 1 unit \nin individual box",0,"unit",10,{"$f":"MOD(D86,F86)","v":0},"unit",2818.4,{"$f":"G86*I86","v":0},{"$f":"QUOTIENT(D86,F86)","v":0},"pack",28184,{"$f":"K86*M86","v":0},null,"-"]
[{"$f":"SUBTOTAL(103,C$21:C88)","v":0},"44101714-FX-M01","FACSIMILE MACHINE",0,"unit",3,{"$f":"IF(D87>F87,0,D87)","v":0},"unit",3502.72,{"$f":"G87*I87","v":0},{"$f":"IF(D87>F87,D87,0)","v":0},"unit",3502.72,{"$f":"K87*M87","v":0},null,"-"]
[{"$f":"SUBTOTAL(103,C$21:C89)","v":0},"44122118-FA-P01","FASTENER, METAL, 70mm between prongs, 50 sets per box",0,"box",10,{"$f":"IF(D88>49,(MOD(D88,F88)),D88)","v":0},"box",57.09,0,{"$f":"IF(D88>49,(QUOTIENT(D88,F88)),0)","v":0},"pack",570.9,0,null,"-"]
[{"$f":"SUBTOTAL(103,C$21:C90)","v":0},"44111515-FO-X01","FILE ORGANIZER, LEGAL",0,"piece",50,{"$f":"MOD(D89,F89)","v":0},"piece",70.67,0,{"$f":"QUOTIENT(D89,F89)","v":0},"box",3533.5,0,null,"-"]
[{"$f":"SUBTOTAL(103,C$21:C91)","v":0},"44122018-FT-D01","FILE TAB DIVIDER, A4, 5 colors per pack",0,"set",10,0,"set",12.48,0,0,"pack",124.8,0,null,"-"]
[{"$f":"SUBTOTAL(103,C$21:C92)","v":0},"44122018-FT-D02","FILE TAB DIVIDER, LEGAL, 5 colors per pack",0,"set",10,0,"set",16.64,0,0,"pack",166.4,0,null,"-"]
[{"$f":"SUBTOTAL(103,C$21:C93)","v":0},"46191601-FE-M01","FIRE EXTINGUISHER, DRY CHEMICAL",0,"unit",3,{"$f":"IF(D92>F92,0,D92)","v":0},"unit",1080.56,0,{"$f":"IF(D92>F92,D92,0)","v":0},"unit",1080.56,0,null,"-"]
[{"$f":"SUBTOTAL(103,C$21:C94)","v":0},"46191601-FE-H01","FIRE EXTINGUISHER, PURE HCFC",0,"unit",3,{"$f":"IF(D93>F93,0,D93)","v":0},"unit",4992,0,{"$f":"IF(D93>F93,D93,0)","v":0},"unit",4992,0,null,"-"]
[{"$f":"SUBTOTAL(103,C$21:C95)","v":0},"43202101-FD-U01","FLASH DRIVE, 16 GB capacity,1 piece in individual blister pack              ",0,"piece",5,{"$f":"IF(D94>19,(MOD(D94,F94)),D94)","v":0},"piece",194.48,0,{"$f":"IF(D94>19,(QUOTIENT(D94,F94)),0)","v":0},"box",972.4,0,null,"-"]
[{"$f":"SUBTOTAL(103,C$21:C96)","v":0},"47131802-FW-L01","FLOOR WAX, LIQUID TYPE, NATURAL",0,"can",4,0,"can",370.5,0,0,"box",1482,0,null,"-"]
[{"$f":"SUBTOTAL(103,C$21:C97)","v":0},"47131802-FW-P01","FLOOR WAX, PASTE TYPE, NATURAL",0,"can",4,0,"can",223.6,0,0,"box",894.4,0,null,"-"]
[{"$f":"SUBTOTAL(103,C$21:C98)","v":0},"47131802-FW-P02","FLOOR WAX, PASTE, RED",0,"can",4,0,"can",202.8,0,0,"box",811.2,0,null,"-"]
[{"$f":"SUBTOTAL(103,C$21:C99)","v":0},"39101605-FL-T03","FLUORESCENT LAMP, 14 WATTS",0,"tube",25,0,"tube",88.4,0,0,"box",2210,0,null,"-"]
[{"$f":"SUBTOTAL(103,C$21:C100)","v":0},"39101605-FL-T04","FLUORESCENT LAMP, 28 WATTS",0,"tube",25,0,"tube",114.4,0,0,"box",2860,0,null,"-"]
[{"$f":"SUBTOTAL(103,C$21:C101)","v":0},"39101628-LT-L01","LINEAR TUBE, LED, 18 WATTS",0,"tube",20,0,"tube",280.8,0,0,"box",5616,0,null,"-"]
[{"$f":"SUBTOTAL(103,C$21:C102)","v":0},"39111501-FF-C02","FLUORESCENT LIGHTING FIXTURES, 1 X 36 WATTS",0,"set",10,0,"set",364,0,0,"box",3640,0,null,"-"]
[{"$f":"SUBTOTAL(103,C$21:C103)","v":0},"44122011-FO-F01","FOLDER, FANCY, A4, 50 pieces per bundle",0,"bundle",5,{"$f":"IF(D102>F102,0,D102)","v":0},"bundle",234,0,{"$f":"IF(D102>F102,D102,0)","v":0},"bundle",234,0,null,"-"]
[{"$f":"SUBTOTAL(103,C$21:C104)","v":0},"44122011-FO-F02","FOLDER, FANCY, legal, 50 pieces per bundle",0,"bundle",5,{"$f":"IF(D103>F103,0,D103)","v":0},"bundle",291.2,0,{"$f":"IF(D103>F103,D103,0)","v":0},"bundle",291.2,0,null,"-"]
[{"$f":"SUBTOTAL(103,C$21:C105)","v":0},"44122011-FO-L01","FOLDER, L-TYPE, A4 SIZE, 50 pieces per pack",0,"pack",24,0,"pack",166.4,0,0,"box",3993.6,0,null,"-"]
[{"$f":"SUBTOTAL(103,C$21:C106)","v":0},"44122011-FO-L02","FOLDER, L-TYPE, LEGAL SIZE, 50 pieces per pack",0,"pack",24,0,"pack",203.84,0,0,"box",4892.16,0,null,"-"]
[{"$f":"SUBTOTAL(103,C$21:C107)","v":0},"44122027-FO-P01","FOLDER, PRESSBOARD, size: 240mm x 370mm (-5mm), 100 pieces per box    ",0,"box",2,{"$f":"IF(D106>F106,0,D106)","v":0},"box",746.72,0,{"$f":"IF(D106>F106,D106,0)","v":0},"box",746.72,0,null,"-"]
[{"$f":"SUBTOTAL(103,C$21:C108)","v":0},"44122011-FO-T01","FOLDER, TAGBOARD, for A4 size documents, \n100 pieces per pack",0,"pack",4,{"$f":"IF(D107>F107,0,D107)","v":0},"pack",179.28,0,{"$f":"IF(D107>F107,D107,0)","v":0},"pack",179.28,0,null,"-"]
[{"$f":"SUBTOTAL(103,C$21:C109)","v":0},"44122011-FO-T02","FOLDER, TAGBOARD, for legal size documents ,100 pieces per pack        ",0,"pack",4,{"$f":"IF(D108>F108,0,D108)","v":0},"pack",200.37,0,{"$f":"IF(D108>F108,D108,0)","v":0},"pack",200.37,0,null,"-"]
[{"$f":"SUBTOTAL(103,C$21:C110)","v":0},"47131830-FC-A01","FURNITURE CLEANER, aerosol, 300ml min./can",0,"can",12,0,"can",84.76,0,0,"box",1017.12,0,null,"-"]
[{"$f":"SUBTOTAL(103,C$21:C111)","v":0},"31201610-GL-J01","GLUE, all purpose, gross weight: 200 grams min    ",0,"jars",36,0,"jars",44.18,0,0,"box",1590.48,0,null,"-"]
[{"$f":"SUBTOTAL(103,C$21:C112)","v":0},"55101524-RA-H01","HANDBOOK ON RA9184",0,"book",20,{"$f":"IF(D111>39,(MOD(D111,F111)),D111)","v":0},"book",61.83,0,{"$f":"IF(D111>39,(QUOTIENT(D111,F111)),0)","v":0},"bundle",1236.5999999999999,0,null,"-"]
[{"$f":"SUBTOTAL(103,C$21:C113)","v":0},"60121138-IL-B01","ILLUSTRATION BOARD, 760MM X 1000MM",0,"piece",20,0,"piece",35.049999999999997,0,0,"bundle",701,0,null,"-"]
[{"$f":"SUBTOTAL(103,C$21:C114)","v":0},"44111515-IC-B01","INDEX CARD BOX, 3X5",0,"piece",10,0,"piece",36.4,0,0,"pack",364,0,null,"-"]
[{"$f":"SUBTOTAL(103,C$21:C115)","v":0},"44100515-IC-B02","INDEX CARD BOX, 5X8",0,"piece",10,0,"piece",55.12,{"$f":"G114*I114","v":0},0,"pack",551.20000000000005,0,null,"-"]
[{"$f":"SUBTOTAL(103,C$21:C116)","v":0},"14111518-IC-R01","INDEX CARD, 3X5, 500 pieces per pack",0,"pack",10,0,"pack",51.27,{"$f":"G115*I115","v":0},0,"box",512.70000000000005,0,null,"-"]
[{"$f":"SUBTOTAL(103,C$21:C117)","v":0},"14111518-IC-R02","INDEX CARD, 5X8, 500 pieces per pack",0,"pack",10,0,"pack",139.34,0,0,"box",1393.4,0,null,"-"]
[{"$f":"SUBTOTAL(103,C$21:C118)","v":0},"44122008-IT-T01","INDEX TAB, 5 sets per box",0,"box",50,0,"box",47.9,0,0,"pack",2395,0,null,"-"]
[{"$f":"SUBTOTAL(103,C$21:C119)","v":0},"12171703-SI-P01","STAMP PAD INK, purple or violet, 50ml (min.)",0,"bottle",12,0,"bottle",24.63,0,0,"box",295.56,0,null,"-"]
[{"$f":"SUBTOTAL(103,C$21:C120)","v":0},"10191509-IN-A01","INSECTICIDE, aerosol type, net content: 600ml min ",0,"can",12,0,"can",124.8,0,0,"box",1497.6,0,null,"-"]
[{"$f":"SUBTOTAL(103,C$21:C121)","v":0},"14111609-LL-C01","LOOSELEAF COVER, 50 sets per bundle",0,"bundle",5,{"$f":"IF(D120>F120,0,D120)","v":0},"bundle",539.76,0,{"$f":"IF(D120>F120,D120,0)","v":0},"bundle",539.76,0,null,"-"]
[{"$f":"SUBTOTAL(103,C$21:C122)","v":0},"44111515-MF-B02","MAGAZINE FILE BOX, LARGE",0,"piece",20,0,"piece",41.6,0,0,"pack",832,0,null,"-"]
[{"$f":"SUBTOTAL(103,C$21:C123)","v":0},"60121124-MA-P01","MANILA PAPER, 10 sheets per pack",0,"pack",20,0,"pack",26,0,0,"bundle",520,0,null,"-"]
[{"$f":"SUBTOTAL(103,C$21:C124)","v":0},"44122106-MP-R01","MAP PIN, ROUND HEAD, 100 pieces per case",0,"case",10,{"$f":"IF(D123>49,(MOD(D123,F123)),D123)","v":0},"case",40.35,0,{"$f":"IF(D123>49,(QUOTIENT(D123,F123)),0)","v":0},"box",403.5,0,null,"-"]
[{"$f":"SUBTOTAL(103,C$21:C125)","v":0},"44121716-MA-F01","MARKER, FLUORESCENT, 3 colors per set",0,"set",48,0,"set",35.549999999999997,0,0,"pack",1706.4,0,null,"-"]
[{"$f":"SUBTOTAL(103,C$21:C126)","v":0},"44121708-MP-B01","MARKER, PERMANENT, bullet type, black             ",0,"piece",12,{"$f":"IF(D125>59,(MOD(D125,F125)),D125)","v":0},"piece",9.65,0,{"$f":"IF(D125>59,(QUOTIENT(D125,F125)),0)","v":0},"box",115.8,0,null,"-"]
[{"$f":"SUBTOTAL(103,C$21:C127)","v":0},"44121708-MP-B02","MARKER, PERMANENT, bullet type, blue              ",0,"piece",12,0,"piece",9.65,{"$f":"G126*I126","v":0},0,"box",115.8,0,null,"-"]
[{"$f":"SUBTOTAL(103,C$21:C128)","v":0},"44121708-MP-B03","MARKER, PERMANENT, bullet type, red               ",0,"piece",12,0,"piece",9.65,{"$f":"G127*I127","v":0},0,"box",115.8,0,null,"-"]
[{"$f":"SUBTOTAL(103,C$21:C129)","v":0},"44121708-MW-B01","MARKER, WHITEBOARD, black",0,"piece",12,0,"piece",10.28,0,0,"box",123.36,0,null,"-"]
[{"$f":"SUBTOTAL(103,C$21:C130)","v":0},"44121708-MW-B02","MARKER, WHITEBOARD, blue",0,"piece",12,0,"piece",10.28,0,0,"box",123.36,0,null,"-"]
[{"$f":"SUBTOTAL(103,C$21:C131)","v":0},"44121708-MW-B03","MARKER, WHITEBOARD, red",0,"piece",12,0,"piece",10.28,0,0,"box",123.36,0,null,"-"]
[{"$f":"SUBTOTAL(103,C$21:C132)","v":0},"52161533-ME-P01","MEGAPHONE",0,"unit",3,{"$f":"IF(D131>F131,0,D131)","v":0},"unit",2704,0,{"$f":"IF(D131>F131,D131,0)","v":0},"unit",2704,0,null,"-"]
[{"$f":"SUBTOTAL(103,C$21:C133)","v":0},"56101519-TMS02","MONOBLOC, TABLE, BEIGE",0,"unit",3,{"$f":"IF(D132>F132,0,D132)","v":0},"unit",1289.5999999999999,0,{"$f":"IF(D132>F132,D132,0)","v":0},"unit",1289.5999999999999,0,null,"-"]
[{"$f":"SUBTOTAL(103,C$21:C134)","v":0},"56101519-TM-S01","MONOBLOC, TABLE, WHITE",0,"unit",3,{"$f":"IF(D133>F133,0,D133)","v":0},"unit",1289.5999999999999,0,{"$f":"IF(D133>F133,D133,0)","v":0},"unit",1289.5999999999999,0,null,"-"]
[{"$f":"SUBTOTAL(103,C$21:C135)","v":0},"47121804-MP-B01","MOPBUCKET",0,"unit",3,{"$f":"IF(D134>F134,0,D134)","v":0},"unit",1911,0,{"$f":"IF(D134>F134,D134,0)","v":0},"unit",1911,0,null,"-"]
[{"$f":"SUBTOTAL(103,C$21:C136)","v":0},"47131613-MP-H02","MOPHANDLE",0,"piece",12,0,"piece",142.47999999999999,0,0,"bundle",1709.76,0,null,"-"]
[{"$f":"SUBTOTAL(103,C$21:C137)","v":0},"47131619-MP-R01","MOPHEAD, made of rayon, weight: 400 grams min     ",0,"piece",12,0,"piece",98.8,0,0,"bundle",1185.5999999999999,0,null,"-"]
[{"$f":"SUBTOTAL(103,C$21:C138)","v":0},"43211708-MO-O01","MOUSE, OPTICAL, USB CONNECTION TYPE, 1 unit in individual box",0,"unit",10,0,"unit",127.8,0,0,"pack",1278,0,null,"-"]
[{"$f":"SUBTOTAL(103,C$21:C139)","v":0},"45111609-MM-P01","MULTIMEDIA PROJECTOR, 4000 min ANSI Lumens        ",0,"unit",3,{"$f":"IF(D138>F138,0,D138)","v":0},"unit",26483.599999999999,0,{"$f":"IF(D138>F138,D138,0)","v":0},"unit",26483.599999999999,0,null,"-"]
[{"$f":"SUBTOTAL(103,C$21:C140)","v":0},"14111514-NB-S01","NOTEBOOK, STENOGRAPHER, spiral, 40 leaves         ",0,"piece",20,{"$f":"IF(D139>39,(MOD(D139,F139)),D139)","v":0},"piece",10.4,0,{"$f":"IF(D139>39,(QUOTIENT(D139,F139)),0)","v":0},"pack",208,0,null,"-"]
[{"$f":"SUBTOTAL(103,C$21:C141)","v":0},"14111514-NP-S02","NOTEPAD, STICK-ON, 2X3, 100 sheets per pad",0,"pad",12,{"$f":"IF(D140>47,(MOD(D140,F140)),D140)","v":0},"pad",31.2,0,{"$f":"IF(D140>47,(QUOTIENT(D140,F140)),0)","v":0},"pack",374.4,0,null,"-"]
[{"$f":"SUBTOTAL(103,C$21:C142)","v":0},"14111514-NP-S03","NOTEPAD, STICK-ON, 3X3, 100 sheets per pad",0,"pad",12,{"$f":"IF(D141>47,(MOD(D141,F141)),D141)","v":0},"pad",40.54,0,{"$f":"IF(D141>47,(QUOTIENT(D141,F141)),0)","v":0},"pack",486.48,0,null,"-"]
[{"$f":"SUBTOTAL(103,C$21:C143)","v":0},"14111514-NP-S04","NOTEPAD, STICK-ON, 3X4, 100 sheets per pad",0,"pad",12,{"$f":"IF(D142>47,(MOD(D142,F142)),D142)","v":0},"pad",54.06,{"$f":"G142*I142","v":0},{"$f":"IF(D142>47,(QUOTIENT(D142,F142)),0)","v":0},"pack",648.72,0,null,"-"]
[{"$f":"SUBTOTAL(103,C$21:C144)","v":0},"12181601-OL-G01","OIL, GENERAL PURPOSE LUBRICANT, 120ml per bottle",0,"bottle",72,0,"bottle",36.9,0,0,"box",2656.8,0,null,"-"]
[{"$f":"SUBTOTAL(103,C$21:C145)","v":0},"14111531-PP-R01","PAD PAPER, RULED",0,"pad",10,{"$f":"IF(D144>39,(MOD(D144,F144)),D144)","v":0},"pad",18.260000000000002,0,{"$f":"IF(D144>39,(QUOTIENT(D144,F144)),0)","v":0},"bundle",182.6,0,null,"-"]
[{"$f":"SUBTOTAL(103,C$21:C146)","v":0},"44122104-PC-G01","PAPER CLIP, 32MM, 100 pieces per box\nor 52 grams (min.) (net of box)",0,"box",50,0,"box",6.43,0,0,"carton",321.5,0,null,"-"]
[{"$f":"SUBTOTAL(103,C$21:C147)","v":0},"44122104-PC-J02","PAPER CLIP, 48MM, 100 pieces per box\nor 120 grams (min.) (net of box)",0,"box",50,0,"box",12.85,0,0,"carton",642.5,0,null,"-"]
[{"$f":"SUBTOTAL(103,C$21:C148)","v":0},"44101603-PS-M01","PAPER SHREDDER",0,"unit",3,{"$f":"IF(D147>F147,0,D147)","v":0},"unit",5699.2,0,{"$f":"IF(D147>F147,D147,0)","v":0},"unit",5699.2,0,null,"-"]
[{"$f":"SUBTOTAL(103,C$21:C149)","v":0},"44101601-PT-M01","PAPER TRIMMER CUTTING MACHINE",0,"unit",3,{"$f":"IF(D148>F148,0,D148)","v":0},"unit",7488,0,{"$f":"IF(D148>F148,D148,0)","v":0},"unit",7488,0,null,"-"]
[{"$f":"SUBTOTAL(103,C$21:C150)","v":0},"14111507-PP-M01","PAPER, MULTICOPY, 80gsm, size: 210mm x 297mm      ",0,"ream",5,{"$f":"IF(D149>9,(MOD(D149,F149)),D149)","v":0},"ream",112.32,0,{"$f":"IF(D149>9,(QUOTIENT(D149,F149)),0)","v":0},"box",561.6,0,null,"-"]
[{"$f":"SUBTOTAL(103,C$21:C151)","v":0},"14111507-PP-M02","PAPER, MULTICOPY, 80gsm, size: 216mm x 330mm      ",0,"ream",5,{"$f":"IF(D150>9,(MOD(D150,F150)),D150)","v":0},"ream",132.02000000000001,0,{"$f":"IF(D150>9,(QUOTIENT(D150,F150)),0)","v":0},"box",660.1,0,null,"-"]
[{"$f":"SUBTOTAL(103,C$21:C152)","v":0},"14111507-PP-C01","PAPER, Multi-Purpose (COPY) A4, 70 gsm., 5 reams/box",0,"ream",5,{"$f":"IF(D151>9,(MOD(D151,F151)),D151)","v":0},"ream",95.26,0,{"$f":"IF(D151>9,(QUOTIENT(D151,F151)),0)","v":0},"box",476.3,{"$f":"K151*M151","v":0},null,"-"]
[{"$f":"SUBTOTAL(103,C$21:C153)","v":0},"14111507-PP-C02","PAPER, Multi-Purpose (COPY) Legal, 70 gsm., 5 reams/box",0,"ream",5,{"$f":"IF(D152>9,(MOD(D152,F152)),D152)","v":0},"ream",114.35,0,{"$f":"IF(D152>9,(QUOTIENT(D152,F152)),0)","v":0},"box",571.75,{"$f":"K152*M152","v":0},null,"-"]
[{"$f":"SUBTOTAL(103,C$21:C154)","v":0},"14111503-PA-P01","PAPER, PARCHMENT, 100 sheets per box",0,"box",20,{"$f":"MOD(D153,F153)","v":0},"box",88.4,0,{"$f":"QUOTIENT(D153,F153)","v":0},"pack",1768,{"$f":"K153*M153","v":0},null,"-"]
[{"$f":"SUBTOTAL(103,C$21:C155)","v":0},"14111818-TH-P01","PAPER, THERMAL, 210MM X 30M",0,"roll",48,{"$f":"MOD(D154,F154)","v":0},"roll",29.95,0,{"$f":"QUOTIENT(D154,F154)","v":0},"box",1437.6,{"$f":"K154*M154","v":0},null,"-"]
[{"$f":"SUBTOTAL(103,C$21:C156)","v":0},"14111818-TH-P02","PAPER, THERMAL, 216MM X 30M",0,"roll",48,{"$f":"MOD(D155,F155)","v":0},"roll",31.15,0,{"$f":"QUOTIENT(D155,F155)","v":0},"box",1495.2,{"$f":"K155*M155","v":0},null,"-"]
[{"$f":"SUBTOTAL(103,C$21:C157)","v":0},"44121619-PS-M01","PENCIL SHARPENER, 1 piece in individual plastic case",0,"piece",24,{"$f":"MOD(D156,F156)","v":0},"piece",187.2,{"$f":"G156*I156","v":0},{"$f":"QUOTIENT(D156,F156)","v":0},"box",4492.8,{"$f":"K156*M156","v":0},null,"-"]
[{"$f":"SUBTOTAL(103,C$21:C158)","v":0},"44121706-PE-L01","PENCIL, LEAD WITH ERASER, 1 dozen per box",0,"box",12,0,"box",19.62,0,0,"pack",235.44,0,null,"-"]
[{"$f":"SUBTOTAL(103,C$21:C159)","v":0},"55121905-PH-F01","PHILIPPINE NATIONAL FLAG",0,"piece",10,0,"piece",278.72000000000003,0,0,"bundle",2787.2,0,null,"-"]
[{"$f":"SUBTOTAL(103,C$21:C160)","v":0},"43212102-PR-D02","PRINTER, IMPACT DOT MATRIX, 24 pins, 136 column   ",0,"unit",3,{"$f":"IF(D159>F159,0,D159)","v":0},"unit",18709.599999999999,0,{"$f":"IF(D159>F159,D159,0)","v":0},"unit",18709.599999999999,0,null,"-"]
[{"$f":"SUBTOTAL(103,C$21:C161)","v":0},"43212102-PR-D01","PRINTER, IMPACT DOT MATRIX, 9 pins, 80 columns    ",0,"unit",3,{"$f":"IF(D160>F160,0,D160)","v":0},"unit",5831.52,0,{"$f":"IF(D160>F160,D160,0)","v":0},"unit",5831.52,0,null,"-"]
[{"$f":"SUBTOTAL(103,C$21:C162)","v":0},"43212104-PR-I01","PRINTER, INKJET, WIRELESS",0,"unit",3,{"$f":"IF(D161>F161,0,D161)","v":0},"unit",10000,0,{"$f":"IF(D161>F161,D161,0)","v":0},"unit",10000,0,null,"-"]
[{"$f":"SUBTOTAL(103,C$21:C163)","v":0},"43212105-PR-L01","PRINTER, LASER, MONOCHROME",0,"unit",3,{"$f":"IF(D162>F162,0,D162)","v":0},"unit",1237.5999999999999,{"$f":"G162*I162","v":0},{"$f":"IF(D162>F162,D162,0)","v":0},"unit",1237.5999999999999,0,null,"-"]
[{"$f":"SUBTOTAL(103,C$21:C164)","v":0},"44101602-PU-P01","PUNCHER, paper, heavy duty, with two hole guide, 1 piece in individual box",0,"piece",24,0,"piece",114.28,{"$f":"G163*I163","v":0},0,"carton",2742.72,0,null,"-"]
[{"$f":"SUBTOTAL(103,C$21:C165)","v":0},"44122106-PP-F02","PUSH PIN, 100 pieces per case",0,"case",12,{"$f":"IF(D164>47,(MOD(D164,F164)),D164)","v":0},"case",24.96,0,{"$f":"IF(D164>47,(QUOTIENT(D164,F164)),0)","v":0},"box",299.52,0,null,"-"]
[{"$f":"SUBTOTAL(103,C$21:C166)","v":0},"47131501-RG-C01","RAGS, ALL COTTON, 32 pieces per kilo per bundle",0,"bundle",30,0,"bundle",49.69,0,0,"sack",1490.7,0,null,"-"]
[{"$f":"SUBTOTAL(103,C$21:C167)","v":0},"14111531-RE-B01","RECORD BOOK, 300 PAGES, size: 214mm x 278mm min   ",0,"book",10,0,"book",60.32,0,0,"bundle",603.20000000000005,0,null,"-"]
[{"$f":"SUBTOTAL(103,C$21:C168)","v":0},"14111531-RE-B02","RECORD BOOK, 500 PAGES, size: 214mm x 278mm min   ",0,"book",5,{"$f":"IF(D167>9,(MOD(D167,F167)),D167)","v":0},"book",86.85,0,{"$f":"IF(D167>9,(QUOTIENT(D167,F167)),0)","v":0},"bundle",434.25,0,null,"-"]
[{"$f":"SUBTOTAL(103,C$21:C169)","v":0},"44102606-RI-T01","RIBBON, FOR MANUAL TYPEWRITER, In box, with each spool individually wrapped in plastic",0,"spool",12,{"$f":"IF(D168>47,(MOD(D168,F168)),D168)","v":0},"spool",17.14,0,{"$f":"IF(D168>47,(QUOTIENT(D168,F168)),0)","v":0},"box",205.68,0,null,"-"]
[{"$f":"SUBTOTAL(103,C$21:C170)","v":0},"44122037-RB-P07","RING BINDER, PLASTIC, 25MM, 10 pieces per bundle",0,"bundle",16,0,"bundle",150.80000000000001,0,0,"pack",2412.8000000000002,0,null,"-"]
[{"$f":"SUBTOTAL(103,C$21:C171)","v":0},"44122037-RB-P09","RING BINDER, PLASTIC, 32MM, 10 pieces per bundle",0,"bundle",16,0,"bundle",256.87,0,0,"pack",4109.92,0,null,"-"]
[{"$f":"SUBTOTAL(103,C$21:C172)","v":0},"44122037-RB-P12","RING BINDER, PLASTIC, 50MM, 10 pieces per bundle",0,"bundle",16,0,"bundle",291.02999999999997,0,0,"pack",4656.4799999999996,0,null,"-"]
[{"$f":"SUBTOTAL(103,C$21:C173)","v":0},"44122101-RU-B01","RUBBER BAND, 70mm min lay flat length (#18) ",0,"box",50,0,"box",93.31,0,0,"carton",4665.5,0,null,"-"]
[{"$f":"SUBTOTAL(103,C$21:C174)","v":0},"41111604-RU-P02","RULER, PLASTIC, 450MM, 1 piece in individual plastic",0,"piece",50,0,"piece",15.48,0,0,"box",774,0,null,"-"]
[{"$f":"SUBTOTAL(103,C$21:C175)","v":0},"44121618-SS-S01","SCISSORS, symmetrical, blade length: 65mm, 1 piece in individual plastic",0,"pair",36,0,"pair",13.73,0,0,"box",494.28,0,null,"-"]
[{"$f":"SUBTOTAL(103,C$21:C176)","v":0},"47131602-SC-N01","SCOURING PAD, 5 pieces per pack",0,"pack",20,0,"pack",102.96,0,0,"box",2059.1999999999998,0,null,"-"]
[{"$f":"SUBTOTAL(103,C$21:C177)","v":0},"60121524-SP-G01","SIGN PEN, BLACK, liquid/gel ink, 0.5mm needle tip ",0,"piece",12,{"$f":"IF(D176>59,(MOD(D176,F176)),D176)","v":0},"piece",38.1,0,{"$f":"IF(D176>59,(QUOTIENT(D176,F176)),0)","v":0},"box",457.2,0,null,"-"]
[{"$f":"SUBTOTAL(103,C$21:C178)","v":0},"60121524-SP-G02","SIGN PEN, BLUE, liquid/gel ink, 0.5mm needle tip  ",0,"piece",12,{"$f":"IF(D177>59,(MOD(D177,F177)),D177)","v":0},"piece",38.1,0,{"$f":"IF(D177>59,(QUOTIENT(D177,F177)),0)","v":0},"box",457.2,0,null,"-"]
[{"$f":"SUBTOTAL(103,C$21:C179)","v":0},"60121524-SP-G03","SIGN PEN, RED, liquid/gel ink, 0.5mm needle tip   ",0,"piece",12,{"$f":"IF(D178>59,(MOD(D178,F178)),D178)","v":0},"piece",38.1,0,{"$f":"IF(D178>59,(QUOTIENT(D178,F178)),0)","v":0},"box",457.2,0,null,"-"]
[{"$f":"SUBTOTAL(103,C$21:C180)","v":0},"53131608-SB-R01","SOAP, BATHROOM, 90 grams, 1 piece in individual box",0,"piece",65,0,"piece",22.36,0,0,"carton",1453.4,0,null,"-"]
[{"$f":"SUBTOTAL(103,C$21:C181)","v":0},"44121905-SP-F01","STAMP PAD, FELT, bed dimension: 60mm x 100mm",0,"piece",12,0,"piece",27.66,0,0,"pack",331.92,0,null,"-"]
[{"$f":"SUBTOTAL(103,C$21:C182)","v":0},"44121613-SR-P01","STAPLE REMOVER, PLIER TYPE",0,"piece",24,0,"piece",18.18,0,0,"box",436.32,0,null,"-"]
[{"$f":"SUBTOTAL(103,C$21:C183)","v":0},"31151804-SW-H01","STAPLE WIRE, HEAVY DUTY, 23/13",0,"box",10,{"$f":"IF(D182>99,(MOD(D182,F182)),D182)","v":0},"box",23.4,0,{"$f":"IF(D182>99,(QUOTIENT(D182,F182)),0)","v":0},"pack",234,0,null,"-"]
[{"$f":"SUBTOTAL(103,C$21:C184)","v":0},"31151804-SW-H02","STAPLE WIRE, HEAVY DUTY, 23/17",0,"box",10,{"$f":"IF(D183>99,(MOD(D183,F183)),D183)","v":0},"box",41.48,0,{"$f":"IF(D183>99,(QUOTIENT(D183,F183)),0)","v":0},"pack",414.8,0,null,"-"]
[{"$f":"SUBTOTAL(103,C$21:C185)","v":0},"31151804-SW-S01","STAPLE WIRE, STANDARD",0,"box",100,0,"box",18.920000000000002,0,0,"carton",1892,0,null,"-"]
[{"$f":"SUBTOTAL(103,C$21:C186)","v":0},"44121615-ST-B01","STAPLER, BINDER TYPE",0,"unit",9,{"$f":"IF(D185>F185,0,D185)","v":0},"unit",878.8,0,{"$f":"IF(D185>F185,D185,0)","v":0},"unit",878.8,0,null,"-"]
[{"$f":"SUBTOTAL(103,C$21:C187)","v":0},"44121615-ST-S01","STAPLER, STANDARD TYPE, load cap: 200 staples min, 1 piece in individual box",0,"piece",8,0,"piece",82.16,0,0,"pack",657.28,0,null,"-"]
[{"$f":"SUBTOTAL(103,C$21:C188)","v":0},"44121605-TD-H01","TAPE DISPENSER, HANDHELD",0,"piece",10,0,"piece",29.1,0,0,"box",291,0,null,"-"]
[{"$f":"SUBTOTAL(103,C$21:C189)","v":0},"44121605-TD-T01","TAPE DISPENSER, TABLE TOP",0,"piece",9,{"$f":"IF(D188>F188,0,D188)","v":0},"piece",47.72,0,{"$f":"IF(D188>F188,D188,0)","v":0},"piece",47.72,0,null,"-"]
[{"$f":"SUBTOTAL(103,C$21:C190)","v":0},"31201502-TA-E01","TAPE, ELECTRICAL",0,"roll",25,0,"roll",18.2,0,0,"pack",455,0,null,"-"]
[{"$f":"SUBTOTAL(103,C$21:C191)","v":0},"14111515-TA-C01","TAPE, FOR ADDING MACHINE",0,"roll",20,0,"roll",8.11,0,0,"pack",162.19999999999999,0,null,"-"]
[{"$f":"SUBTOTAL(103,C$21:C192)","v":0},"31201503-TA-M01","TAPE, MASKING, width: 24mm (±1mm)                 ",0,"roll",12,{"$f":"IF(D191>35,(MOD(D191,F191)),D191)","v":0},"roll",55.12,0,{"$f":"IF(D191>35,(QUOTIENT(D191,F191)),0)","v":0},"pack",661.44,0,null,"-"]
[{"$f":"SUBTOTAL(103,C$21:C193)","v":0},"31201503-TA-M02","TAPE, MASKING, width: 48mm (±1mm)                 ",0,"roll",6,{"$f":"IF(D192>35,(MOD(D192,F192)),D192)","v":0},"roll",105.04,0,{"$f":"IF(D192>35,(QUOTIENT(D192,F192)),0)","v":0},"pack",630.24,0,null,"-"]
[{"$f":"SUBTOTAL(103,C$21:C194)","v":0},"31201517-TA-P01","TAPE, PACKAGING, width: 48mm (±1mm)               ",0,"roll",6,{"$f":"IF(D193>35,(MOD(D193,F193)),D193)","v":0},"roll",32.74,0,{"$f":"IF(D193>35,(QUOTIENT(D193,F193)),0)","v":0},"pack",196.44,0,null,"-"]
[{"$f":"SUBTOTAL(103,C$21:C195)","v":0},"31201512-TA-T01","TAPE, TRANSPARENT, width: 24mm (±1mm)             ",0,"roll",12,{"$f":"IF(D194>35,(MOD(D194,F194)),D194)","v":0},"roll",10.92,0,{"$f":"IF(D194>35,(QUOTIENT(D194,F194)),0)","v":0},"pack",131.04,0,null,"-"]
[{"$f":"SUBTOTAL(103,C$21:C196)","v":0},"31201512-TA-T02","TAPE, TRANSPARENT, width: 48mm (±1mm)             ",0,"roll",6,{"$f":"IF(D195>35,(MOD(D195,F195)),D195)","v":0},"roll",26.52,0,{"$f":"IF(D195>35,(QUOTIENT(D195,F195)),0)","v":0},"pack",159.12,0,null,"-"]
[{"$f":"SUBTOTAL(103,C$21:C197)","v":0},"44103205-TC-A01","TIME CARD, AMANO, 100 pieces per bundle",0,"bundle",10,0,"bundle",69.47,0,0,"pack",694.7,0,null,"-"]
[{"$f":"SUBTOTAL(103,C$21:C198)","v":0},"14111704-TT-P01","TOILET TISSUE PAPER 2-plys sheets, 150 pulls, 12 rolls in a pack",0,"pack",8,0,"pack",67.599999999999994,0,0,"box",540.79999999999995,0,null,"-"]
[{"$f":"SUBTOTAL(103,C$21:C199)","v":0},"47121701-TB-P01","TRASHBAG, plastic, gusseted type, black, 10 pcs per roll/pack         ",0,"roll",30,0,"roll",139.88,0,0,"sack",4196.3999999999996,0,null,"-"]
[{"$f":"SUBTOTAL(103,C$21:C200)","v":0},"31151507-TW-P01","TWINE, PLASTIC",0,"roll",10,0,"roll",49.92,0,0,"bundle",499.2,0,null,"-"]
[{"$f":"SUBTOTAL(103,C$21:C201)","v":0},"47121702-WB-P01","WASTEBASKET, NON RIGID PLASTIC",0,"piece",24,0,"piece",23.9,0,0,"bundle",573.6,0,null,"-"]
[{"$f":"SUBTOTAL(103,C$21:C202)","v":0},"43222609-WR-R01","WIRELESS N-ROUTER",0,"unit",3,{"$f":"IF(D201>F201,0,D201)","v":0},"unit",1037.92,0,{"$f":"IF(D201>F201,D201,0)","v":0},"unit",1037.92,0,null,"-"]
[{"$f":"SUBTOTAL(103,C$21:C203)","v":0},"60121124-WR-P02","WRAPPING PAPER, 50 sheets per pack",0,"pack",20,0,"pack",128.84,0,0,"bundle",2576.8000000000002,0,null,"-"]
["TOTAL AMOUNT",null,null,null,null,null,null,null,"₱",{"$f":"SUM(J21:J202)","v":0},null,null,"₱",{"$f":"SUM(N21:N202)","v":0}]
[null,null,null,null,null,null,null,null,null,"TOTAL ORDERED AMOUNT         ₱",null,null,{"$f":"J203+N203","v":0}]
["FOR THE LATEST PRICES AND DETAILED SPECIFICATIONS, PLEASE REFER TO THE ELECTRONIC CATALOGUE @ www.procurementservice.gov.ph/www.philgeps.gov.ph"]
["- For verification of balances, call PS-Acctg Division @ Tel. Nos. (02) 563-9351 or email us at accounting@procurementservice.gov.ph"]
["NOTE: ALL SIGNATURES MUST BE OVER PRINTED NAME"]
["                                   ","STOCKS REQUESTED ARE CERTIFIED TO BE                         FUNDS CERTIFIED AVAILABLE:                                                                APPROVED:"]
["       ","WITHIN APPROVED PROGRAM:"]
[]
[]
[null,"_____________________________________                               _______________________________________                                              _______________________________________    "]
[null,"       AGENCY PROPERTY/SUPPLY OFFICER *                                                   AGENCY CHIEF ACCOUNTANT *                                                               AGENCY HEAD/AUTHORIZED SIGNATURE *"]
[]
[null,"[  ] FUNDS DEPOSITED WITH PS    [  ] ___________________ CHECK No. ____________________"]
[null,"IN THE AMOUNT OF: ____________________________________________________________ (P _____________________ ) ENCLOSED"]

{"sheet":"APRRetail","index":2,"n_rows":761,"n_cols":8,"rows_kept":761,"cut":false,"hidden":false,"merged":[[760,0,760,6],[680,0,680,6],[684,0,684,6],[685,0,685,6],[687,0,687,6],[688,0,688,6],[749,0,749,6],[750,0,750,6],[752,0,752,6],[756,0,756,6],[757,0,757,6],[759,0,759,6],[751,0,751,6],[678,0,678,6],[510,0,510,6],[512,0,512,6],[513,0,513,6],[605,0,605,6],[606,0,606,6],[608,0,608,6],[612,0,612,6],[613,0,613,6],[615,0,615,6],[616,0,616,6],[677,0,677,6],[607,0,607,6],[679,0,679,6],[12,1,12,4],[14,1,14,4],[17,0,17,6],[18,0,19,0],[18,1,19,1],[18,2,19,2],[18,3,18,6],[13,1,13,5],[15,1,15,6],[16,1,16,6],[203,0,203,6],[204,0,204,6],[206,0,206,6],[210,0,210,6],[211,0,211,6],[4,0,4,3],[4,5,4,6],[1,0,1,1],[1,4,1,5],[2,0,2,1],[2,4,2,5],[3,0,3,1],[1,2,1,3],[2,2,2,3],[3,2,3,3],[205,0,205,6],[509,0,509,6],[214,0,214,6],[368,0,368,6],[369,0,369,6],[213,0,213,6],[371,0,371,6],[375,0,375,6],[376,0,376,6],[378,0,378,6],[379,0,379,6],[502,0,502,6],[503,0,503,6],[505,0,505,6],[370,0,370,6],[504,0,504,6]]}
["APR FORM revised May 2015 ",null,null,null,null,null,"FORM NO. 001-R",29]
["AGENCY NAME",null,"A",null,"AGENCY ACCOUNT CODE",null,"A"]
["ADDRESS",null,"A",null,"AGENCY CONTROL No.",null,{"$f":"IF(APR!L3<>\"\",APR!L3,\"\")","v":""}]
["TEL. NOS.",null,"A",null,"DATE PREPARED",null,{"$f":"IF(APR!L4<>\"\",APR!L4,\"\")","v":""}]
["AGENCY PROCUREMENT REQUEST",null,null,null,"PS APR No."]
[]
["To:","PROCUREMENT SERVICE"]
[null,"DBM Compound, RR Road"]
[null,"Cristobal St., Paco, Manila"]
[]
[null,"PLEASE INDICATE (X) APPROPRIATE BOX ON ACTION REQUESTED ON THE ITEMS LISTED BELOW"]
[]
[null,"[  ]  Please issue common-use supplies/materials as indicated below"]
[null,"Mode of delivery: [  ] Pick-up (Fast Lane)   [  ] Pick-up (Schedule)   [  ] Scheduled Delivery on ________________________"]
[]
[null,"In case fund is not sufficient: [  ] Reduce Quantity           [  ] Charge to Unutilized Deposit, APR No.: ___________ Date: ____________"]
[null,"( * Please verify with PS-Accounting prior to your transaction date)"]
[]
[null,"ITEM CODE","ITEM DESCRIPTION/SPECIFICATIONS","RETAIL"]
[null,null,null,"QTY","UNIT",{"$f":"CATALOGUE!E4","v":"UNIT PRICE\n(as of 12/01/2016)"}," AMOUNT"]
[{"$f":"SUBTOTAL(103,C$21:C21)","v":0},"13111203-AC-F01","ACETATE",{"$f":"APR!G21","v":0},{"$f":"APR!H21","v":"roll"},{"$f":"APR!I21","v":624},{"$f":"D21*F21","v":0}]
[{"$f":"SUBTOTAL(103,C$21:C22)","v":1},"47131812-AF-A01","AIR FRESHENER, aerosol, 280ml/150g min            ",{"$f":"APR!G22","v":0},{"$f":"APR!H22","v":"can"},{"$f":"APR!I22","v":83.2},0]
[{"$f":"SUBTOTAL(103,C$21:C23)","v":2},"12191601-AL-E01","ALCOHOL, ethyl, 68%-70%, scented, 500ml (-5ml)    ",{"$f":"APR!G23","v":0},{"$f":"APR!H23","v":"bottle"},{"$f":"APR!I23","v":47.82},0]
[{"$f":"SUBTOTAL(103,C$21:C24)","v":3},"39111801-BA-F02","BALLAST, 36 WATTS",{"$f":"APR!G24","v":0},{"$f":"APR!H24","v":"piece"},{"$f":"APR!I24","v":74.78},0]
[{"$f":"SUBTOTAL(103,C$21:C25)","v":3},"26111702-BT-A02","BATTERY, dry cell, AA, 2 pieces per blister pack",{"$f":"APR!G25","v":0},{"$f":"APR!H25","v":"pack"},{"$f":"APR!I25","v":19.5},0]
[{"$f":"SUBTOTAL(103,C$21:C26)","v":3},"26111702-BT-A01","BATTERY, dry cell, AAA, 2 pieces per blister pack",{"$f":"APR!G26","v":0},{"$f":"APR!H26","v":"pack"},{"$f":"APR!I26","v":18.46},0]
[{"$f":"SUBTOTAL(103,C$21:C27)","v":3},"26111702-BT-A03","BATTERY, dry cell, D, 2 pieces per blister pack",{"$f":"APR!G27","v":0},{"$f":"APR!H27","v":"pack"},{"$f":"APR!I27","v":88.4},0]
[{"$f":"SUBTOTAL(103,C$21:C28)","v":3},"44101602-PB-M01","BINDING AND PUNCHING MACHINE",{"$f":"APR!G28","v":0},{"$f":"APR!H28","v":"unit"},{"$f":"APR!I28","v":10400},0]
[{"$f":"SUBTOTAL(103,C$21:C29)","v":3},"47131604-BR-S01","BROOM, SOFT (TAMBO), weight: 200g min tiger grass ",{"$f":"APR!G29","v":0},{"$f":"APR!H29","v":"piece"},{"$f":"APR!I29","v":88.4},0]
[{"$f":"SUBTOTAL(103,C$21:C30)","v":3},"47131604-BR-T01","BROOM, STICK (TINGTING)",{"$f":"APR!G30","v":0},{"$f":"APR!H30","v":"piece"},{"$f":"APR!I30","v":23.92},0]
[{"$f":"SUBTOTAL(103,C$21:C31)","v":4},"44101807-CA-C01","CALCULATOR, COMPACT, electronic, 12 digits cap",{"$f":"APR!G31","v":0},{"$f":"APR!H31","v":"unit"},{"$f":"APR!I31","v":135.19999999999999},0]
[{"$f":"SUBTOTAL(103,C$21:C32)","v":4},"44101810-CA-D01","CALCULATOR, MINI-PRINTING, 1 unit per box",{"$f":"APR!G32","v":0},{"$f":"APR!H32","v":"unit"},{"$f":"APR!I32","v":930.8},0]
[{"$f":"SUBTOTAL(103,C$21:C33)","v":5},"44101810-CA-D02","CALCULATOR, PRINTING, DESKTOP, 1 unit per box",{"$f":"APR!G33","v":0},{"$f":"APR!H33","v":"unit"},{"$f":"APR!I33","v":1965.6},0]
[{"$f":"SUBTOTAL(103,C$21:C34)","v":6},"44101807-CA-S01","CALCULATOR, SCIENTIFIC, 1 unit in indiviual box",{"$f":"APR!G34","v":0},{"$f":"APR!H34","v":"unit"},{"$f":"APR!I34","v":258.83999999999997},0]
[{"$f":"SUBTOTAL(103,C$21:C35)","v":6},"13111201-CF-P01","CARBON FILM, A4 SIZE, 100 sheets per box",{"$f":"APR!G35","v":0},{"$f":"APR!H35","v":"box"},{"$f":"APR!I35","v":197.58},0]
[{"$f":"SUBTOTAL(103,C$21:C36)","v":6},"13111201-CF-P02","CARBON FILM, PE, black, size 216mm x 330mm, 100 sheets per box     ",{"$f":"APR!G36","v":0},{"$f":"APR!H36","v":"box"},{"$f":"APR!I36","v":202.8},0]
[{"$f":"SUBTOTAL(103,C$21:C37)","v":6},"14111525-CA-A01","CARTOLINA, ASSORTED COLORS, 20 pieces per pack",{"$f":"APR!G37","v":0},{"$f":"APR!H37","v":"pack"},{"$f":"APR!I37","v":64.48},0]
[{"$f":"SUBTOTAL(103,C$21:C38)","v":6},"14111525-CA-W01","CARTOLINA, WHITE, 20 pieces per pack",{"$f":"APR!G38","v":0},{"$f":"APR!H38","v":"pack"},{"$f":"APR!I38","v":52},0]
[{"$f":"SUBTOTAL(103,C$21:C39)","v":6},"56101504-CM-B01","CHAIR, MONOBLOC, BEIGE, with backrest, w/o armrest",{"$f":"APR!G39","v":0},{"$f":"APR!H39","v":"piece"},{"$f":"APR!I39","v":254.68},0]
[{"$f":"SUBTOTAL(103,C$21:C40)","v":6},"56101504-CM-W01","CHAIR, MONOBLOC, WHITE, with backrest, w/o armrest",{"$f":"APR!G40","v":0},{"$f":"APR!H40","v":"piece"},{"$f":"APR!I40","v":254.8},0]
[{"$f":"SUBTOTAL(103,C$21:C41)","v":7},"44121710-CH-W01","CHALK, WHITE ENAMEL, 100 pieces per box",{"$f":"APR!G41","v":0},{"$f":"APR!H41","v":"box"},{"$f":"APR!I41","v":25.86},0]
[{"$f":"SUBTOTAL(103,C$21:C42)","v":8},"47131829-TB-C01","CLEANER, TOILET BOWL AND URINAL, , 900ml-1,000ml cap",{"$f":"APR!G42","v":0},{"$f":"APR!H42","v":"bottle"},{"$f":"APR!I42","v":41.6},0]
[{"$f":"SUBTOTAL(103,C$21:C43)","v":9},"47131805-CL-P01","CLEANSER, SCOURING POWDER, 350g min./can",{"$f":"APR!G43","v":0},{"$f":"APR!H43","v":"can"},{"$f":"APR!I43","v":21.27},0]
[{"$f":"SUBTOTAL(103,C$21:C44)","v":10},"60121413-CB-P01","CLEARBOOK, A4 SIZE",{"$f":"APR!G44","v":0},{"$f":"APR!H44","v":"piece"},{"$f":"APR!I44","v":39.520000000000003},0]
[{"$f":"SUBTOTAL(103,C$21:C45)","v":11},"60121413-CB-P02","CLEARBOOK, LEGAL",{"$f":"APR!G45","v":0},{"$f":"APR!H45","v":"piece"},{"$f":"APR!I45","v":43.68},0]
[{"$f":"SUBTOTAL(103,C$21:C46)","v":11},"44122105-BF-C01","CLIP, BACKFOLD, 19MM, 12 pieces per box",{"$f":"APR!G46","v":0},{"$f":"APR!H46","v":"box"},{"$f":"APR!I46","v":7.28},0]
[{"$f":"SUBTOTAL(103,C$21:C47)","v":11},"44122105-BF-C02","CLIP, BACKFOLD, 25MM, 12 pieces per box",{"$f":"APR!G47","v":0},{"$f":"APR!H47","v":"box"},{"$f":"APR!I47","v":10.4},0]
[{"$f":"SUBTOTAL(103,C$21:C48)","v":11},"44122105-BF-C03","CLIP, BACKFOLD, 32MM, 12 pieces per box",{"$f":"APR!G48","v":0},{"$f":"APR!H48","v":"box"},{"$f":"APR!I48","v":19.12},0]
[{"$f":"SUBTOTAL(103,C$21:C49)","v":11},"44122105-BF-C04","CLIP, BACKFOLD, 50MM, 12 pieces per box",{"$f":"APR!G49","v":0},{"$f":"APR!H49","v":"box"},{"$f":"APR!I49","v":36.380000000000003},0]
[{"$f":"SUBTOTAL(103,C$21:C50)","v":12},"44122105-BD-C01","CLIP, BULLDOG",{"$f":"APR!G50","v":0},{"$f":"APR!H50","v":"piece"},{"$f":"APR!I50","v":8.32},0]
[{"$f":"SUBTOTAL(103,C$21:C51)","v":12},"14111513-CO-P04","COLUMNAR PAD, 18 COLS.",{"$f":"APR!G51","v":0},{"$f":"APR!H51","v":"pad"},{"$f":"APR!I51","v":65.52},0]
[{"$f":"SUBTOTAL(103,C$21:C52)","v":12},"39101619-FL-C01","COMPACT FLUORESCENT LAMP, 18 WATTS, 1 piece in individual box",{"$f":"APR!G52","v":0},{"$f":"APR!H52","v":"piece"},{"$f":"APR!I52","v":93.29},0]
[{"$f":"SUBTOTAL(103,C$21:C53)","v":12},"14111506-CF-L11","CONTINUOUS FORM, 1 PLY, 280 x 241mm ,2,000 sets per box               ",{"$f":"APR!G53","v":0},{"$f":"APR!H53","v":"box"},{"$f":"APR!I53","v":630.76},0]
[{"$f":"SUBTOTAL(103,C$21:C54)","v":12},"14111506-CF-L21","CONTINUOUS FORM, 2 PLY, 280 x 241mm, 1,000 sets per box",{"$f":"APR!G54","v":0},{"$f":"APR!H54","v":"box"},{"$f":"APR!I54","v":716.04},0]
[{"$f":"SUBTOTAL(103,C$21:C55)","v":12},"14111506-CF-L31","CONTINUOUS FORM, 3 PLY, 280 x 241mm, 500 sets per box",{"$f":"APR!G55","v":0},{"$f":"APR!H55","v":"box"},{"$f":"APR!I55","v":596.79999999999995},0]
[{"$f":"SUBTOTAL(103,C$21:C56)","v":12},"14111506-CF-L12","CONTINUOUS FORM, 1 PLY, 280MM X 378MM, 2,000 sets per box",{"$f":"APR!G56","v":0},{"$f":"APR!H56","v":"box"},{"$f":"APR!I56","v":950.3},0]
[{"$f":"SUBTOTAL(103,C$21:C57)","v":12},"14111506-CF-L22","CONTINUOUS FORM, 2 PLY, 280MM X 378MM, 1,000 sets per box",{"$f":"APR!G57","v":0},{"$f":"APR!H57","v":"box"},{"$f":"APR!I57","v":1220.96},0]
[{"$f":"SUBTOTAL(103,C$21:C58)","v":12},"14111506-CF-L32","CONTINUOUS FORM, 3 PLY, 280MM X 378MM, 500 sets per box",{"$f":"APR!G58","v":0},{"$f":"APR!H58","v":"box"},{"$f":"APR!I58","v":958.15},0]
[{"$f":"SUBTOTAL(103,C$21:C59)","v":12},"44121801-CT-R01","CORRECTION TAPE, 1 piece in individual plastic",{"$f":"APR!G59","v":0},{"$f":"APR!H59","v":"piece"},{"$f":"APR!I59","v":31.2},0]
[{"$f":"SUBTOTAL(103,C$21:C60)","v":12},"44121612-BL-H01","CUTTER BLADE, 10 pieces per tube",{"$f":"APR!G60","v":0},{"$f":"APR!H60","v":"tube"},{"$f":"APR!I60","v":9.19},0]
[{"$f":"SUBTOTAL(103,C$21:C61)","v":13},"44121612-CU-H01","CUTTER KNIFE",{"$f":"APR!G61","v":0},{"$f":"APR!H61","v":"piece"},{"$f":"APR!I61","v":19.760000000000002},0]
[{"$f":"SUBTOTAL(103,C$21:C62)","v":14},"44111515-DF-B01","DATA FILE BOX, made of chipboard, with closed ends",{"$f":"APR!G62","v":0},{"$f":"APR!H62","v":"piece"},{"$f":"APR!I62","v":69.78},0]
[{"$f":"SUBTOTAL(103,C$21:C63)","v":15},"44122011-DF-F01","DATA FOLDER, made of chipboard, taglia lock       ",{"$f":"APR!G63","v":0},{"$f":"APR!H63","v":"piece"},{"$f":"APR!I63","v":68.64},0]
[{"$f":"SUBTOTAL(103,C$21:C64)","v":16},"44103202-DS-M01","DATING AND STAMPING MACHINE",{"$f":"APR!G64","v":0},{"$f":"APR!H64","v":"piece"},{"$f":"APR!I64","v":478.38},0]
[{"$f":"SUBTOTAL(103,C$21:C65)","v":16},"47131811-DE-P02","DETERGENT POWDER, all purpose, 1kg per plastic pouch",{"$f":"APR!G65","v":0},{"$f":"APR!H65","v":"pouch"},{"$f":"APR!I65","v":37.43},0]
[{"$f":"SUBTOTAL(103,C$21:C66)","v":16},"52161535-DV-R01","DIGITAL VOICE RECORDER, memory: 4GB (expandable), 1 unit in individual box",{"$f":"APR!G66","v":0},{"$f":"APR!H66","v":"unit"},{"$f":"APR!I66","v":6229.6},0]
[{"$f":"SUBTOTAL(103,C$21:C67)","v":17},"47131800-DB-S01","DISINFECTANT, bleaching solution",{"$f":"APR!G67","v":0},{"$f":"APR!H67","v":"container"},{"$f":"APR!I67","v":101.82},0]
[{"$f":"SUBTOTAL(103,C$21:C68)","v":18},"47131803-DS-A01","DISINFECTANT SPRAY, aerosol type, 400-550 grams   ",{"$f":"APR!G68","v":0},{"$f":"APR!H68","v":"can"},{"$f":"APR!I68","v":119.6},0]
[{"$f":"SUBTOTAL(103,C$21:C69)","v":18},"45121517-DO-C01","DOCUMENT CAMERA",{"$f":"APR!G69","v":0},{"$f":"APR!H69","v":"unit"},{"$f":"APR!I69","v":25272},0]
[{"$f":"SUBTOTAL(103,C$21:C70)","v":19},"47131601-DU-P01","DUST PAN",{"$f":"APR!G70","v":0},{"$f":"APR!H70","v":"piece"},{"$f":"APR!I70","v":24.96},0]
[{"$f":"SUBTOTAL(103,C$21:C71)","v":19},"43202003-DV-W01","DVD RE-WRITABLE",{"$f":"APR!G71","v":0},{"$f":"APR!H71","v":"piece"},{"$f":"APR!I71","v":21.79},0]
[{"$f":"SUBTOTAL(103,C$21:C72)","v":19},"40101604-EF-G01","ELECTRIC FAN, INDUSTRIAL",{"$f":"APR!G72","v":0},{"$f":"APR!H72","v":"unit"},{"$f":"APR!I72","v":956.8},0]
[{"$f":"SUBTOTAL(103,C$21:C73)","v":19},"40101604-EF-C01","ELECTRIC FAN, ORBIT type, ceiling,  metal blade",{"$f":"APR!G73","v":0},{"$f":"APR!H73","v":"unit"},{"$f":"APR!I73","v":1248},0]
[{"$f":"SUBTOTAL(103,C$21:C74)","v":19},"40101604-EF-S01","ELECTRIC FAN, STANDARD TYPE",{"$f":"APR!G74","v":0},{"$f":"APR!H74","v":"unit"},{"$f":"APR!I74","v":967.1},0]
[{"$f":"SUBTOTAL(103,C$21:C75)","v":19},"40101604-EF-W01","ELECTRIC FAN, WALL TYPE",{"$f":"APR!G75","v":0},{"$f":"APR!H75","v":"unit"},{"$f":"APR!I75","v":790.4},0]
[{"$f":"SUBTOTAL(103,C$21:C76)","v":19},"44103201-ET-R01","ELECTRONIC TIME RECORDER OR BUNDY CLOCK",{"$f":"APR!G76","v":0},{"$f":"APR!H76","v":"unit"},{"$f":"APR!I76","v":3315.52},0]
[{"$f":"SUBTOTAL(103,C$21:C77)","v":19},"44121506-EN-D01","ENVELOPE, DOCUMENTARY, for A4 size document, 500 pieces per box",{"$f":"APR!G77","v":0},{"$f":"APR!H77","v":"box"},{"$f":"APR!I77","v":381.54},0]
[{"$f":"SUBTOTAL(103,C$21:C78)","v":19},"44121506-EN-D02","ENVELOPE, DOCUMENTARY, for legal size document, \n500 pieces per box",{"$f":"APR!G78","v":0},{"$f":"APR!H78","v":"box"},{"$f":"APR!I78","v":507.4},0]
[{"$f":"SUBTOTAL(103,C$21:C79)","v":19},"44121506-EN-X01","ENVELOPE, EXPANDING, KRAFTBOARD,for legal size doc",{"$f":"APR!G79","v":0},{"$f":"APR!H79","v":"box"},{"$f":"APR!I79","v":621.71},0]
[{"$f":"SUBTOTAL(103,C$21:C80)","v":19},"44121506-EN-X02","ENVELOPE, EXPANDING, PLASTIC",{"$f":"APR!G80","v":0},{"$f":"APR!H80","v":"piece"},{"$f":"APR!I80","v":27.61},0]
[{"$f":"SUBTOTAL(103,C$21:C81)","v":19},"44121506-EN-M01","ENVELOPE, MAILING, 500 pieces per box",{"$f":"APR!G81","v":0},{"$f":"APR!H81","v":"box"},{"$f":"APR!I81","v":499.2},0]
[{"$f":"SUBTOTAL(103,C$21:C82)","v":19},"44121504-EN-W01","ENVELOPE, MAILING, WITH WINDOW, 500 pieces per box",{"$f":"APR!G82","v":0},{"$f":"APR!H82","v":"box"},{"$f":"APR!I82","v":561.6},0]
[{"$f":"SUBTOTAL(103,C$21:C83)","v":19},"44121506-EN-P01","ENVELOPE, PAY, 500 pieces per box",{"$f":"APR!G83","v":0},{"$f":"APR!H83","v":"box"},{"$f":"APR!I83","v":119.39},0]
[{"$f":"SUBTOTAL(103,C$21:C84)","v":20},"44111912-ER-B01","ERASER, FELT, FOR BLACKBOARD OR WHITEBOARD",{"$f":"APR!G84","v":0},{"$f":"APR!H84","v":"piece"},{"$f":"APR!I84","v":11.11},0]
[{"$f":"SUBTOTAL(103,C$21:C85)","v":21},"60121534-ER-P01","ERASER, PLASTIC OR RUBBER",{"$f":"APR!G85","v":0},{"$f":"APR!H85","v":"piece"},{"$f":"APR!I85","v":2.29},{"$f":"D85*F85","v":0}]
[{"$f":"SUBTOTAL(103,C$21:C86)","v":21},"43201827-HD-X02","EXTERNAL HARD DRIVE, 1TB, 2.5\"HDD, USB 3.0, 1 unit \nin individual box",{"$f":"APR!G86","v":0},{"$f":"APR!H86","v":"unit"},{"$f":"APR!I86","v":2818.4},0]
[{"$f":"SUBTOTAL(103,C$21:C87)","v":21},"44101714-FX-M01","FACSIMILE MACHINE",{"$f":"APR!G87","v":0},{"$f":"APR!H87","v":"unit"},{"$f":"APR!I87","v":3502.72},0]
[{"$f":"SUBTOTAL(103,C$21:C88)","v":21},"44122118-FA-P01","FASTENER, METAL, 70mm between prongs, 50 sets per box",{"$f":"APR!G88","v":0},{"$f":"APR!H88","v":"box"},{"$f":"APR!I88","v":57.09},0]
[{"$f":"SUBTOTAL(103,C$21:C89)","v":21},"44111515-FO-X01","FILE ORGANIZER, LEGAL",{"$f":"APR!G89","v":0},{"$f":"APR!H89","v":"piece"},{"$f":"APR!I89","v":70.67},0]
[{"$f":"SUBTOTAL(103,C$21:C90)","v":21},"44122018-FT-D01","FILE TAB DIVIDER, A4",{"$f":"APR!G90","v":0},{"$f":"APR!H90","v":"set"},{"$f":"APR!I90","v":12.48},0]
[{"$f":"SUBTOTAL(103,C$21:C91)","v":21},"44122018-FT-D02","FILE TAB DIVIDER, LEGAL",{"$f":"APR!G91","v":0},{"$f":"APR!H91","v":"set"},{"$f":"APR!I91","v":16.64},0]
[{"$f":"SUBTOTAL(103,C$21:C92)","v":21},"46191601-FE-M01","FIRE EXTINGUISHER, DRY CHEMICAL",{"$f":"APR!G92","v":0},{"$f":"APR!H92","v":"unit"},{"$f":"APR!I92","v":1080.56},0]
[{"$f":"SUBTOTAL(103,C$21:C93)","v":21},"46191601-FE-H01","FIRE EXTINGUISHER, PURE HCFC",{"$f":"APR!G93","v":0},{"$f":"APR!H93","v":"unit"},{"$f":"APR!I93","v":4992},0]
[{"$f":"SUBTOTAL(103,C$21:C94)","v":21},"43202101-FD-U01","FLASH DRIVE, 16 GB capacity,1 piece in individual blister pack              ",{"$f":"APR!G94","v":0},{"$f":"APR!H94","v":"piece"},{"$f":"APR!I94","v":194.48},0]
[{"$f":"SUBTOTAL(103,C$21:C95)","v":21},"47131802-FW-L01","FLOOR WAX, LIQUID TYPE, NATURAL",{"$f":"APR!G95","v":0},{"$f":"APR!H95","v":"can"},{"$f":"APR!I95","v":370.5},0]
[{"$f":"SUBTOTAL(103,C$21:C96)","v":21},"47131802-FW-P01","FLOOR WAX, PASTE TYPE, NATURAL",{"$f":"APR!G96","v":0},{"$f":"APR!H96","v":"can"},{"$f":"APR!I96","v":223.6},0]
[{"$f":"SUBTOTAL(103,C$21:C97)","v":21},"47131802-FW-P02","FLOOR WAX, PASTE, RED",{"$f":"APR!G97","v":0},{"$f":"APR!H97","v":"can"},{"$f":"APR!I97","v":202.8},0]
[{"$f":"SUBTOTAL(103,C$21:C98)","v":21},"39101605-FL-T03","FLUORESCENT LAMP, 14 WATTS",{"$f":"APR!G98","v":0},{"$f":"APR!H98","v":"tube"},{"$f":"APR!I98","v":88.4},0]
[{"$f":"SUBTOTAL(103,C$21:C99)","v":21},"39101605-FL-T04","FLUORESCENT LAMP, 28 WATTS",{"$f":"APR!G99","v":0},{"$f":"APR!H99","v":"tube"},{"$f":"APR!I99","v":114.4},0]
[{"$f":"SUBTOTAL(103,C$21:C100)","v":21},"39101628-LT-L01","LINEAR TUBE, LED, 18 WATTS",{"$f":"APR!G100","v":0},{"$f":"APR!H100","v":"tube"},{"$f":"APR!I100","v":280.8},0]
[{"$f":"SUBTOTAL(103,C$21:C101)","v":21},"39111501-FF-C02","FLUORESCENT LIGHTING FIXTURES, 1 X 36 WATTS",{"$f":"APR!G101","v":0},{"$f":"APR!H101","v":"set"},{"$f":"APR!I101","v":364},0]
[{"$f":"SUBTOTAL(103,C$21:C102)","v":21},"44122011-FO-F01","FOLDER, FANCY, A4, 50 pieces per bundle",{"$f":"APR!G102","v":0},{"$f":"APR!H102","v":"bundle"},{"$f":"APR!I102","v":234},0]
[{"$f":"SUBTOTAL(103,C$21:C103)","v":21},"44122011-FO-F02","FOLDER, FANCY, legal, 50 pieces per bundle",{"$f":"APR!G103","v":0},{"$f":"APR!H103","v":"bundle"},{"$f":"APR!I103","v":291.2},0]
[{"$f":"SUBTOTAL(103,C$21:C104)","v":22},"44122011-FO-L01","FOLDER, L-TYPE, A4 SIZE, 50 pieces per pack",{"$f":"APR!G104","v":0},{"$f":"APR!H104","v":"pack"},{"$f":"APR!I104","v":166.4},0]
[{"$f":"SUBTOTAL(103,C$21:C105)","v":23},"44122011-FO-L02","FOLDER, L-TYPE, LEGAL SIZE, 50 pieces per pack",{"$f":"APR!G105","v":0},{"$f":"APR!H105","v":"pack"},{"$f":"APR!I105","v":203.84},0]
[{"$f":"SUBTOTAL(103,C$21:C106)","v":23},"44122027-FO-P01","FOLDER, PRESSBOARD, size: 240mm x 370mm (-5mm), 100 pieces per box    ",{"$f":"APR!G106","v":0},{"$f":"APR!H106","v":"box"},{"$f":"APR!I106","v":746.72},0]
[{"$f":"SUBTOTAL(103,C$21:C107)","v":23},"44122011-FO-T01","FOLDER, TAGBOARD, for A4 size documents, \n100 pieces per pack",{"$f":"APR!G107","v":0},{"$f":"APR!H107","v":"pack"},{"$f":"APR!I107","v":179.28},0]
[{"$f":"SUBTOTAL(103,C$21:C108)","v":23},"44122011-FO-T02","FOLDER, TAGBOARD, for legal size documents ,100 pieces per pack        ",{"$f":"APR!G108","v":0},{"$f":"APR!H108","v":"pack"},{"$f":"APR!I108","v":200.37},0]
[{"$f":"SUBTOTAL(103,C$21:C109)","v":24},"47131830-FC-A01","FURNITURE CLEANER, aerosol, 300ml min./can",{"$f":"APR!G109","v":0},{"$f":"APR!H109","v":"can"},{"$f":"APR!I109","v":84.76},0]
[{"$f":"SUBTOTAL(103,C$21:C110)","v":25},"31201610-GL-J01","GLUE, all purpose, gross weight: 200 grams min    ",{"$f":"APR!G110","v":0},{"$f":"APR!H110","v":"jars"},{"$f":"APR!I110","v":44.18},0]
[{"$f":"SUBTOTAL(103,C$21:C111)","v":25},"55101524-RA-H01","HANDBOOK ON RA9184",{"$f":"APR!G111","v":0},{"$f":"APR!H111","v":"book"},{"$f":"APR!I111","v":61.83},0]
[{"$f":"SUBTOTAL(103,C$21:C112)","v":25},"60121138-IL-B01","ILLUSTRATION BOARD, 760MM X 1000MM",{"$f":"APR!G112","v":0},{"$f":"APR!H112","v":"piece"},{"$f":"APR!I112","v":35.049999999999997},0]
[{"$f":"SUBTOTAL(103,C$21:C113)","v":25},"44111515-IC-B01","INDEX CARD BOX, 3X5",{"$f":"APR!G113","v":0},{"$f":"APR!H113","v":"piece"},{"$f":"APR!I113","v":36.4},{"$f":"D113*F113","v":0}]
[{"$f":"SUBTOTAL(103,C$21:C114)","v":25},"44100515-IC-B02","INDEX CARD BOX, 5X8",{"$f":"APR!G114","v":0},{"$f":"APR!H114","v":"piece"},{"$f":"APR!I114","v":55.12},{"$f":"D114*F114","v":0}]
[{"$f":"SUBTOTAL(103,C$21:C115)","v":25},"14111518-IC-R01","INDEX CARD, 3X5, 500 pieces per pack",{"$f":"APR!G115","v":0},{"$f":"APR!H115","v":"pack"},{"$f":"APR!I115","v":51.27},0]
[{"$f":"SUBTOTAL(103,C$21:C116)","v":25},"14111518-IC-R02","INDEX CARD, 5X8, 500 pieces per pack",{"$f":"APR!G116","v":0},{"$f":"APR!H116","v":"pack"},{"$f":"APR!I116","v":139.34},0]
[{"$f":"SUBTOTAL(103,C$21:C117)","v":25},"44122008-IT-T01","INDEX TAB, 5 sets per box",{"$f":"APR!G117","v":0},{"$f":"APR!H117","v":"box"},{"$f":"APR!I117","v":47.9},0]
[{"$f":"SUBTOTAL(103,C$21:C118)","v":26},"12171703-SI-P01","STAMP PAD INK, purple or violet, 50ml (min.)",{"$f":"APR!G118","v":0},{"$f":"APR!H118","v":"bottle"},{"$f":"APR!I118","v":24.63},0]
[{"$f":"SUBTOTAL(103,C$21:C119)","v":27},"10191509-IN-A01","INSECTICIDE, aerosol type, net content: 600ml min ",{"$f":"APR!G119","v":0},{"$f":"APR!H119","v":"can"},{"$f":"APR!I119","v":124.8},0]
[{"$f":"SUBTOTAL(103,C$21:C120)","v":27},"14111609-LL-C01","LOOSELEAF COVER, 50 sets per bundle",{"$f":"APR!G120","v":0},{"$f":"APR!H120","v":"bundle"},{"$f":"APR!I120","v":539.76},0]
[{"$f":"SUBTOTAL(103,C$21:C121)","v":27},"44111515-MF-B02","MAGAZINE FILE BOX, LARGE",{"$f":"APR!G121","v":0},{"$f":"APR!H121","v":"piece"},{"$f":"APR!I121","v":41.6},0]
[{"$f":"SUBTOTAL(103,C$21:C122)","v":27},"60121124-MA-P01","MANILA PAPER, 10 sheets per pack",{"$f":"APR!G122","v":0},{"$f":"APR!H122","v":"pack"},{"$f":"APR!I122","v":26},0]
[{"$f":"SUBTOTAL(103,C$21:C123)","v":27},"44122106-MP-R01","MAP PIN, ROUND HEAD, 100 pieces per case",{"$f":"APR!G123","v":0},{"$f":"APR!H123","v":"case"},{"$f":"APR!I123","v":40.35},0]
[{"$f":"SUBTOTAL(103,C$21:C124)","v":28},"44121716-MA-F01","MARKER, FLUORESCENT, 3 colors per set",{"$f":"APR!G124","v":0},{"$f":"APR!H124","v":"set"},{"$f":"APR!I124","v":35.549999999999997},0]
[{"$f":"SUBTOTAL(103,C$21:C125)","v":29},"44121708-MP-B01","MARKER, PERMANENT, bullet type, black             ",{"$f":"APR!G125","v":0},{"$f":"APR!H125","v":"piece"},{"$f":"APR!I125","v":9.65},{"$f":"D125*F125","v":0}]
[{"$f":"SUBTOTAL(103,C$21:C126)","v":30},"44121708-MP-B02","MARKER, PERMANENT, bullet type, blue              ",{"$f":"APR!G126","v":0},{"$f":"APR!H126","v":"piece"},{"$f":"APR!I126","v":9.65},{"$f":"D126*F126","v":0}]
[{"$f":"SUBTOTAL(103,C$21:C127)","v":31},"44121708-MP-B03","MARKER, PERMANENT, bullet type, red               ",{"$f":"APR!G127","v":0},{"$f":"APR!H127","v":"piece"},{"$f":"APR!I127","v":9.65},0]
[{"$f":"SUBTOTAL(103,C$21:C128)","v":31},"44121708-MW-B01","MARKER, WHITEBOARD, black",{"$f":"APR!G128","v":0},{"$f":"APR!H128","v":"piece"},{"$f":"APR!I128","v":10.28},0]
[{"$f":"SUBTOTAL(103,C$21:C129)","v":31},"44121708-MW-B02","MARKER, WHITEBOARD, blue",{"$f":"APR!G129","v":0},{"$f":"APR!H129","v":"piece"},{"$f":"APR!I129","v":10.28},0]
[{"$f":"SUBTOTAL(103,C$21:C130)","v":31},"44121708-MW-B03","MARKER, WHITEBOARD, red",{"$f":"APR!G130","v":0},{"$f":"APR!H130","v":"piece"},{"$f":"APR!I130","v":10.28},0]
[{"$f":"SUBTOTAL(103,C$21:C131)","v":31},"52161533-ME-P01","MEGAPHONE",{"$f":"APR!G131","v":0},{"$f":"APR!H131","v":"unit"},{"$f":"APR!I131","v":2704},0]
[{"$f":"SUBTOTAL(103,C$21:C132)","v":31},"56101519-TMS02","MONOBLOC, TABLE, BEIGE",{"$f":"APR!G132","v":0},{"$f":"APR!H132","v":"unit"},{"$f":"APR!I132","v":1289.5999999999999},0]
[{"$f":"SUBTOTAL(103,C$21:C133)","v":31},"56101519-TM-S01","MONOBLOC, TABLE, WHITE",{"$f":"APR!G133","v":0},{"$f":"APR!H133","v":"unit"},{"$f":"APR!I133","v":1289.5999999999999},0]
[{"$f":"SUBTOTAL(103,C$21:C134)","v":31},"47121804-MP-B01","MOPBUCKET",{"$f":"APR!G134","v":0},{"$f":"APR!H134","v":"unit"},{"$f":"APR!I134","v":1911},0]
[{"$f":"SUBTOTAL(103,C$21:C135)","v":31},"47131613-MP-H02","MOPHANDLE",{"$f":"APR!G135","v":0},{"$f":"APR!H135","v":"piece"},{"$f":"APR!I135","v":142.47999999999999},0]
[{"$f":"SUBTOTAL(103,C$21:C136)","v":31},"47131619-MP-R01","MOPHEAD, made of rayon, weight: 400 grams min     ",{"$f":"APR!G136","v":0},{"$f":"APR!H136","v":"piece"},{"$f":"APR!I136","v":98.8},0]
[{"$f":"SUBTOTAL(103,C$21:C137)","v":31},"43211708-MO-O01","MOUSE, OPTICAL, USB CONNECTION TYPE, 1 unit in individual box",{"$f":"APR!G137","v":0},{"$f":"APR!H137","v":"unit"},{"$f":"APR!I137","v":127.8},0]
[{"$f":"SUBTOTAL(103,C$21:C138)","v":31},"45111609-MM-P01","MULTIMEDIA PROJECTOR, 4000 min ANSI Lumens        ",{"$f":"APR!G138","v":0},{"$f":"APR!H138","v":"unit"},{"$f":"APR!I138","v":26483.599999999999},0]
[{"$f":"SUBTOTAL(103,C$21:C139)","v":31},"14111514-NB-S01","NOTEBOOK, STENOGRAPHER, spiral, 40 leaves         ",{"$f":"APR!G139","v":0},{"$f":"APR!H139","v":"piece"},{"$f":"APR!I139","v":10.4},0]
[{"$f":"SUBTOTAL(103,C$21:C140)","v":31},"14111514-NP-S02","NOTEPAD, STICK-ON, 2X3, 100 sheets per pad",{"$f":"APR!G140","v":0},{"$f":"APR!H140","v":"pad"},{"$f":"APR!I140","v":31.2},0]
[{"$f":"SUBTOTAL(103,C$21:C141)","v":31},"14111514-NP-S03","NOTEPAD, STICK-ON, 3X3, 100 sheets per pad",{"$f":"APR!G141","v":0},{"$f":"APR!H141","v":"pad"},{"$f":"APR!I141","v":40.54},{"$f":"D141*F141","v":0}]
[{"$f":"SUBTOTAL(103,C$21:C142)","v":31},"14111514-NP-S04","NOTEPAD, STICK-ON, 3X4, 100 sheets per pad",{"$f":"APR!G142","v":0},{"$f":"APR!H142","v":"pad"},{"$f":"APR!I142","v":54.06},{"$f":"D142*F142","v":0}]
[{"$f":"SUBTOTAL(103,C$21:C143)","v":31},"12181601-OL-G01","OIL, GENERAL PURPOSE LUBRICANT, 120ml per bottle",{"$f":"APR!G143","v":0},{"$f":"APR!H143","v":"bottle"},{"$f":"APR!I143","v":36.9},0]
[{"$f":"SUBTOTAL(103,C$21:C144)","v":31},"14111531-PP-R01","PAD PAPER, RULED",{"$f":"APR!G144","v":0},{"$f":"APR!H144","v":"pad"},{"$f":"APR!I144","v":18.260000000000002},0]
[{"$f":"SUBTOTAL(103,C$21:C145)","v":31},"44122104-PC-G01","PAPER CLIP, 32MM, 100 pieces per box\nor 52 grams (min.) (net of box)",{"$f":"APR!G145","v":0},{"$f":"APR!H145","v":"box"},{"$f":"APR!I145","v":6.43},0]
[{"$f":"SUBTOTAL(103,C$21:C146)","v":31},"44122104-PC-J02","PAPER CLIP, 48MM, 100 pieces per box\nor 120 grams (min.) (net of box)",{"$f":"APR!G146","v":0},{"$f":"APR!H146","v":"box"},{"$f":"APR!I146","v":12.85},0]
[{"$f":"SUBTOTAL(103,C$21:C147)","v":31},"44101603-PS-M01","PAPER SHREDDER",{"$f":"APR!G147","v":0},{"$f":"APR!H147","v":"unit"},{"$f":"APR!I147","v":5699.2},0]
[{"$f":"SUBTOTAL(103,C$21:C148)","v":31},"44101601-PT-M01","PAPER TRIMMER CUTTING MACHINE",{"$f":"APR!G148","v":0},{"$f":"APR!H148","v":"unit"},{"$f":"APR!I148","v":7488},0]
[{"$f":"SUBTOTAL(103,C$21:C149)","v":31},"14111507-PP-M01","PAPER, MULTICOPY, 80gsm, size: 210mm x 297mm      ",{"$f":"APR!G149","v":0},{"$f":"APR!H149","v":"ream"},{"$f":"APR!I149","v":112.32},0]
[{"$f":"SUBTOTAL(103,C$21:C150)","v":31},"14111507-PP-M02","PAPER, MULTICOPY, 80gsm, size: 216mm x 330mm      ",{"$f":"APR!G150","v":0},{"$f":"APR!H150","v":"ream"},{"$f":"APR!I150","v":132.02000000000001},0]
[{"$f":"SUBTOTAL(103,C$21:C151)","v":31},"14111507-PP-C01","PAPER, Multi-Purpose (COPY) A4, 70 gsm., 5 reams/box",{"$f":"APR!G151","v":0},{"$f":"APR!H151","v":"ream"},{"$f":"APR!I151","v":95.26},0]
[{"$f":"SUBTOTAL(103,C$21:C152)","v":31},"14111507-PP-C02","PAPER, Multi-Purpose (COPY) Legal, 70 gsm., 5 reams/box",{"$f":"APR!G152","v":0},{"$f":"APR!H152","v":"ream"},{"$f":"APR!I152","v":114.35},0]
[{"$f":"SUBTOTAL(103,C$21:C153)","v":31},"14111503-PA-P01","PAPER, PARCHMENT, 100 sheets per box",{"$f":"APR!G153","v":0},{"$f":"APR!H153","v":"box"},{"$f":"APR!I153","v":88.4},0]
[{"$f":"SUBTOTAL(103,C$21:C154)","v":31},"14111818-TH-P01","PAPER, THERMAL, 210MM X 30M",{"$f":"APR!G154","v":0},{"$f":"APR!H154","v":"roll"},{"$f":"APR!I154","v":29.95},0]
[{"$f":"SUBTOTAL(103,C$21:C155)","v":31},"14111818-TH-P02","PAPER, THERMAL, 216MM X 30M",{"$f":"APR!G155","v":0},{"$f":"APR!H155","v":"roll"},{"$f":"APR!I155","v":31.15},0]
[{"$f":"SUBTOTAL(103,C$21:C156)","v":31},"44121619-PS-M01","PENCIL SHARPENER, 1 piece in individual plastic case",{"$f":"APR!G156","v":0},{"$f":"APR!H156","v":"piece"},{"$f":"APR!I156","v":187.2},0]
[{"$f":"SUBTOTAL(103,C$21:C157)","v":31},"44121706-PE-L01","PENCIL, LEAD WITH ERASER",{"$f":"APR!G157","v":0},{"$f":"APR!H157","v":"box"},{"$f":"APR!I157","v":19.62},0]
[{"$f":"SUBTOTAL(103,C$21:C158)","v":31},"55121905-PH-F01","PHILIPPINE NATIONAL FLAG",{"$f":"APR!G158","v":0},{"$f":"APR!H158","v":"piece"},{"$f":"APR!I158","v":278.72000000000003},0]
[{"$f":"SUBTOTAL(103,C$21:C159)","v":31},"43212102-PR-D02","PRINTER, IMPACT DOT MATRIX, 24 pins, 136 column   ",{"$f":"APR!G159","v":0},{"$f":"APR!H159","v":"unit"},{"$f":"APR!I159","v":18709.599999999999},0]
[{"$f":"SUBTOTAL(103,C$21:C160)","v":31},"43212102-PR-D01","PRINTER, IMPACT DOT MATRIX, 9 pins, 80 columns    ",{"$f":"APR!G160","v":0},{"$f":"APR!H160","v":"unit"},{"$f":"APR!I160","v":5831.52},0]
[{"$f":"SUBTOTAL(103,C$21:C161)","v":31},"43212104-PR-I01","PRINTER, INKJET, WIRELESS",{"$f":"APR!G161","v":0},{"$f":"APR!H161","v":"unit"},{"$f":"APR!I161","v":10000},0]
[{"$f":"SUBTOTAL(103,C$21:C162)","v":31},"43212105-PR-L01","PRINTER, LASER, MONOCHROME",{"$f":"APR!G162","v":0},{"$f":"APR!H162","v":"unit"},{"$f":"APR!I162","v":1237.5999999999999},{"$f":"D162*F162","v":0}]
[{"$f":"SUBTOTAL(103,C$21:C163)","v":31},"44101602-PU-P01","PUNCHER, paper, heavy duty, with two hole guide, 1 piece in individual box",{"$f":"APR!G163","v":0},{"$f":"APR!H163","v":"piece"},{"$f":"APR!I163","v":114.28},{"$f":"D163*F163","v":0}]
[{"$f":"SUBTOTAL(103,C$21:C164)","v":31},"44122106-PP-F02","PUSH PIN, 100 pieces per case",{"$f":"APR!G164","v":0},{"$f":"APR!H164","v":"case"},{"$f":"APR!I164","v":24.96},0]
[{"$f":"SUBTOTAL(103,C$21:C165)","v":31},"47131501-RG-C01","RAGS, ALL COTTON, 32 pieces per kilo per bundle",{"$f":"APR!G165","v":0},{"$f":"APR!H165","v":"bundle"},{"$f":"APR!I165","v":49.69},0]
[{"$f":"SUBTOTAL(103,C$21:C166)","v":31},"14111531-RE-B01","RECORD BOOK, 300 PAGES, size: 214mm x 278mm min   ",{"$f":"APR!G166","v":0},{"$f":"APR!H166","v":"book"},{"$f":"APR!I166","v":60.32},0]
[{"$f":"SUBTOTAL(103,C$21:C167)","v":31},"14111531-RE-B02","RECORD BOOK, 500 PAGES, size: 214mm x 278mm min   ",{"$f":"APR!G167","v":0},{"$f":"APR!H167","v":"book"},{"$f":"APR!I167","v":86.85},0]
[{"$f":"SUBTOTAL(103,C$21:C168)","v":31},"44102606-RI-T01","RIBBON, FOR MANUAL TYPEWRITER, In box, with each spool individually wrapped in plastic",{"$f":"APR!G168","v":0},{"$f":"APR!H168","v":"spool"},{"$f":"APR!I168","v":17.14},0]
[{"$f":"SUBTOTAL(103,C$21:C169)","v":31},"44122037-RB-P07","RING BINDER, PLASTIC, 25MM, 10 pieces per bundle",{"$f":"APR!G169","v":0},{"$f":"APR!H169","v":"bundle"},{"$f":"APR!I169","v":150.80000000000001},0]
[{"$f":"SUBTOTAL(103,C$21:C170)","v":31},"44122037-RB-P09","RING BINDER, PLASTIC, 32MM, 10 pieces per bundle",{"$f":"APR!G170","v":0},{"$f":"APR!H170","v":"bundle"},{"$f":"APR!I170","v":256.87},0]
[{"$f":"SUBTOTAL(103,C$21:C171)","v":31},"44122037-RB-P12","RING BINDER, PLASTIC, 50MM, 10 pieces per bundle",{"$f":"APR!G171","v":0},{"$f":"APR!H171","v":"bundle"},{"$f":"APR!I171","v":291.02999999999997},0]
[{"$f":"SUBTOTAL(103,C$21:C172)","v":31},"44122101-RU-B01","RUBBER BAND, 70mm min lay flat length (#18) ",{"$f":"APR!G172","v":0},{"$f":"APR!H172","v":"box"},{"$f":"APR!I172","v":93.31},0]
[{"$f":"SUBTOTAL(103,C$21:C173)","v":31},"41111604-RU-P02","RULER, PLASTIC, 450MM, 1 piece in individual plastic",{"$f":"APR!G173","v":0},{"$f":"APR!H173","v":"piece"},{"$f":"APR!I173","v":15.48},0]
[{"$f":"SUBTOTAL(103,C$21:C174)","v":31},"44121618-SS-S01","SCISSORS, symmetrical, blade length: 65mm, 1 piece in individual plastic",{"$f":"APR!G174","v":0},{"$f":"APR!H174","v":"pair"},{"$f":"APR!I174","v":13.73},0]
[{"$f":"SUBTOTAL(103,C$21:C175)","v":31},"47131602-SC-N01","SCOURING PAD, 5 pieces per pack",{"$f":"APR!G175","v":0},{"$f":"APR!H175","v":"pack"},{"$f":"APR!I175","v":102.96},0]
[{"$f":"SUBTOTAL(103,C$21:C176)","v":31},"60121524-SP-G01","SIGN PEN, BLACK, liquid/gel ink, 0.5mm needle tip ",{"$f":"APR!G176","v":0},{"$f":"APR!H176","v":"piece"},{"$f":"APR!I176","v":38.1},0]
[{"$f":"SUBTOTAL(103,C$21:C177)","v":31},"60121524-SP-G02","SIGN PEN, BLUE, liquid/gel ink, 0.5mm needle tip  ",{"$f":"APR!G177","v":0},{"$f":"APR!H177","v":"piece"},{"$f":"APR!I177","v":38.1},0]
[{"$f":"SUBTOTAL(103,C$21:C178)","v":31},"60121524-SP-G03","SIGN PEN, RED, liquid/gel ink, 0.5mm needle tip   ",{"$f":"APR!G178","v":0},{"$f":"APR!H178","v":"piece"},{"$f":"APR!I178","v":38.1},0]
[{"$f":"SUBTOTAL(103,C$21:C179)","v":31},"53131608-SB-R01","SOAP, BATHROOM, 90 grams, 1 piece in individual box",{"$f":"APR!G179","v":0},{"$f":"APR!H179","v":"piece"},{"$f":"APR!I179","v":22.36},0]
[{"$f":"SUBTOTAL(103,C$21:C180)","v":31},"44121905-SP-F01","STAMP PAD, FELT, bed dimension: 60mm x 100mm",{"$f":"APR!G180","v":0},{"$f":"APR!H180","v":"piece"},{"$f":"APR!I180","v":27.66},0]
[{"$f":"SUBTOTAL(103,C$21:C181)","v":31},"44121613-SR-P01","STAPLE REMOVER, PLIER TYPE",{"$f":"APR!G181","v":0},{"$f":"APR!H181","v":"piece"},{"$f":"APR!I181","v":18.18},0]
[{"$f":"SUBTOTAL(103,C$21:C182)","v":31},"31151804-SW-H01","STAPLE WIRE, HEAVY DUTY, 23/13",{"$f":"APR!G182","v":0},{"$f":"APR!H182","v":"box"},{"$f":"APR!I182","v":23.4},0]
[{"$f":"SUBTOTAL(103,C$21:C183)","v":31},"31151804-SW-H02","STAPLE WIRE, HEAVY DUTY, 23/17",{"$f":"APR!G183","v":0},{"$f":"APR!H183","v":"box"},{"$f":"APR!I183","v":41.48},0]
[{"$f":"SUBTOTAL(103,C$21:C184)","v":31},"31151804-SW-S01","STAPLE WIRE, STANDARD",{"$f":"APR!G184","v":0},{"$f":"APR!H184","v":"box"},{"$f":"APR!I184","v":18.920000000000002},0]
[{"$f":"SUBTOTAL(103,C$21:C185)","v":31},"44121615-ST-B01","STAPLER, BINDER TYPE",{"$f":"APR!G185","v":0},{"$f":"APR!H185","v":"unit"},{"$f":"APR!I185","v":878.8},0]
[{"$f":"SUBTOTAL(103,C$21:C186)","v":31},"44121615-ST-S01","STAPLER, STANDARD TYPE, load cap: 200 staples min, 1 piece in individual box",{"$f":"APR!G186","v":0},{"$f":"APR!H186","v":"piece"},{"$f":"APR!I186","v":82.16},0]
[{"$f":"SUBTOTAL(103,C$21:C187)","v":31},"44121605-TD-H01","TAPE DISPENSER, HANDHELD",{"$f":"APR!G187","v":0},{"$f":"APR!H187","v":"piece"},{"$f":"APR!I187","v":29.1},0]
[{"$f":"SUBTOTAL(103,C$21:C188)","v":31},"44121605-TD-T01","TAPE DISPENSER, TABLE TOP",{"$f":"APR!G188","v":0},{"$f":"APR!H188","v":"piece"},{"$f":"APR!I188","v":47.72},0]
[{"$f":"SUBTOTAL(103,C$21:C189)","v":31},"31201502-TA-E01","TAPE, ELECTRICAL",{"$f":"APR!G189","v":0},{"$f":"APR!H189","v":"roll"},{"$f":"APR!I189","v":18.2},0]
[{"$f":"SUBTOTAL(103,C$21:C190)","v":31},"14111515-TA-C01","TAPE, FOR ADDING MACHINE",{"$f":"APR!G190","v":0},{"$f":"APR!H190","v":"roll"},{"$f":"APR!I190","v":8.11},0]
[{"$f":"SUBTOTAL(103,C$21:C191)","v":31},"31201503-TA-M01","TAPE, MASKING, width: 24mm (±1mm)                 ",{"$f":"APR!G191","v":0},{"$f":"APR!H191","v":"roll"},{"$f":"APR!I191","v":55.12},0]
[{"$f":"SUBTOTAL(103,C$21:C192)","v":31},"31201503-TA-M02","TAPE, MASKING, width: 48mm (±1mm)                 ",{"$f":"APR!G192","v":0},{"$f":"APR!H192","v":"roll"},{"$f":"APR!I192","v":105.04},0]
[{"$f":"SUBTOTAL(103,C$21:C193)","v":31},"31201517-TA-P01","TAPE, PACKAGING, width: 48mm (±1mm)               ",{"$f":"APR!G193","v":0},{"$f":"APR!H193","v":"roll"},{"$f":"APR!I193","v":32.74},0]
[{"$f":"SUBTOTAL(103,C$21:C194)","v":31},"31201512-TA-T01","TAPE, TRANSPARENT, width: 24mm (±1mm)             ",{"$f":"APR!G194","v":0},{"$f":"APR!H194","v":"roll"},{"$f":"APR!I194","v":10.92},0]
[{"$f":"SUBTOTAL(103,C$21:C195)","v":31},"31201512-TA-T02","TAPE, TRANSPARENT, width: 48mm (±1mm)             ",{"$f":"APR!G195","v":0},{"$f":"APR!H195","v":"roll"},{"$f":"APR!I195","v":26.52},0]
[{"$f":"SUBTOTAL(103,C$21:C196)","v":31},"44103205-TC-A01","TIME CARD, AMANO, 100 pieces per bundle",{"$f":"APR!G196","v":0},{"$f":"APR!H196","v":"bundle"},{"$f":"APR!I196","v":69.47},0]
[{"$f":"SUBTOTAL(103,C$21:C197)","v":31},"14111704-TT-P01","TOILET TISSUE PAPER 2-plys sheets, 150 pulls, 12 rolls in a pack",{"$f":"APR!G197","v":0},{"$f":"APR!H197","v":"pack"},{"$f":"APR!I197","v":67.599999999999994},0]
[{"$f":"SUBTOTAL(103,C$21:C198)","v":31},"47121701-TB-P01","TRASHBAG, plastic, gusseted type, black, 10 pcs per roll/pack         ",{"$f":"APR!G198","v":0},{"$f":"APR!H198","v":"roll"},{"$f":"APR!I198","v":139.88},0]
[{"$f":"SUBTOTAL(103,C$21:C199)","v":31},"31151507-TW-P01","TWINE, PLASTIC",{"$f":"APR!G199","v":0},{"$f":"APR!H199","v":"roll"},{"$f":"APR!I199","v":49.92},0]
[{"$f":"SUBTOTAL(103,C$21:C200)","v":31},"47121702-WB-P01","WASTEBASKET, NON RIGID PLASTIC",{"$f":"APR!G200","v":0},{"$f":"APR!H200","v":"piece"},{"$f":"APR!I200","v":23.9},0]
[{"$f":"SUBTOTAL(103,C$21:C201)","v":31},"43222609-WR-R01","WIRELESS N-ROUTER",{"$f":"APR!G201","v":0},{"$f":"APR!H201","v":"unit"},{"$f":"APR!I201","v":1037.92},0]
[{"$f":"SUBTOTAL(103,C$21:C202)","v":31},"60121124-WR-P02","WRAPPING PAPER, 50 sheets per pack",{"$f":"APR!G202","v":0},{"$f":"APR!H202","v":"pack"},{"$f":"APR!I202","v":128.84},0,"."]
[]
["FOR THE LATEST PRICES AND DETAILED SPECIFICATIONS, PLEASE REFER TO THE ELECTRONIC CATALOGUE @ www.procurementservice.gov.ph/www.philgeps.gov.ph"]
["For verification of balances, call PS-Acctg Division @ Tel. Nos. (02) 563-9351 or email us at accounting@procurementservice.gov.ph"]
["NOTE: ALL SIGNATURES MUST BE OVER PRINTED NAME"]
["STOCKS REQUESTED ARE CERTIFIED TO BE     FUNDS CERTIFIED AVAILABLE:                              APPROVED:"]
["WITHIN APPROVED PROGRAM:"]
[]
[]
[]
["   AGENCY PROPERTY/SUPPLY OFFICER                         AGENCY CHIEF ACCOUNTANT                        AGENCY HEAD/AUTHORIZED SIGNATURE"]
[]
[{"$f":"APR!B215","v":"[  ] FUNDS DEPOSITED WITH PS    [  ] ___________________ CHECK No. ____________________"}]
[{"$f":"APR!B216","v":"IN THE AMOUNT OF: ____________________________________________________________ (P _____________________ ) ENCLOSED"}]
[]
[{"$f":"SUBTOTAL(103,C$21:C217)","v":31},"39101619-FL-C01","COMPACT FLUORESCENT LAMP, 18 WATTS, 1 piece in individual box",{"$f":"APR!G52","v":0},{"$f":"APR!H52","v":"piece"},{"$f":"APR!I52","v":93.29},{"$f":"D217*F217","v":0}]
[{"$f":"SUBTOTAL(103,C$21:C218)","v":31},"14111506-CF-L11","CONTINUOUS FORM, 1 PLY, 280 x 241mm ,2,000 sets per box               ",{"$f":"APR!G53","v":0},{"$f":"APR!H53","v":"box"},{"$f":"APR!I53","v":630.76},0]
[{"$f":"SUBTOTAL(103,C$21:C219)","v":31},"14111506-CF-L21","CONTINUOUS FORM, 2 PLY, 280 x 241mm, 1,000 sets per box",{"$f":"APR!G54","v":0},{"$f":"APR!H54","v":"box"},{"$f":"APR!I54","v":716.04},0]
[{"$f":"SUBTOTAL(103,C$21:C220)","v":31},"14111506-CF-L31","CONTINUOUS FORM, 3 PLY, 280 x 241mm, 500 sets per box",{"$f":"APR!G55","v":0},{"$f":"APR!H55","v":"box"},{"$f":"APR!I55","v":596.79999999999995},0]
[{"$f":"SUBTOTAL(103,C$21:C221)","v":31},"14111506-CF-L12","CONTINUOUS FORM, 1 PLY, 280MM X 378MM, 2,000 sets per box",{"$f":"APR!G56","v":0},{"$f":"APR!H56","v":"box"},{"$f":"APR!I56","v":950.3},0]
[{"$f":"SUBTOTAL(103,C$21:C222)","v":31},"14111506-CF-L22","CONTINUOUS FORM, 2 PLY, 280MM X 378MM, 1,000 sets per box",{"$f":"APR!G57","v":0},{"$f":"APR!H57","v":"box"},{"$f":"APR!I57","v":1220.96},0]
[{"$f":"SUBTOTAL(103,C$21:C223)","v":31},"14111506-CF-L32","CONTINUOUS FORM, 3 PLY, 280MM X 378MM, 500 sets per box",{"$f":"APR!G58","v":0},{"$f":"APR!H58","v":"box"},{"$f":"APR!I58","v":958.15},0]
[{"$f":"SUBTOTAL(103,C$21:C224)","v":31},"44121801-CT-R01","CORRECTION TAPE, 1 piece in individual plastic",{"$f":"APR!G59","v":0},{"$f":"APR!H59","v":"piece"},{"$f":"APR!I59","v":31.2},0]
[{"$f":"SUBTOTAL(103,C$21:C225)","v":31},"44121612-BL-H01","CUTTER BLADE, 10 pieces per tube",{"$f":"APR!G60","v":0},{"$f":"APR!H60","v":"tube"},{"$f":"APR!I60","v":9.19},0]
[{"$f":"SUBTOTAL(103,C$21:C226)","v":31},"44121612-CU-H01","CUTTER KNIFE",{"$f":"APR!G61","v":0},{"$f":"APR!H61","v":"piece"},{"$f":"APR!I61","v":19.760000000000002},0]
[{"$f":"SUBTOTAL(103,C$21:C227)","v":31},"44111515-DF-B01","DATA FILE BOX, made of chipboard, with closed ends",{"$f":"APR!G62","v":0},{"$f":"APR!H62","v":"piece"},{"$f":"APR!I62","v":69.78},0]
[{"$f":"SUBTOTAL(103,C$21:C228)","v":31},"44122011-DF-F01","DATA FOLDER, made of chipboard, taglia lock       ",{"$f":"APR!G63","v":0},{"$f":"APR!H63","v":"piece"},{"$f":"APR!I63","v":68.64},0]
[{"$f":"SUBTOTAL(103,C$21:C229)","v":31},"44103202-DS-M01","DATING AND STAMPING MACHINE",{"$f":"APR!G64","v":0},{"$f":"APR!H64","v":"piece"},{"$f":"APR!I64","v":478.38},0]
[{"$f":"SUBTOTAL(103,C$21:C230)","v":31},"47131811-DE-P02","DETERGENT POWDER, all purpose, 1kg per plastic pouch",{"$f":"APR!G65","v":0},{"$f":"APR!H65","v":"pouch"},{"$f":"APR!I65","v":37.43},0]
[{"$f":"SUBTOTAL(103,C$21:C231)","v":31},"52161535-DV-R01","DIGITAL VOICE RECORDER, memory: 4GB (expandable), 1 unit in individual box",{"$f":"APR!G66","v":0},{"$f":"APR!H66","v":"unit"},{"$f":"APR!I66","v":6229.6},0]
[{"$f":"SUBTOTAL(103,C$21:C232)","v":31},"47131800-DB-S01","DISINFECTANT, bleaching solution",{"$f":"APR!G67","v":0},{"$f":"APR!H67","v":"container"},{"$f":"APR!I67","v":101.82},0]
[{"$f":"SUBTOTAL(103,C$21:C233)","v":31},"47131803-DS-A01","DISINFECTANT SPRAY, aerosol type, 400-550 grams   ",{"$f":"APR!G68","v":0},{"$f":"APR!H68","v":"can"},{"$f":"APR!I68","v":119.6},0]
[{"$f":"SUBTOTAL(103,C$21:C234)","v":31},"45121517-DO-C01","DOCUMENT CAMERA",{"$f":"APR!G69","v":0},{"$f":"APR!H69","v":"unit"},{"$f":"APR!I69","v":25272},0]
[{"$f":"SUBTOTAL(103,C$21:C235)","v":31},"47131601-DU-P01","DUST PAN",{"$f":"APR!G70","v":0},{"$f":"APR!H70","v":"piece"},{"$f":"APR!I70","v":24.96},0]
[{"$f":"SUBTOTAL(103,C$21:C236)","v":31},"43202003-DV-W01","DVD RE-WRITABLE",{"$f":"APR!G71","v":0},{"$f":"APR!H71","v":"piece"},{"$f":"APR!I71","v":21.79},0]
[{"$f":"SUBTOTAL(103,C$21:C237)","v":31},"40101604-EF-G01","ELECTRIC FAN, INDUSTRIAL",{"$f":"APR!G72","v":0},{"$f":"APR!H72","v":"unit"},{"$f":"APR!I72","v":956.8},0]
[{"$f":"SUBTOTAL(103,C$21:C238)","v":31},"40101604-EF-C01","ELECTRIC FAN, ORBIT type, ceiling,  metal blade",{"$f":"APR!G73","v":0},{"$f":"APR!H73","v":"unit"},{"$f":"APR!I73","v":1248},0]
[{"$f":"SUBTOTAL(103,C$21:C239)","v":31},"40101604-EF-S01","ELECTRIC FAN, STANDARD TYPE",{"$f":"APR!G74","v":0},{"$f":"APR!H74","v":"unit"},{"$f":"APR!I74","v":967.1},0]
[{"$f":"SUBTOTAL(103,C$21:C240)","v":31},"40101604-EF-W01","ELECTRIC FAN, WALL TYPE",{"$f":"APR!G75","v":0},{"$f":"APR!H75","v":"unit"},{"$f":"APR!I75","v":790.4},0]
[{"$f":"SUBTOTAL(103,C$21:C241)","v":31},"44103201-ET-R01","ELECTRONIC TIME RECORDER OR BUNDY CLOCK",{"$f":"APR!G76","v":0},{"$f":"APR!H76","v":"unit"},{"$f":"APR!I76","v":3315.52},0]
[{"$f":"SUBTOTAL(103,C$21:C242)","v":31},"44121506-EN-D01","ENVELOPE, DOCUMENTARY, for A4 size document, 500 pieces per box",{"$f":"APR!G77","v":0},{"$f":"APR!H77","v":"box"},{"$f":"APR!I77","v":381.54},0]
[{"$f":"SUBTOTAL(103,C$21:C243)","v":31},"44121506-EN-D02","ENVELOPE, DOCUMENTARY, for legal size document, \n500 pieces per box",{"$f":"APR!G78","v":0},{"$f":"APR!H78","v":"box"},{"$f":"APR!I78","v":507.4},0]
[{"$f":"SUBTOTAL(103,C$21:C244)","v":31},"44121506-EN-X01","ENVELOPE, EXPANDING, KRAFTBOARD,for legal size doc",{"$f":"APR!G79","v":0},{"$f":"APR!H79","v":"box"},{"$f":"APR!I79","v":621.71},0]
[{"$f":"SUBTOTAL(103,C$21:C245)","v":31},"44121506-EN-X02","ENVELOPE, EXPANDING, PLASTIC",{"$f":"APR!G80","v":0},{"$f":"APR!H80","v":"piece"},{"$f":"APR!I80","v":27.61},0]
[{"$f":"SUBTOTAL(103,C$21:C246)","v":31},"44121506-EN-M01","ENVELOPE, MAILING, 500 pieces per box",{"$f":"APR!G81","v":0},{"$f":"APR!H81","v":"box"},{"$f":"APR!I81","v":499.2},0]
[{"$f":"SUBTOTAL(103,C$21:C247)","v":31},"44121504-EN-W01","ENVELOPE, MAILING, WITH WINDOW, 500 pieces per box",{"$f":"APR!G82","v":0},{"$f":"APR!H82","v":"box"},{"$f":"APR!I82","v":561.6},0]
[{"$f":"SUBTOTAL(103,C$21:C248)","v":31},"44121506-EN-P01","ENVELOPE, PAY, 500 pieces per box",{"$f":"APR!G83","v":0},{"$f":"APR!H83","v":"box"},{"$f":"APR!I83","v":119.39},0]
[{"$f":"SUBTOTAL(103,C$21:C249)","v":31},"44111912-ER-B01","ERASER, FELT, FOR BLACKBOARD OR WHITEBOARD",{"$f":"APR!G84","v":0},{"$f":"APR!H84","v":"piece"},{"$f":"APR!I84","v":11.11},0]
[{"$f":"SUBTOTAL(103,C$21:C250)","v":31},"60121534-ER-P01","ERASER, PLASTIC OR RUBBER",{"$f":"APR!G85","v":0},{"$f":"APR!H85","v":"piece"},{"$f":"APR!I85","v":2.29},0]
[{"$f":"SUBTOTAL(103,C$21:C251)","v":31},"43201827-HD-X02","EXTERNAL HARD DRIVE, 1TB, 2.5\"HDD, USB 3.0, 1 unit \nin individual box",{"$f":"APR!G86","v":0},{"$f":"APR!H86","v":"unit"},{"$f":"APR!I86","v":2818.4},0]
[{"$f":"SUBTOTAL(103,C$21:C252)","v":31},"44101714-FX-M01","FACSIMILE MACHINE",{"$f":"APR!G87","v":0},{"$f":"APR!H87","v":"unit"},{"$f":"APR!I87","v":3502.72},0]
[{"$f":"SUBTOTAL(103,C$21:C253)","v":31},"44122118-FA-P01","FASTENER, METAL, 70mm between prongs, 50 sets per box",{"$f":"APR!G88","v":0},{"$f":"APR!H88","v":"box"},{"$f":"APR!I88","v":57.09},0]
[{"$f":"SUBTOTAL(103,C$21:C254)","v":31},"44111515-FO-X01","FILE ORGANIZER, LEGAL",{"$f":"APR!G89","v":0},{"$f":"APR!H89","v":"piece"},{"$f":"APR!I89","v":70.67},0]
[{"$f":"SUBTOTAL(103,C$21:C255)","v":31},"44122018-FT-D01","FILE TAB DIVIDER, A4",{"$f":"APR!G90","v":0},{"$f":"APR!H90","v":"set"},{"$f":"APR!I90","v":12.48},0]
[{"$f":"SUBTOTAL(103,C$21:C256)","v":31},"44122018-FT-D02","FILE TAB DIVIDER, LEGAL",{"$f":"APR!G91","v":0},{"$f":"APR!H91","v":"set"},{"$f":"APR!I91","v":16.64},0]
[{"$f":"SUBTOTAL(103,C$21:C257)","v":31},"46191601-FE-M01","FIRE EXTINGUISHER, DRY CHEMICAL",{"$f":"APR!G92","v":0},{"$f":"APR!H92","v":"unit"},{"$f":"APR!I92","v":1080.56},0]
[{"$f":"SUBTOTAL(103,C$21:C258)","v":31},"46191601-FE-H01","FIRE EXTINGUISHER, PURE HCFC",{"$f":"APR!G93","v":0},{"$f":"APR!H93","v":"unit"},{"$f":"APR!I93","v":4992},0]
[{"$f":"SUBTOTAL(103,C$21:C259)","v":31},"43202101-FD-U01","FLASH DRIVE, 16 GB capacity,1 piece in individual blister pack              ",{"$f":"APR!G94","v":0},{"$f":"APR!H94","v":"piece"},{"$f":"APR!I94","v":194.48},0]
[{"$f":"SUBTOTAL(103,C$21:C260)","v":31},"47131802-FW-L01","FLOOR WAX, LIQUID TYPE, NATURAL",{"$f":"APR!G95","v":0},{"$f":"APR!H95","v":"can"},{"$f":"APR!I95","v":370.5},0]
[{"$f":"SUBTOTAL(103,C$21:C261)","v":31},"47131802-FW-P01","FLOOR WAX, PASTE TYPE, NATURAL",{"$f":"APR!G96","v":0},{"$f":"APR!H96","v":"can"},{"$f":"APR!I96","v":223.6},0]
[{"$f":"SUBTOTAL(103,C$21:C262)","v":31},"47131802-FW-P02","FLOOR WAX, PASTE, RED",{"$f":"APR!G97","v":0},{"$f":"APR!H97","v":"can"},{"$f":"APR!I97","v":202.8},0]
[{"$f":"SUBTOTAL(103,C$21:C263)","v":31},"39101605-FL-T03","FLUORESCENT LAMP, 14 WATTS",{"$f":"APR!G98","v":0},{"$f":"APR!H98","v":"tube"},{"$f":"APR!I98","v":88.4},0]
[{"$f":"SUBTOTAL(103,C$21:C264)","v":31},"39101605-FL-T04","FLUORESCENT LAMP, 28 WATTS",{"$f":"APR!G99","v":0},{"$f":"APR!H99","v":"tube"},{"$f":"APR!I99","v":114.4},0]
[{"$f":"SUBTOTAL(103,C$21:C265)","v":31},"39101628-LT-L01","LINEAR TUBE, LED, 18 WATTS",{"$f":"APR!G100","v":0},{"$f":"APR!H100","v":"tube"},{"$f":"APR!I100","v":280.8},0]
[{"$f":"SUBTOTAL(103,C$21:C266)","v":31},"39111501-FF-C02","FLUORESCENT LIGHTING FIXTURES, 1 X 36 WATTS",{"$f":"APR!G101","v":0},{"$f":"APR!H101","v":"set"},{"$f":"APR!I101","v":364},0]
[{"$f":"SUBTOTAL(103,C$21:C267)","v":31},"44122011-FO-F01","FOLDER, FANCY, A4, 50 pieces per bundle",{"$f":"APR!G102","v":0},{"$f":"APR!H102","v":"bundle"},{"$f":"APR!I102","v":234},0]
[{"$f":"SUBTOTAL(103,C$21:C268)","v":31},"44122011-FO-F02","FOLDER, FANCY, legal, 50 pieces per bundle",{"$f":"APR!G103","v":0},{"$f":"APR!H103","v":"bundle"},{"$f":"APR!I103","v":291.2},0]
[{"$f":"SUBTOTAL(103,C$21:C269)","v":31},"44122011-FO-L01","FOLDER, L-TYPE, A4 SIZE, 50 pieces per pack",{"$f":"APR!G104","v":0},{"$f":"APR!H104","v":"pack"},{"$f":"APR!I104","v":166.4},0]
[{"$f":"SUBTOTAL(103,C$21:C270)","v":31},"44122011-FO-L02","FOLDER, L-TYPE, LEGAL SIZE, 50 pieces per pack",{"$f":"APR!G105","v":0},{"$f":"APR!H105","v":"pack"},{"$f":"APR!I105","v":203.84},0]
[{"$f":"SUBTOTAL(103,C$21:C271)","v":31},"44122027-FO-P01","FOLDER, PRESSBOARD, size: 240mm x 370mm (-5mm), 100 pieces per box    ",{"$f":"APR!G106","v":0},{"$f":"APR!H106","v":"box"},{"$f":"APR!I106","v":746.72},0]
[{"$f":"SUBTOTAL(103,C$21:C272)","v":31},"44122011-FO-T01","FOLDER, TAGBOARD, for A4 size documents, \n100 pieces per pack",{"$f":"APR!G107","v":0},{"$f":"APR!H107","v":"pack"},{"$f":"APR!I107","v":179.28},0]
[{"$f":"SUBTOTAL(103,C$21:C273)","v":31},"44122011-FO-T02","FOLDER, TAGBOARD, for legal size documents ,100 pieces per pack        ",{"$f":"APR!G108","v":0},{"$f":"APR!H108","v":"pack"},{"$f":"APR!I108","v":200.37},0]
[{"$f":"SUBTOTAL(103,C$21:C274)","v":31},"47131830-FC-A01","FURNITURE CLEANER, aerosol, 300ml min./can",{"$f":"APR!G109","v":0},{"$f":"APR!H109","v":"can"},{"$f":"APR!I109","v":84.76},0]
[{"$f":"SUBTOTAL(103,C$21:C275)","v":31},"31201610-GL-J01","GLUE, all purpose, gross weight: 200 grams min    ",{"$f":"APR!G110","v":0},{"$f":"APR!H110","v":"jars"},{"$f":"APR!I110","v":44.18},0]
[{"$f":"SUBTOTAL(103,C$21:C276)","v":31},"55101524-RA-H01","HANDBOOK ON RA9184",{"$f":"APR!G111","v":0},{"$f":"APR!H111","v":"book"},{"$f":"APR!I111","v":61.83},0]
[{"$f":"SUBTOTAL(103,C$21:C277)","v":31},"60121138-IL-B01","ILLUSTRATION BOARD, 760MM X 1000MM",{"$f":"APR!G112","v":0},{"$f":"APR!H112","v":"piece"},{"$f":"APR!I112","v":35.049999999999997},0]
[{"$f":"SUBTOTAL(103,C$21:C278)","v":31},"44111515-IC-B01","INDEX CARD BOX, 3X5",{"$f":"APR!G113","v":0},{"$f":"APR!H113","v":"piece"},{"$f":"APR!I113","v":36.4},{"$f":"D278*F278","v":0}]
[{"$f":"SUBTOTAL(103,C$21:C279)","v":31},"44100515-IC-B02","INDEX CARD BOX, 5X8",{"$f":"APR!G114","v":0},{"$f":"APR!H114","v":"piece"},{"$f":"APR!I114","v":55.12},{"$f":"D279*F279","v":0}]
[{"$f":"SUBTOTAL(103,C$21:C280)","v":31},"14111518-IC-R01","INDEX CARD, 3X5, 500 pieces per pack",{"$f":"APR!G115","v":0},{"$f":"APR!H115","v":"pack"},{"$f":"APR!I115","v":51.27},0]
[{"$f":"SUBTOTAL(103,C$21:C281)","v":31},"14111518-IC-R02","INDEX CARD, 5X8, 500 pieces per pack",{"$f":"APR!G116","v":0},{"$f":"APR!H116","v":"pack"},{"$f":"APR!I116","v":139.34},0]
[{"$f":"SUBTOTAL(103,C$21:C282)","v":31},"44122008-IT-T01","INDEX TAB, 5 sets per box",{"$f":"APR!G117","v":0},{"$f":"APR!H117","v":"box"},{"$f":"APR!I117","v":47.9},0]
[{"$f":"SUBTOTAL(103,C$21:C283)","v":31},"12171703-SI-P01","STAMP PAD INK, purple or violet, 50ml (min.)",{"$f":"APR!G118","v":0},{"$f":"APR!H118","v":"bottle"},{"$f":"APR!I118","v":24.63},0]
[{"$f":"SUBTOTAL(103,C$21:C284)","v":31},"10191509-IN-A01","INSECTICIDE, aerosol type, net content: 600ml min ",{"$f":"APR!G119","v":0},{"$f":"APR!H119","v":"can"},{"$f":"APR!I119","v":124.8},0]
[{"$f":"SUBTOTAL(103,C$21:C285)","v":31},"14111609-LL-C01","LOOSELEAF COVER, 50 sets per bundle",{"$f":"APR!G120","v":0},{"$f":"APR!H120","v":"bundle"},{"$f":"APR!I120","v":539.76},0]
[{"$f":"SUBTOTAL(103,C$21:C286)","v":31},"44111515-MF-B02","MAGAZINE FILE BOX, LARGE",{"$f":"APR!G121","v":0},{"$f":"APR!H121","v":"piece"},{"$f":"APR!I121","v":41.6},0]
[{"$f":"SUBTOTAL(103,C$21:C287)","v":31},"60121124-MA-P01","MANILA PAPER, 10 sheets per pack",{"$f":"APR!G122","v":0},{"$f":"APR!H122","v":"pack"},{"$f":"APR!I122","v":26},0]
[{"$f":"SUBTOTAL(103,C$21:C288)","v":31},"44122106-MP-R01","MAP PIN, ROUND HEAD, 100 pieces per case",{"$f":"APR!G123","v":0},{"$f":"APR!H123","v":"case"},{"$f":"APR!I123","v":40.35},0]
[{"$f":"SUBTOTAL(103,C$21:C289)","v":31},"44121716-MA-F01","MARKER, FLUORESCENT, 3 colors per set",{"$f":"APR!G124","v":0},{"$f":"APR!H124","v":"set"},{"$f":"APR!I124","v":35.549999999999997},0]
[{"$f":"SUBTOTAL(103,C$21:C290)","v":31},"44121708-MP-B01","MARKER, PERMANENT, bullet type, black             ",{"$f":"APR!G125","v":0},{"$f":"APR!H125","v":"piece"},{"$f":"APR!I125","v":9.65},{"$f":"D290*F290","v":0}]
[{"$f":"SUBTOTAL(103,C$21:C291)","v":31},"44121708-MP-B02","MARKER, PERMANENT, bullet type, blue              ",{"$f":"APR!G126","v":0},{"$f":"APR!H126","v":"piece"},{"$f":"APR!I126","v":9.65},{"$f":"D291*F291","v":0}]
[{"$f":"SUBTOTAL(103,C$21:C292)","v":31},"44121708-MP-B03","MARKER, PERMANENT, bullet type, red               ",{"$f":"APR!G127","v":0},{"$f":"APR!H127","v":"piece"},{"$f":"APR!I127","v":9.65},0]
[{"$f":"SUBTOTAL(103,C$21:C293)","v":32},"44121708-MW-B01","MARKER, WHITEBOARD, black",{"$f":"APR!G128","v":0},{"$f":"APR!H128","v":"piece"},{"$f":"APR!I128","v":10.28},0]
[{"$f":"SUBTOTAL(103,C$21:C294)","v":33},"44121708-MW-B02","MARKER, WHITEBOARD, blue",{"$f":"APR!G129","v":0},{"$f":"APR!H129","v":"piece"},{"$f":"APR!I129","v":10.28},0]
[{"$f":"SUBTOTAL(103,C$21:C295)","v":34},"44121708-MW-B03","MARKER, WHITEBOARD, red",{"$f":"APR!G130","v":0},{"$f":"APR!H130","v":"piece"},{"$f":"APR!I130","v":10.28},0]
[{"$f":"SUBTOTAL(103,C$21:C296)","v":34},"52161533-ME-P01","MEGAPHONE",{"$f":"APR!G131","v":0},{"$f":"APR!H131","v":"unit"},{"$f":"APR!I131","v":2704},0]
[{"$f":"SUBTOTAL(103,C$21:C297)","v":34},"56101519-TMS02","MONOBLOC, TABLE, BEIGE",{"$f":"APR!G132","v":0},{"$f":"APR!H132","v":"unit"},{"$f":"APR!I132","v":1289.5999999999999},0]
[{"$f":"SUBTOTAL(103,C$21:C298)","v":34},"56101519-TM-S01","MONOBLOC, TABLE, WHITE",{"$f":"APR!G133","v":0},{"$f":"APR!H133","v":"unit"},{"$f":"APR!I133","v":1289.5999999999999},0]
[{"$f":"SUBTOTAL(103,C$21:C299)","v":34},"47121804-MP-B01","MOPBUCKET",{"$f":"APR!G134","v":0},{"$f":"APR!H134","v":"unit"},{"$f":"APR!I134","v":1911},0]
[{"$f":"SUBTOTAL(103,C$21:C300)","v":35},"47131613-MP-H02","MOPHANDLE",{"$f":"APR!G135","v":0},{"$f":"APR!H135","v":"piece"},{"$f":"APR!I135","v":142.47999999999999},0]
[{"$f":"SUBTOTAL(103,C$21:C301)","v":36},"47131619-MP-R01","MOPHEAD, made of rayon, weight: 400 grams min     ",{"$f":"APR!G136","v":0},{"$f":"APR!H136","v":"piece"},{"$f":"APR!I136","v":98.8},0]
[{"$f":"SUBTOTAL(103,C$21:C302)","v":36},"43211708-MO-O01","MOUSE, OPTICAL, USB CONNECTION TYPE, 1 unit in individual box",{"$f":"APR!G137","v":0},{"$f":"APR!H137","v":"unit"},{"$f":"APR!I137","v":127.8},0]
[{"$f":"SUBTOTAL(103,C$21:C303)","v":36},"45111609-MM-P01","MULTIMEDIA PROJECTOR, 4000 min ANSI Lumens        ",{"$f":"APR!G138","v":0},{"$f":"APR!H138","v":"unit"},{"$f":"APR!I138","v":26483.599999999999},0]
[{"$f":"SUBTOTAL(103,C$21:C304)","v":36},"14111514-NB-S01","NOTEBOOK, STENOGRAPHER, spiral, 40 leaves         ",{"$f":"APR!G139","v":0},{"$f":"APR!H139","v":"piece"},{"$f":"APR!I139","v":10.4},0]
[{"$f":"SUBTOTAL(103,C$21:C305)","v":37},"14111514-NP-S02","NOTEPAD, STICK-ON, 2X3, 100 sheets per pad",{"$f":"APR!G140","v":0},{"$f":"APR!H140","v":"pad"},{"$f":"APR!I140","v":31.2},0]
[{"$f":"SUBTOTAL(103,C$21:C306)","v":38},"14111514-NP-S03","NOTEPAD, STICK-ON, 3X3, 100 sheets per pad",{"$f":"APR!G141","v":0},{"$f":"APR!H141","v":"pad"},{"$f":"APR!I141","v":40.54},{"$f":"D306*F306","v":0}]
[{"$f":"SUBTOTAL(103,C$21:C307)","v":39},"14111514-NP-S04","NOTEPAD, STICK-ON, 3X4, 100 sheets per pad",{"$f":"APR!G142","v":0},{"$f":"APR!H142","v":"pad"},{"$f":"APR!I142","v":54.06},{"$f":"D307*F307","v":0}]
[{"$f":"SUBTOTAL(103,C$21:C308)","v":40},"12181601-OL-G01","OIL, GENERAL PURPOSE LUBRICANT, 120ml per bottle",{"$f":"APR!G143","v":0},{"$f":"APR!H143","v":"bottle"},{"$f":"APR!I143","v":36.9},0]
[{"$f":"SUBTOTAL(103,C$21:C309)","v":40},"14111531-PP-R01","PAD PAPER, RULED",{"$f":"APR!G144","v":0},{"$f":"APR!H144","v":"pad"},{"$f":"APR!I144","v":18.260000000000002},0]
[{"$f":"SUBTOTAL(103,C$21:C310)","v":40},"44122104-PC-G01","PAPER CLIP, 32MM, 100 pieces per box\nor 52 grams (min.) (net of box)",{"$f":"APR!G145","v":0},{"$f":"APR!H145","v":"box"},{"$f":"APR!I145","v":6.43},0]
[{"$f":"SUBTOTAL(103,C$21:C311)","v":40},"44122104-PC-J02","PAPER CLIP, 48MM, 100 pieces per box\nor 120 grams (min.) (net of box)",{"$f":"APR!G146","v":0},{"$f":"APR!H146","v":"box"},{"$f":"APR!I146","v":12.85},0]
[{"$f":"SUBTOTAL(103,C$21:C312)","v":40},"44101603-PS-M01","PAPER SHREDDER",{"$f":"APR!G147","v":0},{"$f":"APR!H147","v":"unit"},{"$f":"APR!I147","v":5699.2},0]
[{"$f":"SUBTOTAL(103,C$21:C313)","v":40},"44101601-PT-M01","PAPER TRIMMER CUTTING MACHINE",{"$f":"APR!G148","v":0},{"$f":"APR!H148","v":"unit"},{"$f":"APR!I148","v":7488},0]
[{"$f":"SUBTOTAL(103,C$21:C314)","v":40},"14111507-PP-M01","PAPER, MULTICOPY, 80gsm, size: 210mm x 297mm      ",{"$f":"APR!G149","v":0},{"$f":"APR!H149","v":"ream"},{"$f":"APR!I149","v":112.32},0]
[{"$f":"SUBTOTAL(103,C$21:C315)","v":40},"14111507-PP-M02","PAPER, MULTICOPY, 80gsm, size: 216mm x 330mm      ",{"$f":"APR!G150","v":0},{"$f":"APR!H150","v":"ream"},{"$f":"APR!I150","v":132.02000000000001},0]
[{"$f":"SUBTOTAL(103,C$21:C316)","v":40},"14111507-PP-C01","PAPER, Multi-Purpose (COPY) A4, 70 gsm., 5 reams/box",{"$f":"APR!G151","v":0},{"$f":"APR!H151","v":"ream"},{"$f":"APR!I151","v":95.26},0]
[{"$f":"SUBTOTAL(103,C$21:C317)","v":40},"14111507-PP-C02","PAPER, Multi-Purpose (COPY) Legal, 70 gsm., 5 reams/box",{"$f":"APR!G152","v":0},{"$f":"APR!H152","v":"ream"},{"$f":"APR!I152","v":114.35},0]
[{"$f":"SUBTOTAL(103,C$21:C318)","v":40},"14111503-PA-P01","PAPER, PARCHMENT, 100 sheets per box",{"$f":"APR!G153","v":0},{"$f":"APR!H153","v":"box"},{"$f":"APR!I153","v":88.4},0]
[{"$f":"SUBTOTAL(103,C$21:C319)","v":41},"14111818-TH-P01","PAPER, THERMAL, 210MM X 30M",{"$f":"APR!G154","v":0},{"$f":"APR!H154","v":"roll"},{"$f":"APR!I154","v":29.95},0]
[{"$f":"SUBTOTAL(103,C$21:C320)","v":42},"14111818-TH-P02","PAPER, THERMAL, 216MM X 30M",{"$f":"APR!G155","v":0},{"$f":"APR!H155","v":"roll"},{"$f":"APR!I155","v":31.15},0]
[{"$f":"SUBTOTAL(103,C$21:C321)","v":43},"44121619-PS-M01","PENCIL SHARPENER, 1 piece in individual plastic case",{"$f":"APR!G156","v":0},{"$f":"APR!H156","v":"piece"},{"$f":"APR!I156","v":187.2},0]
[{"$f":"SUBTOTAL(103,C$21:C322)","v":44},"44121706-PE-L01","PENCIL, LEAD WITH ERASER",{"$f":"APR!G157","v":0},{"$f":"APR!H157","v":"box"},{"$f":"APR!I157","v":19.62},0]
[{"$f":"SUBTOTAL(103,C$21:C323)","v":44},"55121905-PH-F01","PHILIPPINE NATIONAL FLAG",{"$f":"APR!G158","v":0},{"$f":"APR!H158","v":"piece"},{"$f":"APR!I158","v":278.72000000000003},0]
[{"$f":"SUBTOTAL(103,C$21:C324)","v":44},"43212102-PR-D02","PRINTER, IMPACT DOT MATRIX, 24 pins, 136 column   ",{"$f":"APR!G159","v":0},{"$f":"APR!H159","v":"unit"},{"$f":"APR!I159","v":18709.599999999999},0]
[{"$f":"SUBTOTAL(103,C$21:C325)","v":44},"43212102-PR-D01","PRINTER, IMPACT DOT MATRIX, 9 pins, 80 columns    ",{"$f":"APR!G160","v":0},{"$f":"APR!H160","v":"unit"},{"$f":"APR!I160","v":5831.52},0]
[{"$f":"SUBTOTAL(103,C$21:C326)","v":44},"43212104-PR-I01","PRINTER, INKJET, WIRELESS",{"$f":"APR!G161","v":0},{"$f":"APR!H161","v":"unit"},{"$f":"APR!I161","v":10000},0]
[{"$f":"SUBTOTAL(103,C$21:C327)","v":44},"43212105-PR-L01","PRINTER, LASER, MONOCHROME",{"$f":"APR!G162","v":0},{"$f":"APR!H162","v":"unit"},{"$f":"APR!I162","v":1237.5999999999999},{"$f":"D327*F327","v":0}]
[{"$f":"SUBTOTAL(103,C$21:C328)","v":45},"44101602-PU-P01","PUNCHER, paper, heavy duty, with two hole guide, 1 piece in individual box",{"$f":"APR!G163","v":0},{"$f":"APR!H163","v":"piece"},{"$f":"APR!I163","v":114.28},{"$f":"D328*F328","v":0}]
[{"$f":"SUBTOTAL(103,C$21:C329)","v":46},"44122106-PP-F02","PUSH PIN, 100 pieces per case",{"$f":"APR!G164","v":0},{"$f":"APR!H164","v":"case"},{"$f":"APR!I164","v":24.96},0]
[{"$f":"SUBTOTAL(103,C$21:C330)","v":47},"47131501-RG-C01","RAGS, ALL COTTON, 32 pieces per kilo per bundle",{"$f":"APR!G165","v":0},{"$f":"APR!H165","v":"bundle"},{"$f":"APR!I165","v":49.69},0]
[{"$f":"SUBTOTAL(103,C$21:C331)","v":47},"14111531-RE-B01","RECORD BOOK, 300 PAGES, size: 214mm x 278mm min   ",{"$f":"APR!G166","v":0},{"$f":"APR!H166","v":"book"},{"$f":"APR!I166","v":60.32},0]
[{"$f":"SUBTOTAL(103,C$21:C332)","v":47},"14111531-RE-B02","RECORD BOOK, 500 PAGES, size: 214mm x 278mm min   ",{"$f":"APR!G167","v":0},{"$f":"APR!H167","v":"book"},{"$f":"APR!I167","v":86.85},0]
[{"$f":"SUBTOTAL(103,C$21:C333)","v":48},"44102606-RI-T01","RIBBON, FOR MANUAL TYPEWRITER, In box, with each spool individually wrapped in plastic",{"$f":"APR!G168","v":0},{"$f":"APR!H168","v":"spool"},{"$f":"APR!I168","v":17.14},0]
[{"$f":"SUBTOTAL(103,C$21:C334)","v":49},"44122037-RB-P07","RING BINDER, PLASTIC, 25MM, 10 pieces per bundle",{"$f":"APR!G169","v":0},{"$f":"APR!H169","v":"bundle"},{"$f":"APR!I169","v":150.80000000000001},0]
[{"$f":"SUBTOTAL(103,C$21:C335)","v":50},"44122037-RB-P09","RING BINDER, PLASTIC, 32MM, 10 pieces per bundle",{"$f":"APR!G170","v":0},{"$f":"APR!H170","v":"bundle"},{"$f":"APR!I170","v":256.87},0]
[{"$f":"SUBTOTAL(103,C$21:C336)","v":51},"44122037-RB-P12","RING BINDER, PLASTIC, 50MM, 10 pieces per bundle",{"$f":"APR!G171","v":0},{"$f":"APR!H171","v":"bundle"},{"$f":"APR!I171","v":291.02999999999997},0]
[{"$f":"SUBTOTAL(103,C$21:C337)","v":51},"44122101-RU-B01","RUBBER BAND, 70mm min lay flat length (#18) ",{"$f":"APR!G172","v":0},{"$f":"APR!H172","v":"box"},{"$f":"APR!I172","v":93.31},0]
[{"$f":"SUBTOTAL(103,C$21:C338)","v":51},"41111604-RU-P02","RULER, PLASTIC, 450MM, 1 piece in individual plastic",{"$f":"APR!G173","v":0},{"$f":"APR!H173","v":"piece"},{"$f":"APR!I173","v":15.48},0]
[{"$f":"SUBTOTAL(103,C$21:C339)","v":52},"44121618-SS-S01","SCISSORS, symmetrical, blade length: 65mm, 1 piece in individual plastic",{"$f":"APR!G174","v":0},{"$f":"APR!H174","v":"pair"},{"$f":"APR!I174","v":13.73},0]
[{"$f":"SUBTOTAL(103,C$21:C340)","v":52},"47131602-SC-N01","SCOURING PAD, 5 pieces per pack",{"$f":"APR!G175","v":0},{"$f":"APR!H175","v":"pack"},{"$f":"APR!I175","v":102.96},0]
[{"$f":"SUBTOTAL(103,C$21:C341)","v":53},"60121524-SP-G01","SIGN PEN, BLACK, liquid/gel ink, 0.5mm needle tip ",{"$f":"APR!G176","v":0},{"$f":"APR!H176","v":"piece"},{"$f":"APR!I176","v":38.1},0]
[{"$f":"SUBTOTAL(103,C$21:C342)","v":54},"60121524-SP-G02","SIGN PEN, BLUE, liquid/gel ink, 0.5mm needle tip  ",{"$f":"APR!G177","v":0},{"$f":"APR!H177","v":"piece"},{"$f":"APR!I177","v":38.1},0]
[{"$f":"SUBTOTAL(103,C$21:C343)","v":55},"60121524-SP-G03","SIGN PEN, RED, liquid/gel ink, 0.5mm needle tip   ",{"$f":"APR!G178","v":0},{"$f":"APR!H178","v":"piece"},{"$f":"APR!I178","v":38.1},0]
[{"$f":"SUBTOTAL(103,C$21:C344)","v":56},"53131608-SB-R01","SOAP, BATHROOM, 90 grams, 1 piece in individual box",{"$f":"APR!G179","v":0},{"$f":"APR!H179","v":"piece"},{"$f":"APR!I179","v":22.36},0]
[{"$f":"SUBTOTAL(103,C$21:C345)","v":57},"44121905-SP-F01","STAMP PAD, FELT, bed dimension: 60mm x 100mm",{"$f":"APR!G180","v":0},{"$f":"APR!H180","v":"piece"},{"$f":"APR!I180","v":27.66},0]
[{"$f":"SUBTOTAL(103,C$21:C346)","v":58},"44121613-SR-P01","STAPLE REMOVER, PLIER TYPE",{"$f":"APR!G181","v":0},{"$f":"APR!H181","v":"piece"},{"$f":"APR!I181","v":18.18},0]
[{"$f":"SUBTOTAL(103,C$21:C347)","v":58},"31151804-SW-H01","STAPLE WIRE, HEAVY DUTY, 23/13",{"$f":"APR!G182","v":0},{"$f":"APR!H182","v":"box"},{"$f":"APR!I182","v":23.4},0]
[{"$f":"SUBTOTAL(103,C$21:C348)","v":58},"31151804-SW-H02","STAPLE WIRE, HEAVY DUTY, 23/17",{"$f":"APR!G183","v":0},{"$f":"APR!H183","v":"box"},{"$f":"APR!I183","v":41.48},0]
[{"$f":"SUBTOTAL(103,C$21:C349)","v":58},"31151804-SW-S01","STAPLE WIRE, STANDARD",{"$f":"APR!G184","v":0},{"$f":"APR!H184","v":"box"},{"$f":"APR!I184","v":18.920000000000002},0]
[{"$f":"SUBTOTAL(103,C$21:C350)","v":58},"44121615-ST-B01","STAPLER, BINDER TYPE",{"$f":"APR!G185","v":0},{"$f":"APR!H185","v":"unit"},{"$f":"APR!I185","v":878.8},0]
[{"$f":"SUBTOTAL(103,C$21:C351)","v":59},"44121615-ST-S01","STAPLER, STANDARD TYPE, load cap: 200 staples min, 1 piece in individual box",{"$f":"APR!G186","v":0},{"$f":"APR!H186","v":"piece"},{"$f":"APR!I186","v":82.16},0]
[{"$f":"SUBTOTAL(103,C$21:C352)","v":59},"44121605-TD-H01","TAPE DISPENSER, HANDHELD",{"$f":"APR!G187","v":0},{"$f":"APR!H187","v":"piece"},{"$f":"APR!I187","v":29.1},0]
[{"$f":"SUBTOTAL(103,C$21:C353)","v":59},"44121605-TD-T01","TAPE DISPENSER, TABLE TOP",{"$f":"APR!G188","v":0},{"$f":"APR!H188","v":"piece"},{"$f":"APR!I188","v":47.72},0]
[{"$f":"SUBTOTAL(103,C$21:C354)","v":59},"31201502-TA-E01","TAPE, ELECTRICAL",{"$f":"APR!G189","v":0},{"$f":"APR!H189","v":"roll"},{"$f":"APR!I189","v":18.2},0]
[{"$f":"SUBTOTAL(103,C$21:C355)","v":59},"14111515-TA-C01","TAPE, FOR ADDING MACHINE",{"$f":"APR!G190","v":0},{"$f":"APR!H190","v":"roll"},{"$f":"APR!I190","v":8.11},0]
[{"$f":"SUBTOTAL(103,C$21:C356)","v":60},"31201503-TA-M01","TAPE, MASKING, width: 24mm (±1mm)                 ",{"$f":"APR!G191","v":0},{"$f":"APR!H191","v":"roll"},{"$f":"APR!I191","v":55.12},0]
[{"$f":"SUBTOTAL(103,C$21:C357)","v":61},"31201503-TA-M02","TAPE, MASKING, width: 48mm (±1mm)                 ",{"$f":"APR!G192","v":0},{"$f":"APR!H192","v":"roll"},{"$f":"APR!I192","v":105.04},0]
[{"$f":"SUBTOTAL(103,C$21:C358)","v":62},"31201517-TA-P01","TAPE, PACKAGING, width: 48mm (±1mm)               ",{"$f":"APR!G193","v":0},{"$f":"APR!H193","v":"roll"},{"$f":"APR!I193","v":32.74},0]
[{"$f":"SUBTOTAL(103,C$21:C359)","v":62},"31201512-TA-T01","TAPE, TRANSPARENT, width: 24mm (±1mm)             ",{"$f":"APR!G194","v":0},{"$f":"APR!H194","v":"roll"},{"$f":"APR!I194","v":10.92},0]
[{"$f":"SUBTOTAL(103,C$21:C360)","v":62},"31201512-TA-T02","TAPE, TRANSPARENT, width: 48mm (±1mm)             ",{"$f":"APR!G195","v":0},{"$f":"APR!H195","v":"roll"},{"$f":"APR!I195","v":26.52},0]
[{"$f":"SUBTOTAL(103,C$21:C361)","v":62},"44103205-TC-A01","TIME CARD, AMANO, 100 pieces per bundle",{"$f":"APR!G196","v":0},{"$f":"APR!H196","v":"bundle"},{"$f":"APR!I196","v":69.47},0]
[{"$f":"SUBTOTAL(103,C$21:C362)","v":62},"14111704-TT-P01","TOILET TISSUE PAPER 2-plys sheets, 150 pulls, 12 rolls in a pack",{"$f":"APR!G197","v":0},{"$f":"APR!H197","v":"pack"},{"$f":"APR!I197","v":67.599999999999994},0]
[{"$f":"SUBTOTAL(103,C$21:C363)","v":62},"47121701-TB-P01","TRASHBAG, plastic, gusseted type, black, 10 pcs per roll/pack         ",{"$f":"APR!G198","v":0},{"$f":"APR!H198","v":"roll"},{"$f":"APR!I198","v":139.88},0]
[{"$f":"SUBTOTAL(103,C$21:C364)","v":62},"31151507-TW-P01","TWINE, PLASTIC",{"$f":"APR!G199","v":0},{"$f":"APR!H199","v":"roll"},{"$f":"APR!I199","v":49.92},0]
[{"$f":"SUBTOTAL(103,C$21:C365)","v":62},"47121702-WB-P01","WASTEBASKET, NON RIGID PLASTIC",{"$f":"APR!G200","v":0},{"$f":"APR!H200","v":"piece"},{"$f":"APR!I200","v":23.9},0]
[{"$f":"SUBTOTAL(103,C$21:C366)","v":62},"43222609-WR-R01","WIRELESS N-ROUTER",{"$f":"APR!G201","v":0},{"$f":"APR!H201","v":"unit"},{"$f":"APR!I201","v":1037.92},0]
[{"$f":"SUBTOTAL(103,C$21:C367)","v":62},"60121124-WR-P02","WRAPPING PAPER, 50 sheets per pack",{"$f":"APR!G202","v":0},{"$f":"APR!H202","v":"pack"},{"$f":"APR!I202","v":128.84},0,"."]
[]
["FOR THE LATEST PRICES AND DETAILED SPECIFICATIONS, PLEASE REFER TO THE ELECTRONIC CATALOGUE @ www.procurementservice.gov.ph/www.philgeps.gov.ph"]
["For verification of balances, call PS-Acctg Division @ Tel. Nos. (02) 563-9351 or email us at accounting@procurementservice.gov.ph"]
["NOTE: ALL SIGNATURES MUST BE OVER PRINTED NAME"]
["STOCKS REQUESTED ARE CERTIFIED TO BE     FUNDS CERTIFIED AVAILABLE:                              APPROVED:"]
["WITHIN APPROVED PROGRAM:"]
[]
[]
[]
["   AGENCY PROPERTY/SUPPLY OFFICER                         AGENCY CHIEF ACCOUNTANT                        AGENCY HEAD/AUTHORIZED SIGNATURE"]
[]
[{"$f":"APR!B215","v":"[  ] FUNDS DEPOSITED WITH PS    [  ] ___________________ CHECK No. ____________________"}]
[{"$f":"APR!B216","v":"IN THE AMOUNT OF: ____________________________________________________________ (P _____________________ ) ENCLOSED"}]
[]
[{"$f":"SUBTOTAL(103,C$21:C382)","v":62},"44121506-EN-P01","ENVELOPE, PAY, 500 pieces per box",{"$f":"APR!G83","v":0},{"$f":"APR!H83","v":"box"},{"$f":"APR!I83","v":119.39},{"$f":"D382*F382","v":0}]
[{"$f":"SUBTOTAL(103,C$21:C383)","v":62},"44111912-ER-B01","ERASER, FELT, FOR BLACKBOARD OR WHITEBOARD",{"$f":"APR!G84","v":0},{"$f":"APR!H84","v":"piece"},{"$f":"APR!I84","v":11.11},{"$f":"D383*F383","v":0}]
[{"$f":"SUBTOTAL(103,C$21:C384)","v":62},"60121534-ER-P01","ERASER, PLASTIC OR RUBBER",{"$f":"APR!G85","v":0},{"$f":"APR!H85","v":"piece"},{"$f":"APR!I85","v":2.29},0]
[{"$f":"SUBTOTAL(103,C$21:C385)","v":62},"43201827-HD-X02","EXTERNAL HARD DRIVE, 1TB, 2.5\"HDD, USB 3.0, 1 unit \nin individual box",{"$f":"APR!G86","v":0},{"$f":"APR!H86","v":"unit"},{"$f":"APR!I86","v":2818.4},0]
[{"$f":"SUBTOTAL(103,C$21:C386)","v":62},"44101714-FX-M01","FACSIMILE MACHINE",{"$f":"APR!G87","v":0},{"$f":"APR!H87","v":"unit"},{"$f":"APR!I87","v":3502.72},0]
[{"$f":"SUBTOTAL(103,C$21:C387)","v":62},"44122118-FA-P01","FASTENER, METAL, 70mm between prongs, 50 sets per box",{"$f":"APR!G88","v":0},{"$f":"APR!H88","v":"box"},{"$f":"APR!I88","v":57.09},0]
[{"$f":"SUBTOTAL(103,C$21:C388)","v":62},"44111515-FO-X01","FILE ORGANIZER, LEGAL",{"$f":"APR!G89","v":0},{"$f":"APR!H89","v":"piece"},{"$f":"APR!I89","v":70.67},0]
[{"$f":"SUBTOTAL(103,C$21:C389)","v":62},"44122018-FT-D01","FILE TAB DIVIDER, A4",{"$f":"APR!G90","v":0},{"$f":"APR!H90","v":"set"},{"$f":"APR!I90","v":12.48},0]
[{"$f":"SUBTOTAL(103,C$21:C390)","v":62},"44122018-FT-D02","FILE TAB DIVIDER, LEGAL",{"$f":"APR!G91","v":0},{"$f":"APR!H91","v":"set"},{"$f":"APR!I91","v":16.64},0]
[{"$f":"SUBTOTAL(103,C$21:C391)","v":62},"46191601-FE-M01","FIRE EXTINGUISHER, DRY CHEMICAL",{"$f":"APR!G92","v":0},{"$f":"APR!H92","v":"unit"},{"$f":"APR!I92","v":1080.56},0]
[{"$f":"SUBTOTAL(103,C$21:C392)","v":62},"46191601-FE-H01","FIRE EXTINGUISHER, PURE HCFC",{"$f":"APR!G93","v":0},{"$f":"APR!H93","v":"unit"},{"$f":"APR!I93","v":4992},0]
[{"$f":"SUBTOTAL(103,C$21:C393)","v":62},"43202101-FD-U01","FLASH DRIVE, 16 GB capacity,1 piece in individual blister pack              ",{"$f":"APR!G94","v":0},{"$f":"APR!H94","v":"piece"},{"$f":"APR!I94","v":194.48},0]
[{"$f":"SUBTOTAL(103,C$21:C394)","v":62},"47131802-FW-L01","FLOOR WAX, LIQUID TYPE, NATURAL",{"$f":"APR!G95","v":0},{"$f":"APR!H95","v":"can"},{"$f":"APR!I95","v":370.5},0]
[{"$f":"SUBTOTAL(103,C$21:C395)","v":62},"47131802-FW-P01","FLOOR WAX, PASTE TYPE, NATURAL",{"$f":"APR!G96","v":0},{"$f":"APR!H96","v":"can"},{"$f":"APR!I96","v":223.6},0]
[{"$f":"SUBTOTAL(103,C$21:C396)","v":62},"47131802-FW-P02","FLOOR WAX, PASTE, RED",{"$f":"APR!G97","v":0},{"$f":"APR!H97","v":"can"},{"$f":"APR!I97","v":202.8},0]
[{"$f":"SUBTOTAL(103,C$21:C397)","v":62},"39101605-FL-T03","FLUORESCENT LAMP, 14 WATTS",{"$f":"APR!G98","v":0},{"$f":"APR!H98","v":"tube"},{"$f":"APR!I98","v":88.4},0]
[{"$f":"SUBTOTAL(103,C$21:C398)","v":62},"39101605-FL-T04","FLUORESCENT LAMP, 28 WATTS",{"$f":"APR!G99","v":0},{"$f":"APR!H99","v":"tube"},{"$f":"APR!I99","v":114.4},0]
[{"$f":"SUBTOTAL(103,C$21:C399)","v":62},"39101628-LT-L01","LINEAR TUBE, LED, 18 WATTS",{"$f":"APR!G100","v":0},{"$f":"APR!H100","v":"tube"},{"$f":"APR!I100","v":280.8},0]
[{"$f":"SUBTOTAL(103,C$21:C400)","v":62},"39111501-FF-C02","FLUORESCENT LIGHTING FIXTURES, 1 X 36 WATTS",{"$f":"APR!G101","v":0},{"$f":"APR!H101","v":"set"},{"$f":"APR!I101","v":364},0]
[{"$f":"SUBTOTAL(103,C$21:C401)","v":62},"44122011-FO-F01","FOLDER, FANCY, A4, 50 pieces per bundle",{"$f":"APR!G102","v":0},{"$f":"APR!H102","v":"bundle"},{"$f":"APR!I102","v":234},0]
[{"$f":"SUBTOTAL(103,C$21:C402)","v":62},"44122011-FO-F02","FOLDER, FANCY, legal, 50 pieces per bundle",{"$f":"APR!G103","v":0},{"$f":"APR!H103","v":"bundle"},{"$f":"APR!I103","v":291.2},0]
[{"$f":"SUBTOTAL(103,C$21:C403)","v":62},"44122011-FO-L01","FOLDER, L-TYPE, A4 SIZE, 50 pieces per pack",{"$f":"APR!G104","v":0},{"$f":"APR!H104","v":"pack"},{"$f":"APR!I104","v":166.4},0]
[{"$f":"SUBTOTAL(103,C$21:C404)","v":62},"44122011-FO-L02","FOLDER, L-TYPE, LEGAL SIZE, 50 pieces per pack",{"$f":"APR!G105","v":0},{"$f":"APR!H105","v":"pack"},{"$f":"APR!I105","v":203.84},0]
[{"$f":"SUBTOTAL(103,C$21:C405)","v":62},"44122027-FO-P01","FOLDER, PRESSBOARD, size: 240mm x 370mm (-5mm), 100 pieces per box    ",{"$f":"APR!G106","v":0},{"$f":"APR!H106","v":"box"},{"$f":"APR!I106","v":746.72},0]
[{"$f":"SUBTOTAL(103,C$21:C406)","v":62},"44122011-FO-T01","FOLDER, TAGBOARD, for A4 size documents, \n100 pieces per pack",{"$f":"APR!G107","v":0},{"$f":"APR!H107","v":"pack"},{"$f":"APR!I107","v":179.28},0]
[{"$f":"SUBTOTAL(103,C$21:C407)","v":62},"44122011-FO-T02","FOLDER, TAGBOARD, for legal size documents ,100 pieces per pack        ",{"$f":"APR!G108","v":0},{"$f":"APR!H108","v":"pack"},{"$f":"APR!I108","v":200.37},0]
[{"$f":"SUBTOTAL(103,C$21:C408)","v":62},"47131830-FC-A01","FURNITURE CLEANER, aerosol, 300ml min./can",{"$f":"APR!G109","v":0},{"$f":"APR!H109","v":"can"},{"$f":"APR!I109","v":84.76},0]
[{"$f":"SUBTOTAL(103,C$21:C409)","v":62},"31201610-GL-J01","GLUE, all purpose, gross weight: 200 grams min    ",{"$f":"APR!G110","v":0},{"$f":"APR!H110","v":"jars"},{"$f":"APR!I110","v":44.18},0]
[{"$f":"SUBTOTAL(103,C$21:C410)","v":62},"55101524-RA-H01","HANDBOOK ON RA9184",{"$f":"APR!G111","v":0},{"$f":"APR!H111","v":"book"},{"$f":"APR!I111","v":61.83},0]
[{"$f":"SUBTOTAL(103,C$21:C411)","v":62},"60121138-IL-B01","ILLUSTRATION BOARD, 760MM X 1000MM",{"$f":"APR!G112","v":0},{"$f":"APR!H112","v":"piece"},{"$f":"APR!I112","v":35.049999999999997},0]
[{"$f":"SUBTOTAL(103,C$21:C412)","v":62},"44111515-IC-B01","INDEX CARD BOX, 3X5",{"$f":"APR!G113","v":0},{"$f":"APR!H113","v":"piece"},{"$f":"APR!I113","v":36.4},{"$f":"D412*F412","v":0}]
[{"$f":"SUBTOTAL(103,C$21:C413)","v":62},"44100515-IC-B02","INDEX CARD BOX, 5X8",{"$f":"APR!G114","v":0},{"$f":"APR!H114","v":"piece"},{"$f":"APR!I114","v":55.12},{"$f":"D413*F413","v":0}]
[{"$f":"SUBTOTAL(103,C$21:C414)","v":62},"14111518-IC-R01","INDEX CARD, 3X5, 500 pieces per pack",{"$f":"APR!G115","v":0},{"$f":"APR!H115","v":"pack"},{"$f":"APR!I115","v":51.27},0]
[{"$f":"SUBTOTAL(103,C$21:C415)","v":62},"14111518-IC-R02","INDEX CARD, 5X8, 500 pieces per pack",{"$f":"APR!G116","v":0},{"$f":"APR!H116","v":"pack"},{"$f":"APR!I116","v":139.34},0]
[{"$f":"SUBTOTAL(103,C$21:C416)","v":62},"44122008-IT-T01","INDEX TAB, 5 sets per box",{"$f":"APR!G117","v":0},{"$f":"APR!H117","v":"box"},{"$f":"APR!I117","v":47.9},0]
[{"$f":"SUBTOTAL(103,C$21:C417)","v":62},"12171703-SI-P01","STAMP PAD INK, purple or violet, 50ml (min.)",{"$f":"APR!G118","v":0},{"$f":"APR!H118","v":"bottle"},{"$f":"APR!I118","v":24.63},0]
[{"$f":"SUBTOTAL(103,C$21:C418)","v":62},"10191509-IN-A01","INSECTICIDE, aerosol type, net content: 600ml min ",{"$f":"APR!G119","v":0},{"$f":"APR!H119","v":"can"},{"$f":"APR!I119","v":124.8},0]
[{"$f":"SUBTOTAL(103,C$21:C419)","v":62},"14111609-LL-C01","LOOSELEAF COVER, 50 sets per bundle",{"$f":"APR!G120","v":0},{"$f":"APR!H120","v":"bundle"},{"$f":"APR!I120","v":539.76},0]
[{"$f":"SUBTOTAL(103,C$21:C420)","v":62},"44111515-MF-B02","MAGAZINE FILE BOX, LARGE",{"$f":"APR!G121","v":0},{"$f":"APR!H121","v":"piece"},{"$f":"APR!I121","v":41.6},0]
[{"$f":"SUBTOTAL(103,C$21:C421)","v":62},"60121124-MA-P01","MANILA PAPER, 10 sheets per pack",{"$f":"APR!G122","v":0},{"$f":"APR!H122","v":"pack"},{"$f":"APR!I122","v":26},0]
[{"$f":"SUBTOTAL(103,C$21:C422)","v":62},"44122106-MP-R01","MAP PIN, ROUND HEAD, 100 pieces per case",{"$f":"APR!G123","v":0},{"$f":"APR!H123","v":"case"},{"$f":"APR!I123","v":40.35},0]
[{"$f":"SUBTOTAL(103,C$21:C423)","v":62},"44121716-MA-F01","MARKER, FLUORESCENT, 3 colors per set",{"$f":"APR!G124","v":0},{"$f":"APR!H124","v":"set"},{"$f":"APR!I124","v":35.549999999999997},0]
[{"$f":"SUBTOTAL(103,C$21:C424)","v":62},"44121708-MP-B01","MARKER, PERMANENT, bullet type, black             ",{"$f":"APR!G125","v":0},{"$f":"APR!H125","v":"piece"},{"$f":"APR!I125","v":9.65},{"$f":"D424*F424","v":0}]
[{"$f":"SUBTOTAL(103,C$21:C425)","v":62},"44121708-MP-B02","MARKER, PERMANENT, bullet type, blue              ",{"$f":"APR!G126","v":0},{"$f":"APR!H126","v":"piece"},{"$f":"APR!I126","v":9.65},{"$f":"D425*F425","v":0}]
[{"$f":"SUBTOTAL(103,C$21:C426)","v":62},"44121708-MP-B03","MARKER, PERMANENT, bullet type, red               ",{"$f":"APR!G127","v":0},{"$f":"APR!H127","v":"piece"},{"$f":"APR!I127","v":9.65},0]
[{"$f":"SUBTOTAL(103,C$21:C427)","v":62},"44121708-MW-B01","MARKER, WHITEBOARD, black",{"$f":"APR!G128","v":0},{"$f":"APR!H128","v":"piece"},{"$f":"APR!I128","v":10.28},0]
[{"$f":"SUBTOTAL(103,C$21:C428)","v":62},"44121708-MW-B02","MARKER, WHITEBOARD, blue",{"$f":"APR!G129","v":0},{"$f":"APR!H129","v":"piece"},{"$f":"APR!I129","v":10.28},0]
[{"$f":"SUBTOTAL(103,C$21:C429)","v":62},"44121708-MW-B03","MARKER, WHITEBOARD, red",{"$f":"APR!G130","v":0},{"$f":"APR!H130","v":"piece"},{"$f":"APR!I130","v":10.28},0]
[{"$f":"SUBTOTAL(103,C$21:C430)","v":62},"52161533-ME-P01","MEGAPHONE",{"$f":"APR!G131","v":0},{"$f":"APR!H131","v":"unit"},{"$f":"APR!I131","v":2704},0]
[{"$f":"SUBTOTAL(103,C$21:C431)","v":62},"56101519-TMS02","MONOBLOC, TABLE, BEIGE",{"$f":"APR!G132","v":0},{"$f":"APR!H132","v":"unit"},{"$f":"APR!I132","v":1289.5999999999999},0]
[{"$f":"SUBTOTAL(103,C$21:C432)","v":62},"56101519-TM-S01","MONOBLOC, TABLE, WHITE",{"$f":"APR!G133","v":0},{"$f":"APR!H133","v":"unit"},{"$f":"APR!I133","v":1289.5999999999999},0]
[{"$f":"SUBTOTAL(103,C$21:C433)","v":62},"47121804-MP-B01","MOPBUCKET",{"$f":"APR!G134","v":0},{"$f":"APR!H134","v":"unit"},{"$f":"APR!I134","v":1911},0]
[{"$f":"SUBTOTAL(103,C$21:C434)","v":62},"47131613-MP-H02","MOPHANDLE",{"$f":"APR!G135","v":0},{"$f":"APR!H135","v":"piece"},{"$f":"APR!I135","v":142.47999999999999},0]
[{"$f":"SUBTOTAL(103,C$21:C435)","v":62},"47131619-MP-R01","MOPHEAD, made of rayon, weight: 400 grams min     ",{"$f":"APR!G136","v":0},{"$f":"APR!H136","v":"piece"},{"$f":"APR!I136","v":98.8},0]
[{"$f":"SUBTOTAL(103,C$21:C436)","v":62},"43211708-MO-O01","MOUSE, OPTICAL, USB CONNECTION TYPE, 1 unit in individual box",{"$f":"APR!G137","v":0},{"$f":"APR!H137","v":"unit"},{"$f":"APR!I137","v":127.8},0]
[{"$f":"SUBTOTAL(103,C$21:C437)","v":62},"45111609-MM-P01","MULTIMEDIA PROJECTOR, 4000 min ANSI Lumens        ",{"$f":"APR!G138","v":0},{"$f":"APR!H138","v":"unit"},{"$f":"APR!I138","v":26483.599999999999},0]
[{"$f":"SUBTOTAL(103,C$21:C438)","v":62},"14111514-NB-S01","NOTEBOOK, STENOGRAPHER, spiral, 40 leaves         ",{"$f":"APR!G139","v":0},{"$f":"APR!H139","v":"piece"},{"$f":"APR!I139","v":10.4},0]
[{"$f":"SUBTOTAL(103,C$21:C439)","v":62},"14111514-NP-S02","NOTEPAD, STICK-ON, 2X3, 100 sheets per pad",{"$f":"APR!G140","v":0},{"$f":"APR!H140","v":"pad"},{"$f":"APR!I140","v":31.2},0]
[{"$f":"SUBTOTAL(103,C$21:C440)","v":62},"14111514-NP-S03","NOTEPAD, STICK-ON, 3X3, 100 sheets per pad",{"$f":"APR!G141","v":0},{"$f":"APR!H141","v":"pad"},{"$f":"APR!I141","v":40.54},{"$f":"D440*F440","v":0}]
[{"$f":"SUBTOTAL(103,C$21:C441)","v":62},"14111514-NP-S04","NOTEPAD, STICK-ON, 3X4, 100 sheets per pad",{"$f":"APR!G142","v":0},{"$f":"APR!H142","v":"pad"},{"$f":"APR!I142","v":54.06},{"$f":"D441*F441","v":0}]
[{"$f":"SUBTOTAL(103,C$21:C442)","v":62},"12181601-OL-G01","OIL, GENERAL PURPOSE LUBRICANT, 120ml per bottle",{"$f":"APR!G143","v":0},{"$f":"APR!H143","v":"bottle"},{"$f":"APR!I143","v":36.9},0]
[{"$f":"SUBTOTAL(103,C$21:C443)","v":62},"14111531-PP-R01","PAD PAPER, RULED",{"$f":"APR!G144","v":0},{"$f":"APR!H144","v":"pad"},{"$f":"APR!I144","v":18.260000000000002},0]
[{"$f":"SUBTOTAL(103,C$21:C444)","v":62},"44122104-PC-G01","PAPER CLIP, 32MM, 100 pieces per box\nor 52 grams (min.) (net of box)",{"$f":"APR!G145","v":0},{"$f":"APR!H145","v":"box"},{"$f":"APR!I145","v":6.43},0]
[{"$f":"SUBTOTAL(103,C$21:C445)","v":62},"44122104-PC-J02","PAPER CLIP, 48MM, 100 pieces per box\nor 120 grams (min.) (net of box)",{"$f":"APR!G146","v":0},{"$f":"APR!H146","v":"box"},{"$f":"APR!I146","v":12.85},0]
[{"$f":"SUBTOTAL(103,C$21:C446)","v":62},"44101603-PS-M01","PAPER SHREDDER",{"$f":"APR!G147","v":0},{"$f":"APR!H147","v":"unit"},{"$f":"APR!I147","v":5699.2},0]
[{"$f":"SUBTOTAL(103,C$21:C447)","v":62},"44101601-PT-M01","PAPER TRIMMER CUTTING MACHINE",{"$f":"APR!G148","v":0},{"$f":"APR!H148","v":"unit"},{"$f":"APR!I148","v":7488},0]
[{"$f":"SUBTOTAL(103,C$21:C448)","v":62},"14111507-PP-M01","PAPER, MULTICOPY, 80gsm, size: 210mm x 297mm      ",{"$f":"APR!G149","v":0},{"$f":"APR!H149","v":"ream"},{"$f":"APR!I149","v":112.32},0]
[{"$f":"SUBTOTAL(103,C$21:C449)","v":62},"14111507-PP-M02","PAPER, MULTICOPY, 80gsm, size: 216mm x 330mm      ",{"$f":"APR!G150","v":0},{"$f":"APR!H150","v":"ream"},{"$f":"APR!I150","v":132.02000000000001},0]
[{"$f":"SUBTOTAL(103,C$21:C450)","v":62},"14111507-PP-C01","PAPER, Multi-Purpose (COPY) A4, 70 gsm., 5 reams/box",{"$f":"APR!G151","v":0},{"$f":"APR!H151","v":"ream"},{"$f":"APR!I151","v":95.26},0]
[{"$f":"SUBTOTAL(103,C$21:C451)","v":62},"14111507-PP-C02","PAPER, Multi-Purpose (COPY) Legal, 70 gsm., 5 reams/box",{"$f":"APR!G152","v":0},{"$f":"APR!H152","v":"ream"},{"$f":"APR!I152","v":114.35},0]
[{"$f":"SUBTOTAL(103,C$21:C452)","v":62},"14111503-PA-P01","PAPER, PARCHMENT, 100 sheets per box",{"$f":"APR!G153","v":0},{"$f":"APR!H153","v":"box"},{"$f":"APR!I153","v":88.4},0]
[{"$f":"SUBTOTAL(103,C$21:C453)","v":62},"14111818-TH-P01","PAPER, THERMAL, 210MM X 30M",{"$f":"APR!G154","v":0},{"$f":"APR!H154","v":"roll"},{"$f":"APR!I154","v":29.95},0]
[{"$f":"SUBTOTAL(103,C$21:C454)","v":62},"14111818-TH-P02","PAPER, THERMAL, 216MM X 30M",{"$f":"APR!G155","v":0},{"$f":"APR!H155","v":"roll"},{"$f":"APR!I155","v":31.15},0]
[{"$f":"SUBTOTAL(103,C$21:C455)","v":62},"44121619-PS-M01","PENCIL SHARPENER, 1 piece in individual plastic case",{"$f":"APR!G156","v":0},{"$f":"APR!H156","v":"piece"},{"$f":"APR!I156","v":187.2},0]
[{"$f":"SUBTOTAL(103,C$21:C456)","v":62},"44121706-PE-L01","PENCIL, LEAD WITH ERASER",{"$f":"APR!G157","v":0},{"$f":"APR!H157","v":"box"},{"$f":"APR!I157","v":19.62},0]
[{"$f":"SUBTOTAL(103,C$21:C457)","v":62},"55121905-PH-F01","PHILIPPINE NATIONAL FLAG",{"$f":"APR!G158","v":0},{"$f":"APR!H158","v":"piece"},{"$f":"APR!I158","v":278.72000000000003},0]
[{"$f":"SUBTOTAL(103,C$21:C458)","v":62},"43212102-PR-D02","PRINTER, IMPACT DOT MATRIX, 24 pins, 136 column   ",{"$f":"APR!G159","v":0},{"$f":"APR!H159","v":"unit"},{"$f":"APR!I159","v":18709.599999999999},0]
[{"$f":"SUBTOTAL(103,C$21:C459)","v":62},"43212102-PR-D01","PRINTER, IMPACT DOT MATRIX, 9 pins, 80 columns    ",{"$f":"APR!G160","v":0},{"$f":"APR!H160","v":"unit"},{"$f":"APR!I160","v":5831.52},0]
[{"$f":"SUBTOTAL(103,C$21:C460)","v":62},"43212104-PR-I01","PRINTER, INKJET, WIRELESS",{"$f":"APR!G161","v":0},{"$f":"APR!H161","v":"unit"},{"$f":"APR!I161","v":10000},0]
[{"$f":"SUBTOTAL(103,C$21:C461)","v":62},"43212105-PR-L01","PRINTER, LASER, MONOCHROME",{"$f":"APR!G162","v":0},{"$f":"APR!H162","v":"unit"},{"$f":"APR!I162","v":1237.5999999999999},{"$f":"D461*F461","v":0}]
[{"$f":"SUBTOTAL(103,C$21:C462)","v":62},"44101602-PU-P01","PUNCHER, paper, heavy duty, with two hole guide, 1 piece in individual box",{"$f":"APR!G163","v":0},{"$f":"APR!H163","v":"piece"},{"$f":"APR!I163","v":114.28},{"$f":"D462*F462","v":0}]
[{"$f":"SUBTOTAL(103,C$21:C463)","v":62},"44122106-PP-F02","PUSH PIN, 100 pieces per case",{"$f":"APR!G164","v":0},{"$f":"APR!H164","v":"case"},{"$f":"APR!I164","v":24.96},0]
[{"$f":"SUBTOTAL(103,C$21:C464)","v":62},"47131501-RG-C01","RAGS, ALL COTTON, 32 pieces per kilo per bundle",{"$f":"APR!G165","v":0},{"$f":"APR!H165","v":"bundle"},{"$f":"APR!I165","v":49.69},0]
[{"$f":"SUBTOTAL(103,C$21:C465)","v":62},"14111531-RE-B01","RECORD BOOK, 300 PAGES, size: 214mm x 278mm min   ",{"$f":"APR!G166","v":0},{"$f":"APR!H166","v":"book"},{"$f":"APR!I166","v":60.32},0]
[{"$f":"SUBTOTAL(103,C$21:C466)","v":62},"14111531-RE-B02","RECORD BOOK, 500 PAGES, size: 214mm x 278mm min   ",{"$f":"APR!G167","v":0},{"$f":"APR!H167","v":"book"},{"$f":"APR!I167","v":86.85},0]
[{"$f":"SUBTOTAL(103,C$21:C467)","v":62},"44102606-RI-T01","RIBBON, FOR MANUAL TYPEWRITER, In box, with each spool individually wrapped in plastic",{"$f":"APR!G168","v":0},{"$f":"APR!H168","v":"spool"},{"$f":"APR!I168","v":17.14},0]
[{"$f":"SUBTOTAL(103,C$21:C468)","v":62},"44122037-RB-P07","RING BINDER, PLASTIC, 25MM, 10 pieces per bundle",{"$f":"APR!G169","v":0},{"$f":"APR!H169","v":"bundle"},{"$f":"APR!I169","v":150.80000000000001},0]
[{"$f":"SUBTOTAL(103,C$21:C469)","v":62},"44122037-RB-P09","RING BINDER, PLASTIC, 32MM, 10 pieces per bundle",{"$f":"APR!G170","v":0},{"$f":"APR!H170","v":"bundle"},{"$f":"APR!I170","v":256.87},0]
[{"$f":"SUBTOTAL(103,C$21:C470)","v":62},"44122037-RB-P12","RING BINDER, PLASTIC, 50MM, 10 pieces per bundle",{"$f":"APR!G171","v":0},{"$f":"APR!H171","v":"bundle"},{"$f":"APR!I171","v":291.02999999999997},0]
[{"$f":"SUBTOTAL(103,C$21:C471)","v":62},"44122101-RU-B01","RUBBER BAND, 70mm min lay flat length (#18) ",{"$f":"APR!G172","v":0},{"$f":"APR!H172","v":"box"},{"$f":"APR!I172","v":93.31},0]
[{"$f":"SUBTOTAL(103,C$21:C472)","v":62},"41111604-RU-P02","RULER, PLASTIC, 450MM, 1 piece in individual plastic",{"$f":"APR!G173","v":0},{"$f":"APR!H173","v":"piece"},{"$f":"APR!I173","v":15.48},0]
[{"$f":"SUBTOTAL(103,C$21:C473)","v":62},"44121618-SS-S01","SCISSORS, symmetrical, blade length: 65mm, 1 piece in individual plastic",{"$f":"APR!G174","v":0},{"$f":"APR!H174","v":"pair"},{"$f":"APR!I174","v":13.73},0]
[{"$f":"SUBTOTAL(103,C$21:C474)","v":62},"47131602-SC-N01","SCOURING PAD, 5 pieces per pack",{"$f":"APR!G175","v":0},{"$f":"APR!H175","v":"pack"},{"$f":"APR!I175","v":102.96},0]
[{"$f":"SUBTOTAL(103,C$21:C475)","v":62},"60121524-SP-G01","SIGN PEN, BLACK, liquid/gel ink, 0.5mm needle tip ",{"$f":"APR!G176","v":0},{"$f":"APR!H176","v":"piece"},{"$f":"APR!I176","v":38.1},0]
[{"$f":"SUBTOTAL(103,C$21:C476)","v":62},"60121524-SP-G02","SIGN PEN, BLUE, liquid/gel ink, 0.5mm needle tip  ",{"$f":"APR!G177","v":0},{"$f":"APR!H177","v":"piece"},{"$f":"APR!I177","v":38.1},0]
[{"$f":"SUBTOTAL(103,C$21:C477)","v":62},"60121524-SP-G03","SIGN PEN, RED, liquid/gel ink, 0.5mm needle tip   ",{"$f":"APR!G178","v":0},{"$f":"APR!H178","v":"piece"},{"$f":"APR!I178","v":38.1},0]
[{"$f":"SUBTOTAL(103,C$21:C478)","v":62},"53131608-SB-R01","SOAP, BATHROOM, 90 grams, 1 piece in individual box",{"$f":"APR!G179","v":0},{"$f":"APR!H179","v":"piece"},{"$f":"APR!I179","v":22.36},0]
[{"$f":"SUBTOTAL(103,C$21:C479)","v":62},"44121905-SP-F01","STAMP PAD, FELT, bed dimension: 60mm x 100mm",{"$f":"APR!G180","v":0},{"$f":"APR!H180","v":"piece"},{"$f":"APR!I180","v":27.66},0]
[{"$f":"SUBTOTAL(103,C$21:C480)","v":62},"44121613-SR-P01","STAPLE REMOVER, PLIER TYPE",{"$f":"APR!G181","v":0},{"$f":"APR!H181","v":"piece"},{"$f":"APR!I181","v":18.18},0]
[{"$f":"SUBTOTAL(103,C$21:C481)","v":62},"31151804-SW-H01","STAPLE WIRE, HEAVY DUTY, 23/13",{"$f":"APR!G182","v":0},{"$f":"APR!H182","v":"box"},{"$f":"APR!I182","v":23.4},0]
[{"$f":"SUBTOTAL(103,C$21:C482)","v":62},"31151804-SW-H02","STAPLE WIRE, HEAVY DUTY, 23/17",{"$f":"APR!G183","v":0},{"$f":"APR!H183","v":"box"},{"$f":"APR!I183","v":41.48},0]
[{"$f":"SUBTOTAL(103,C$21:C483)","v":62},"31151804-SW-S01","STAPLE WIRE, STANDARD",{"$f":"APR!G184","v":0},{"$f":"APR!H184","v":"box"},{"$f":"APR!I184","v":18.920000000000002},0]
[{"$f":"SUBTOTAL(103,C$21:C484)","v":62},"44121615-ST-B01","STAPLER, BINDER TYPE",{"$f":"APR!G185","v":0},{"$f":"APR!H185","v":"unit"},{"$f":"APR!I185","v":878.8},0]
[{"$f":"SUBTOTAL(103,C$21:C485)","v":62},"44121615-ST-S01","STAPLER, STANDARD TYPE, load cap: 200 staples min, 1 piece in individual box",{"$f":"APR!G186","v":0},{"$f":"APR!H186","v":"piece"},{"$f":"APR!I186","v":82.16},0]
[{"$f":"SUBTOTAL(103,C$21:C486)","v":62},"44121605-TD-H01","TAPE DISPENSER, HANDHELD",{"$f":"APR!G187","v":0},{"$f":"APR!H187","v":"piece"},{"$f":"APR!I187","v":29.1},0]
[{"$f":"SUBTOTAL(103,C$21:C487)","v":62},"44121605-TD-T01","TAPE DISPENSER, TABLE TOP",{"$f":"APR!G188","v":0},{"$f":"APR!H188","v":"piece"},{"$f":"APR!I188","v":47.72},0]
[{"$f":"SUBTOTAL(103,C$21:C488)","v":62},"31201502-TA-E01","TAPE, ELECTRICAL",{"$f":"APR!G189","v":0},{"$f":"APR!H189","v":"roll"},{"$f":"APR!I189","v":18.2},0]
[{"$f":"SUBTOTAL(103,C$21:C489)","v":62},"14111515-TA-C01","TAPE, FOR ADDING MACHINE",{"$f":"APR!G190","v":0},{"$f":"APR!H190","v":"roll"},{"$f":"APR!I190","v":8.11},0]
[{"$f":"SUBTOTAL(103,C$21:C490)","v":62},"31201503-TA-M01","TAPE, MASKING, width: 24mm (±1mm)                 ",{"$f":"APR!G191","v":0},{"$f":"APR!H191","v":"roll"},{"$f":"APR!I191","v":55.12},0]
[{"$f":"SUBTOTAL(103,C$21:C491)","v":62},"31201503-TA-M02","TAPE, MASKING, width: 48mm (±1mm)                 ",{"$f":"APR!G192","v":0},{"$f":"APR!H192","v":"roll"},{"$f":"APR!I192","v":105.04},0]
[{"$f":"SUBTOTAL(103,C$21:C492)","v":62},"31201517-TA-P01","TAPE, PACKAGING, width: 48mm (±1mm)               ",{"$f":"APR!G193","v":0},{"$f":"APR!H193","v":"roll"},{"$f":"APR!I193","v":32.74},0]
[{"$f":"SUBTOTAL(103,C$21:C493)","v":63},"31201512-TA-T01","TAPE, TRANSPARENT, width: 24mm (±1mm)             ",{"$f":"APR!G194","v":0},{"$f":"APR!H194","v":"roll"},{"$f":"APR!I194","v":10.92},0]
[{"$f":"SUBTOTAL(103,C$21:C494)","v":64},"31201512-TA-T02","TAPE, TRANSPARENT, width: 48mm (±1mm)             ",{"$f":"APR!G195","v":0},{"$f":"APR!H195","v":"roll"},{"$f":"APR!I195","v":26.52},0]
[{"$f":"SUBTOTAL(103,C$21:C495)","v":64},"44103205-TC-A01","TIME CARD, AMANO, 100 pieces per bundle",{"$f":"APR!G196","v":0},{"$f":"APR!H196","v":"bundle"},{"$f":"APR!I196","v":69.47},0]
[{"$f":"SUBTOTAL(103,C$21:C496)","v":65},"14111704-TT-P01","TOILET TISSUE PAPER 2-plys sheets, 150 pulls, 12 rolls in a pack",{"$f":"APR!G197","v":0},{"$f":"APR!H197","v":"pack"},{"$f":"APR!I197","v":67.599999999999994},0]
[{"$f":"SUBTOTAL(103,C$21:C497)","v":66},"47121701-TB-P01","TRASHBAG, plastic, gusseted type, black, 10 pcs per roll/pack         ",{"$f":"APR!G198","v":0},{"$f":"APR!H198","v":"roll"},{"$f":"APR!I198","v":139.88},0]
[{"$f":"SUBTOTAL(103,C$21:C498)","v":66},"31151507-TW-P01","TWINE, PLASTIC",{"$f":"APR!G199","v":0},{"$f":"APR!H199","v":"roll"},{"$f":"APR!I199","v":49.92},0]
[{"$f":"SUBTOTAL(103,C$21:C499)","v":67},"47121702-WB-P01","WASTEBASKET, NON RIGID PLASTIC",{"$f":"APR!G200","v":0},{"$f":"APR!H200","v":"piece"},{"$f":"APR!I200","v":23.9},0]
[{"$f":"SUBTOTAL(103,C$21:C500)","v":67},"43222609-WR-R01","WIRELESS N-ROUTER",{"$f":"APR!G201","v":0},{"$f":"APR!H201","v":"unit"},{"$f":"APR!I201","v":1037.92},0]
[{"$f":"SUBTOTAL(103,C$21:C501)","v":67},"60121124-WR-P02","WRAPPING PAPER, 50 sheets per pack",{"$f":"APR!G202","v":0},{"$f":"APR!H202","v":"pack"},{"$f":"APR!I202","v":128.84},0,"."]
[]
["FOR THE LATEST PRICES AND DETAILED SPECIFICATIONS, PLEASE REFER TO THE ELECTRONIC CATALOGUE @ www.procurementservice.gov.ph/www.philgeps.gov.ph"]
["For verification of balances, call PS-Acctg Division @ Tel. Nos. (02) 563-9351 or email us at accounting@procurementservice.gov.ph"]
["NOTE: ALL SIGNATURES MUST BE OVER PRINTED NAME"]
["STOCKS REQUESTED ARE CERTIFIED TO BE     FUNDS CERTIFIED AVAILABLE:                              APPROVED:"]
["WITHIN APPROVED PROGRAM:"]
[]
[]
[]
["   AGENCY PROPERTY/SUPPLY OFFICER                         AGENCY CHIEF ACCOUNTANT                        AGENCY HEAD/AUTHORIZED SIGNATURE"]
[]
[{"$f":"APR!B215","v":"[  ] FUNDS DEPOSITED WITH PS    [  ] ___________________ CHECK No. ____________________"}]
[{"$f":"APR!B216","v":"IN THE AMOUNT OF: ____________________________________________________________ (P _____________________ ) ENCLOSED"}]
[]
[{"$f":"SUBTOTAL(103,C$21:C516)","v":67},"44100515-IC-B02","INDEX CARD BOX, 5X8",{"$f":"APR!G114","v":0},{"$f":"APR!H114","v":"piece"},{"$f":"APR!I114","v":55.12},{"$f":"D516*F516","v":0}]
[{"$f":"SUBTOTAL(103,C$21:C517)","v":67},"14111518-IC-R01","INDEX CARD, 3X5, 500 pieces per pack",{"$f":"APR!G115","v":0},{"$f":"APR!H115","v":"pack"},{"$f":"APR!I115","v":51.27},{"$f":"D517*F517","v":0}]
[{"$f":"SUBTOTAL(103,C$21:C518)","v":67},"14111518-IC-R02","INDEX CARD, 5X8, 500 pieces per pack",{"$f":"APR!G116","v":0},{"$f":"APR!H116","v":"pack"},{"$f":"APR!I116","v":139.34},{"$f":"D518*F518","v":0}]
[{"$f":"SUBTOTAL(103,C$21:C519)","v":67},"44122008-IT-T01","INDEX TAB, 5 sets per box",{"$f":"APR!G117","v":0},{"$f":"APR!H117","v":"box"},{"$f":"APR!I117","v":47.9},0]
[{"$f":"SUBTOTAL(103,C$21:C520)","v":67},"12171703-SI-P01","STAMP PAD INK, purple or violet, 50ml (min.)",{"$f":"APR!G118","v":0},{"$f":"APR!H118","v":"bottle"},{"$f":"APR!I118","v":24.63},0]
[{"$f":"SUBTOTAL(103,C$21:C521)","v":67},"10191509-IN-A01","INSECTICIDE, aerosol type, net content: 600ml min ",{"$f":"APR!G119","v":0},{"$f":"APR!H119","v":"can"},{"$f":"APR!I119","v":124.8},0]
[{"$f":"SUBTOTAL(103,C$21:C522)","v":67},"14111609-LL-C01","LOOSELEAF COVER, 50 sets per bundle",{"$f":"APR!G120","v":0},{"$f":"APR!H120","v":"bundle"},{"$f":"APR!I120","v":539.76},0]
[{"$f":"SUBTOTAL(103,C$21:C523)","v":67},"44111515-MF-B02","MAGAZINE FILE BOX, LARGE",{"$f":"APR!G121","v":0},{"$f":"APR!H121","v":"piece"},{"$f":"APR!I121","v":41.6},0]
[{"$f":"SUBTOTAL(103,C$21:C524)","v":67},"60121124-MA-P01","MANILA PAPER, 10 sheets per pack",{"$f":"APR!G122","v":0},{"$f":"APR!H122","v":"pack"},{"$f":"APR!I122","v":26},0]
[{"$f":"SUBTOTAL(103,C$21:C525)","v":67},"44122106-MP-R01","MAP PIN, ROUND HEAD, 100 pieces per case",{"$f":"APR!G123","v":0},{"$f":"APR!H123","v":"case"},{"$f":"APR!I123","v":40.35},0]
[{"$f":"SUBTOTAL(103,C$21:C526)","v":67},"44121716-MA-F01","MARKER, FLUORESCENT, 3 colors per set",{"$f":"APR!G124","v":0},{"$f":"APR!H124","v":"set"},{"$f":"APR!I124","v":35.549999999999997},0]
[{"$f":"SUBTOTAL(103,C$21:C527)","v":67},"44121708-MP-B01","MARKER, PERMANENT, bullet type, black             ",{"$f":"APR!G125","v":0},{"$f":"APR!H125","v":"piece"},{"$f":"APR!I125","v":9.65},{"$f":"D527*F527","v":0}]
[{"$f":"SUBTOTAL(103,C$21:C528)","v":67},"44121708-MP-B02","MARKER, PERMANENT, bullet type, blue              ",{"$f":"APR!G126","v":0},{"$f":"APR!H126","v":"piece"},{"$f":"APR!I126","v":9.65},{"$f":"D528*F528","v":0}]
[{"$f":"SUBTOTAL(103,C$21:C529)","v":67},"44121708-MP-B03","MARKER, PERMANENT, bullet type, red               ",{"$f":"APR!G127","v":0},{"$f":"APR!H127","v":"piece"},{"$f":"APR!I127","v":9.65},0]
[{"$f":"SUBTOTAL(103,C$21:C530)","v":67},"44121708-MW-B01","MARKER, WHITEBOARD, black",{"$f":"APR!G128","v":0},{"$f":"APR!H128","v":"piece"},{"$f":"APR!I128","v":10.28},0]
[{"$f":"SUBTOTAL(103,C$21:C531)","v":67},"44121708-MW-B02","MARKER, WHITEBOARD, blue",{"$f":"APR!G129","v":0},{"$f":"APR!H129","v":"piece"},{"$f":"APR!I129","v":10.28},0]
[{"$f":"SUBTOTAL(103,C$21:C532)","v":67},"44121708-MW-B03","MARKER, WHITEBOARD, red",{"$f":"APR!G130","v":0},{"$f":"APR!H130","v":"piece"},{"$f":"APR!I130","v":10.28},0]
[{"$f":"SUBTOTAL(103,C$21:C533)","v":67},"52161533-ME-P01","MEGAPHONE",{"$f":"APR!G131","v":0},{"$f":"APR!H131","v":"unit"},{"$f":"APR!I131","v":2704},0]
[{"$f":"SUBTOTAL(103,C$21:C534)","v":67},"56101519-TMS02","MONOBLOC, TABLE, BEIGE",{"$f":"APR!G132","v":0},{"$f":"APR!H132","v":"unit"},{"$f":"APR!I132","v":1289.5999999999999},0]
[{"$f":"SUBTOTAL(103,C$21:C535)","v":67},"56101519-TM-S01","MONOBLOC, TABLE, WHITE",{"$f":"APR!G133","v":0},{"$f":"APR!H133","v":"unit"},{"$f":"APR!I133","v":1289.5999999999999},0]
[{"$f":"SUBTOTAL(103,C$21:C536)","v":67},"47121804-MP-B01","MOPBUCKET",{"$f":"APR!G134","v":0},{"$f":"APR!H134","v":"unit"},{"$f":"APR!I134","v":1911},0]
[{"$f":"SUBTOTAL(103,C$21:C537)","v":67},"47131613-MP-H02","MOPHANDLE",{"$f":"APR!G135","v":0},{"$f":"APR!H135","v":"piece"},{"$f":"APR!I135","v":142.47999999999999},0]
[{"$f":"SUBTOTAL(103,C$21:C538)","v":67},"47131619-MP-R01","MOPHEAD, made of rayon, weight: 400 grams min     ",{"$f":"APR!G136","v":0},{"$f":"APR!H136","v":"piece"},{"$f":"APR!I136","v":98.8},0]
[{"$f":"SUBTOTAL(103,C$21:C539)","v":67},"43211708-MO-O01","MOUSE, OPTICAL, USB CONNECTION TYPE, 1 unit in individual box",{"$f":"APR!G137","v":0},{"$f":"APR!H137","v":"unit"},{"$f":"APR!I137","v":127.8},0]
[{"$f":"SUBTOTAL(103,C$21:C540)","v":67},"45111609-MM-P01","MULTIMEDIA PROJECTOR, 4000 min ANSI Lumens        ",{"$f":"APR!G138","v":0},{"$f":"APR!H138","v":"unit"},{"$f":"APR!I138","v":26483.599999999999},0]
[{"$f":"SUBTOTAL(103,C$21:C541)","v":67},"14111514-NB-S01","NOTEBOOK, STENOGRAPHER, spiral, 40 leaves         ",{"$f":"APR!G139","v":0},{"$f":"APR!H139","v":"piece"},{"$f":"APR!I139","v":10.4},0]
[{"$f":"SUBTOTAL(103,C$21:C542)","v":67},"14111514-NP-S02","NOTEPAD, STICK-ON, 2X3, 100 sheets per pad",{"$f":"APR!G140","v":0},{"$f":"APR!H140","v":"pad"},{"$f":"APR!I140","v":31.2},0]
[{"$f":"SUBTOTAL(103,C$21:C543)","v":67},"14111514-NP-S03","NOTEPAD, STICK-ON, 3X3, 100 sheets per pad",{"$f":"APR!G141","v":0},{"$f":"APR!H141","v":"pad"},{"$f":"APR!I141","v":40.54},{"$f":"D543*F543","v":0}]
[{"$f":"SUBTOTAL(103,C$21:C544)","v":67},"14111514-NP-S04","NOTEPAD, STICK-ON, 3X4, 100 sheets per pad",{"$f":"APR!G142","v":0},{"$f":"APR!H142","v":"pad"},{"$f":"APR!I142","v":54.06},{"$f":"D544*F544","v":0}]
[{"$f":"SUBTOTAL(103,C$21:C545)","v":67},"12181601-OL-G01","OIL, GENERAL PURPOSE LUBRICANT, 120ml per bottle",{"$f":"APR!G143","v":0},{"$f":"APR!H143","v":"bottle"},{"$f":"APR!I143","v":36.9},0]
[{"$f":"SUBTOTAL(103,C$21:C546)","v":67},"14111531-PP-R01","PAD PAPER, RULED",{"$f":"APR!G144","v":0},{"$f":"APR!H144","v":"pad"},{"$f":"APR!I144","v":18.260000000000002},0]
[{"$f":"SUBTOTAL(103,C$21:C547)","v":67},"44122104-PC-G01","PAPER CLIP, 32MM, 100 pieces per box\nor 52 grams (min.) (net of box)",{"$f":"APR!G145","v":0},{"$f":"APR!H145","v":"box"},{"$f":"APR!I145","v":6.43},0]
[{"$f":"SUBTOTAL(103,C$21:C548)","v":67},"44122104-PC-J02","PAPER CLIP, 48MM, 100 pieces per box\nor 120 grams (min.) (net of box)",{"$f":"APR!G146","v":0},{"$f":"APR!H146","v":"box"},{"$f":"APR!I146","v":12.85},0]
[{"$f":"SUBTOTAL(103,C$21:C549)","v":67},"44101603-PS-M01","PAPER SHREDDER",{"$f":"APR!G147","v":0},{"$f":"APR!H147","v":"unit"},{"$f":"APR!I147","v":5699.2},0]
[{"$f":"SUBTOTAL(103,C$21:C550)","v":67},"44101601-PT-M01","PAPER TRIMMER CUTTING MACHINE",{"$f":"APR!G148","v":0},{"$f":"APR!H148","v":"unit"},{"$f":"APR!I148","v":7488},0]
[{"$f":"SUBTOTAL(103,C$21:C551)","v":67},"14111507-PP-M01","PAPER, MULTICOPY, 80gsm, size: 210mm x 297mm      ",{"$f":"APR!G149","v":0},{"$f":"APR!H149","v":"ream"},{"$f":"APR!I149","v":112.32},0]
[{"$f":"SUBTOTAL(103,C$21:C552)","v":67},"14111507-PP-M02","PAPER, MULTICOPY, 80gsm, size: 216mm x 330mm      ",{"$f":"APR!G150","v":0},{"$f":"APR!H150","v":"ream"},{"$f":"APR!I150","v":132.02000000000001},0]
[{"$f":"SUBTOTAL(103,C$21:C553)","v":67},"14111507-PP-C01","PAPER, Multi-Purpose (COPY) A4, 70 gsm., 5 reams/box",{"$f":"APR!G151","v":0},{"$f":"APR!H151","v":"ream"},{"$f":"APR!I151","v":95.26},0]
[{"$f":"SUBTOTAL(103,C$21:C554)","v":67},"14111507-PP-C02","PAPER, Multi-Purpose (COPY) Legal, 70 gsm., 5 reams/box",{"$f":"APR!G152","v":0},{"$f":"APR!H152","v":"ream"},{"$f":"APR!I152","v":114.35},0]
[{"$f":"SUBTOTAL(103,C$21:C555)","v":67},"14111503-PA-P01","PAPER, PARCHMENT, 100 sheets per box",{"$f":"APR!G153","v":0},{"$f":"APR!H153","v":"box"},{"$f":"APR!I153","v":88.4},0]
[{"$f":"SUBTOTAL(103,C$21:C556)","v":67},"14111818-TH-P01","PAPER, THERMAL, 210MM X 30M",{"$f":"APR!G154","v":0},{"$f":"APR!H154","v":"roll"},{"$f":"APR!I154","v":29.95},0]
[{"$f":"SUBTOTAL(103,C$21:C557)","v":67},"14111818-TH-P02","PAPER, THERMAL, 216MM X 30M",{"$f":"APR!G155","v":0},{"$f":"APR!H155","v":"roll"},{"$f":"APR!I155","v":31.15},0]
[{"$f":"SUBTOTAL(103,C$21:C558)","v":67},"44121619-PS-M01","PENCIL SHARPENER, 1 piece in individual plastic case",{"$f":"APR!G156","v":0},{"$f":"APR!H156","v":"piece"},{"$f":"APR!I156","v":187.2},0]
[{"$f":"SUBTOTAL(103,C$21:C559)","v":67},"44121706-PE-L01","PENCIL, LEAD WITH ERASER",{"$f":"APR!G157","v":0},{"$f":"APR!H157","v":"box"},{"$f":"APR!I157","v":19.62},0]
[{"$f":"SUBTOTAL(103,C$21:C560)","v":67},"55121905-PH-F01","PHILIPPINE NATIONAL FLAG",{"$f":"APR!G158","v":0},{"$f":"APR!H158","v":"piece"},{"$f":"APR!I158","v":278.72000000000003},0]
[{"$f":"SUBTOTAL(103,C$21:C561)","v":67},"43212102-PR-D02","PRINTER, IMPACT DOT MATRIX, 24 pins, 136 column",{"$f":"APR!G159","v":0},{"$f":"APR!H159","v":"unit"},{"$f":"APR!I159","v":18709.599999999999},0]
[{"$f":"SUBTOTAL(103,C$21:C562)","v":67},"43212102-PR-D01","PRINTER, IMPACT DOT MATRIX, 9 pins, 80 columns",{"$f":"APR!G160","v":0},{"$f":"APR!H160","v":"unit"},{"$f":"APR!I160","v":5831.52},0]
[{"$f":"SUBTOTAL(103,C$21:C563)","v":67},"43212104-PR-I01","PRINTER, INKJET, WIRELESS",{"$f":"APR!G161","v":0},{"$f":"APR!H161","v":"unit"},{"$f":"APR!I161","v":10000},0]
[{"$f":"SUBTOTAL(103,C$21:C564)","v":67},"43212105-PR-L01","PRINTER, LASER, MONOCHROME",{"$f":"APR!G162","v":0},{"$f":"APR!H162","v":"unit"},{"$f":"APR!I162","v":1237.5999999999999},{"$f":"D564*F564","v":0}]
[{"$f":"SUBTOTAL(103,C$21:C565)","v":67},"44101602-PU-P01","PUNCHER, paper, heavy duty, with two hole guide   ",{"$f":"APR!G163","v":0},{"$f":"APR!H163","v":"piece"},{"$f":"APR!I163","v":114.28},{"$f":"D565*F565","v":0}]
[{"$f":"SUBTOTAL(103,C$21:C566)","v":67},"44122106-PP-F02","PUSH PIN",{"$f":"APR!G164","v":0},{"$f":"APR!H164","v":"case"},{"$f":"APR!I164","v":24.96},0]
[{"$f":"SUBTOTAL(103,C$21:C567)","v":67},"47131501-RG-C01","RAGS, ALL COTTON",{"$f":"APR!G165","v":0},{"$f":"APR!H165","v":"bundle"},{"$f":"APR!I165","v":49.69},0]
[{"$f":"SUBTOTAL(103,C$21:C568)","v":67},"14111531-RE-B01","RECORD BOOK, 300 PAGES, size: 214mm x 278mm min   ",{"$f":"APR!G166","v":0},{"$f":"APR!H166","v":"book"},{"$f":"APR!I166","v":60.32},0]
[{"$f":"SUBTOTAL(103,C$21:C569)","v":67},"14111531-RE-B02","RECORD BOOK, 500 PAGES, size: 214mm x 278mm min   ",{"$f":"APR!G167","v":0},{"$f":"APR!H167","v":"book"},{"$f":"APR!I167","v":86.85},0]
[{"$f":"SUBTOTAL(103,C$21:C570)","v":67},"44102606-RI-T01","RIBBON, FOR MANUAL TYPEWRITER",{"$f":"APR!G168","v":0},{"$f":"APR!H168","v":"spool"},{"$f":"APR!I168","v":17.14},0]
[{"$f":"SUBTOTAL(103,C$21:C571)","v":67},"44122037-RB-P07","RING BINDER, PLASTIC, 25MM",{"$f":"APR!G169","v":0},{"$f":"APR!H169","v":"bundle"},{"$f":"APR!I169","v":150.80000000000001},0]
[{"$f":"SUBTOTAL(103,C$21:C572)","v":67},"44122037-RB-P09","RING BINDER, PLASTIC, 32MM",{"$f":"APR!G170","v":0},{"$f":"APR!H170","v":"bundle"},{"$f":"APR!I170","v":256.87},0]
[{"$f":"SUBTOTAL(103,C$21:C573)","v":67},"44122037-RB-P12","RING BINDER, PLASTIC, 50MM",{"$f":"APR!G171","v":0},{"$f":"APR!H171","v":"bundle"},{"$f":"APR!I171","v":291.02999999999997},0]
[{"$f":"SUBTOTAL(103,C$21:C574)","v":67},"44122101-RU-B01","RUBBER BAND, #18",{"$f":"APR!G172","v":0},{"$f":"APR!H172","v":"box"},{"$f":"APR!I172","v":93.31},0]
[{"$f":"SUBTOTAL(103,C$21:C575)","v":67},"41111604-RU-P02","RULER, PLASTIC, 450MM",{"$f":"APR!G173","v":0},{"$f":"APR!H173","v":"piece"},{"$f":"APR!I173","v":15.48},0]
[{"$f":"SUBTOTAL(103,C$21:C576)","v":67},"44121618-SS-S01","SCISSORS",{"$f":"APR!G174","v":0},{"$f":"APR!H174","v":"pair"},{"$f":"APR!I174","v":13.73},0]
[{"$f":"SUBTOTAL(103,C$21:C577)","v":67},"47131602-SC-N01","SCOURING PAD",{"$f":"APR!G175","v":0},{"$f":"APR!H175","v":"pack"},{"$f":"APR!I175","v":102.96},0]
[{"$f":"SUBTOTAL(103,C$21:C578)","v":67},"60121524-SP-G01","SIGN PEN, BLACK, liquid/gel ink, 0.5mm needle tip ",{"$f":"APR!G176","v":0},{"$f":"APR!H176","v":"piece"},{"$f":"APR!I176","v":38.1},0]
[{"$f":"SUBTOTAL(103,C$21:C579)","v":67},"60121524-SP-G02","SIGN PEN, BLUE, liquid/gel ink, 0.5mm needle tip  ",{"$f":"APR!G177","v":0},{"$f":"APR!H177","v":"piece"},{"$f":"APR!I177","v":38.1},0]
[{"$f":"SUBTOTAL(103,C$21:C580)","v":67},"60121524-SP-G03","SIGN PEN, RED, liquid/gel ink, 0.5mm needle tip   ",{"$f":"APR!G178","v":0},{"$f":"APR!H178","v":"piece"},{"$f":"APR!I178","v":38.1},0]
[{"$f":"SUBTOTAL(103,C$21:C581)","v":67},"53131608-SB-R01","SOAP, BATHROOM",{"$f":"APR!G179","v":0},{"$f":"APR!H179","v":"piece"},{"$f":"APR!I179","v":22.36},0]
[{"$f":"SUBTOTAL(103,C$21:C582)","v":67},"44121905-SP-F01","STAMP PAD, FELT",{"$f":"APR!G180","v":0},{"$f":"APR!H180","v":"piece"},{"$f":"APR!I180","v":27.66},0]
[{"$f":"SUBTOTAL(103,C$21:C583)","v":67},"44121613-SR-P01","STAPLE REMOVER, PLIER TYPE",{"$f":"APR!G181","v":0},{"$f":"APR!H181","v":"piece"},{"$f":"APR!I181","v":18.18},0]
[{"$f":"SUBTOTAL(103,C$21:C584)","v":67},"31151804-SW-H01","STAPLE WIRE, HEAVY DUTY, 23/13",{"$f":"APR!G182","v":0},{"$f":"APR!H182","v":"box"},{"$f":"APR!I182","v":23.4},0]
[{"$f":"SUBTOTAL(103,C$21:C585)","v":67},"31151804-SW-H02","STAPLE WIRE, HEAVY DUTY, 23/17",{"$f":"APR!G183","v":0},{"$f":"APR!H183","v":"box"},{"$f":"APR!I183","v":41.48},0]
[{"$f":"SUBTOTAL(103,C$21:C586)","v":67},"31151804-SW-S01","STAPLE WIRE, STANDARD",{"$f":"APR!G184","v":0},{"$f":"APR!H184","v":"box"},{"$f":"APR!I184","v":18.920000000000002},0]
[{"$f":"SUBTOTAL(103,C$21:C587)","v":67},"44121615-ST-B01","STAPLER, BINDER",{"$f":"APR!G185","v":0},{"$f":"APR!H185","v":"unit"},{"$f":"APR!I185","v":878.8},0]
[{"$f":"SUBTOTAL(103,C$21:C588)","v":67},"44121615-ST-S01","STAPLER, STANDARD TYPE, load cap: 200 staples min ",{"$f":"APR!G186","v":0},{"$f":"APR!H186","v":"piece"},{"$f":"APR!I186","v":82.16},0]
[{"$f":"SUBTOTAL(103,C$21:C589)","v":67},"44121605-TD-H01","TAPE DISPENSER, HANDHELD",{"$f":"APR!G187","v":0},{"$f":"APR!H187","v":"piece"},{"$f":"APR!I187","v":29.1},0]
[{"$f":"SUBTOTAL(103,C$21:C590)","v":67},"44121605-TD-T01","TAPE DISPENSER, TABLE TOP",{"$f":"APR!G188","v":0},{"$f":"APR!H188","v":"piece"},{"$f":"APR!I188","v":47.72},0]
[{"$f":"SUBTOTAL(103,C$21:C591)","v":67},"31201502-TA-E01","TAPE, ELECTRICAL",{"$f":"APR!G189","v":0},{"$f":"APR!H189","v":"roll"},{"$f":"APR!I189","v":18.2},0]
[{"$f":"SUBTOTAL(103,C$21:C592)","v":67},"14111515-TA-C01","TAPE, FOR ADDING MACHINE",{"$f":"APR!G190","v":0},{"$f":"APR!H190","v":"roll"},{"$f":"APR!I190","v":8.11},0]
[{"$f":"SUBTOTAL(103,C$21:C593)","v":67},"31201503-TA-M01","TAPE, MASKING, width: 24mm (±1mm)                 ",{"$f":"APR!G191","v":0},{"$f":"APR!H191","v":"roll"},{"$f":"APR!I191","v":55.12},0]
[{"$f":"SUBTOTAL(103,C$21:C594)","v":67},"31201503-TA-M02","TAPE, MASKING, width: 48mm (±1mm)                 ",{"$f":"APR!G192","v":0},{"$f":"APR!H192","v":"roll"},{"$f":"APR!I192","v":105.04},0]
[{"$f":"SUBTOTAL(103,C$21:C595)","v":67},"31201517-TA-P01","TAPE, PACKAGING, width: 48mm (±1mm)               ",{"$f":"APR!G193","v":0},{"$f":"APR!H193","v":"roll"},{"$f":"APR!I193","v":32.74},0]
[{"$f":"SUBTOTAL(103,C$21:C596)","v":67},"31201512-TA-T01","TAPE, TRANSPARENT, width: 24mm (±1mm)             ",{"$f":"APR!G194","v":0},{"$f":"APR!H194","v":"roll"},{"$f":"APR!I194","v":10.92},0]
[{"$f":"SUBTOTAL(103,C$21:C597)","v":67},"31201512-TA-T02","TAPE, TRANSPARENT, width: 48mm (±1mm)             ",{"$f":"APR!G195","v":0},{"$f":"APR!H195","v":"roll"},{"$f":"APR!I195","v":26.52},0]
[{"$f":"SUBTOTAL(103,C$21:C598)","v":67},"44103205-TC-A01","TIME CARD, AMANO",{"$f":"APR!G196","v":0},{"$f":"APR!H196","v":"bundle"},{"$f":"APR!I196","v":69.47},0]
[{"$f":"SUBTOTAL(103,C$21:C599)","v":67},"14111704-TT-P01","TOILET TISSUE PAPER 2-plys sheets, 150 pulls      ",{"$f":"APR!G197","v":0},{"$f":"APR!H197","v":"pack"},{"$f":"APR!I197","v":67.599999999999994},0]
[{"$f":"SUBTOTAL(103,C$21:C600)","v":67},"47121701-TB-P01","TRASHBAG, plastic, gusseted type, black,          ",{"$f":"APR!G198","v":0},{"$f":"APR!H198","v":"roll"},{"$f":"APR!I198","v":139.88},0]
[{"$f":"SUBTOTAL(103,C$21:C601)","v":67},"31151507-TW-P01","TWINE, PLASTIC",{"$f":"APR!G199","v":0},{"$f":"APR!H199","v":"roll"},{"$f":"APR!I199","v":49.92},0]
[{"$f":"SUBTOTAL(103,C$21:C602)","v":67},"47121702-WB-P01","WASTEBASKET, NON RIGID PLASTIC",{"$f":"APR!G200","v":0},{"$f":"APR!H200","v":"piece"},{"$f":"APR!I200","v":23.9},0]
[{"$f":"SUBTOTAL(103,C$21:C603)","v":67},"43222609-WR-R01","WIRELESS N-ROUTER",{"$f":"APR!G201","v":0},{"$f":"APR!H201","v":"unit"},{"$f":"APR!I201","v":1037.92},0]
[{"$f":"SUBTOTAL(103,C$21:C604)","v":67},"60121124-WR-P02","WRAPPING PAPER",{"$f":"APR!G202","v":0},{"$f":"APR!H202","v":"pack"},{"$f":"APR!I202","v":128.84},0,"."]
[]
["FOR THE LATEST PRICES AND DETAILED SPECIFICATIONS, PLEASE REFER TO THE ELECTRONIC CATALOGUE @ www.procurementservice.gov.ph/www.philgeps.gov.ph"]
["For verification of balances, call PS-Acctg Division @ Tel. Nos. (02) 563-9351 or email us at accounting@procurementservice.gov.ph"]
["NOTE: ALL SIGNATURES MUST BE OVER PRINTED NAME"]
["STOCKS REQUESTED ARE CERTIFIED TO BE     FUNDS CERTIFIED AVAILABLE:                              APPROVED:"]
["WITHIN APPROVED PROGRAM:"]
[]
[]
[]
["   AGENCY PROPERTY/SUPPLY OFFICER                         AGENCY CHIEF ACCOUNTANT                        AGENCY HEAD/AUTHORIZED SIGNATURE"]
[]
[{"$f":"APR!B215","v":"[  ] FUNDS DEPOSITED WITH PS    [  ] ___________________ CHECK No. ____________________"}]
[{"$f":"APR!B216","v":"IN THE AMOUNT OF: ____________________________________________________________ (P _____________________ ) ENCLOSED"}]
[]
[{"$f":"SUBTOTAL(103,C$21:C619)","v":67},"44122104-PC-G01","PAPER CLIP, 32MM, 100 pieces per box\nor 52 grams (min.) (net of box)",{"$f":"APR!G145","v":0},{"$f":"APR!H145","v":"box"},{"$f":"APR!I145","v":6.43},{"$f":"D619*F619","v":0}]
[{"$f":"SUBTOTAL(103,C$21:C620)","v":67},"44122104-PC-J02","PAPER CLIP, 48MM, 100 pieces per box\nor 120 grams (min.) (net of box)",{"$f":"APR!G146","v":0},{"$f":"APR!H146","v":"box"},{"$f":"APR!I146","v":12.85},{"$f":"D620*F620","v":0}]
[{"$f":"SUBTOTAL(103,C$21:C621)","v":67},"44101603-PS-M01","PAPER SHREDDER",{"$f":"APR!G147","v":0},{"$f":"APR!H147","v":"unit"},{"$f":"APR!I147","v":5699.2},{"$f":"D621*F621","v":0}]
[{"$f":"SUBTOTAL(103,C$21:C622)","v":67},"44101601-PT-M01","PAPER TRIMMER CUTTING MACHINE",{"$f":"APR!G148","v":0},{"$f":"APR!H148","v":"unit"},{"$f":"APR!I148","v":7488},{"$f":"D622*F622","v":0}]
[{"$f":"SUBTOTAL(103,C$21:C623)","v":67},"14111507-PP-M01","PAPER, MULTICOPY, 80gsm, size: 210mm x 297mm      ",{"$f":"APR!G149","v":0},{"$f":"APR!H149","v":"ream"},{"$f":"APR!I149","v":112.32},0]
[{"$f":"SUBTOTAL(103,C$21:C624)","v":67},"14111507-PP-M02","PAPER, MULTICOPY, 80gsm, size: 216mm x 330mm      ",{"$f":"APR!G150","v":0},{"$f":"APR!H150","v":"ream"},{"$f":"APR!I150","v":132.02000000000001},0]
[{"$f":"SUBTOTAL(103,C$21:C625)","v":67},"14111507-PP-C01","PAPER, Multi-Purpose (COPY) A4, 70 gsm., 5 reams/box",{"$f":"APR!G151","v":0},{"$f":"APR!H151","v":"ream"},{"$f":"APR!I151","v":95.26},0]
[{"$f":"SUBTOTAL(103,C$21:C626)","v":67},"14111507-PP-C02","PAPER, Multi-Purpose (COPY) Legal, 70 gsm., 5 reams/box",{"$f":"APR!G152","v":0},{"$f":"APR!H152","v":"ream"},{"$f":"APR!I152","v":114.35},0]
[{"$f":"SUBTOTAL(103,C$21:C627)","v":67},"14111503-PA-P01","PAPER, PARCHMENT, 100 sheets per box",{"$f":"APR!G153","v":0},{"$f":"APR!H153","v":"box"},{"$f":"APR!I153","v":88.4},0]
[{"$f":"SUBTOTAL(103,C$21:C628)","v":67},"14111818-TH-P01","PAPER, THERMAL, 210MM X 30M",{"$f":"APR!G154","v":0},{"$f":"APR!H154","v":"roll"},{"$f":"APR!I154","v":29.95},0]
[{"$f":"SUBTOTAL(103,C$21:C629)","v":67},"14111818-TH-P02","PAPER, THERMAL, 216MM X 30M",{"$f":"APR!G155","v":0},{"$f":"APR!H155","v":"roll"},{"$f":"APR!I155","v":31.15},0]
[{"$f":"SUBTOTAL(103,C$21:C630)","v":67},"44121619-PS-M01","PENCIL SHARPENER",{"$f":"APR!G156","v":0},{"$f":"APR!H156","v":"piece"},{"$f":"APR!I156","v":187.2},0]
[{"$f":"SUBTOTAL(103,C$21:C631)","v":67},"44121706-PE-L01","PENCIL, LEAD WITH ERASER",{"$f":"APR!G157","v":0},{"$f":"APR!H157","v":"box"},{"$f":"APR!I157","v":19.62},0]
[{"$f":"SUBTOTAL(103,C$21:C632)","v":67},"55121905-PH-F01","PHILIPPINE NATIONAL FLAG",{"$f":"APR!G158","v":0},{"$f":"APR!H158","v":"piece"},{"$f":"APR!I158","v":278.72000000000003},0]
[{"$f":"SUBTOTAL(103,C$21:C633)","v":67},"43212102-PR-D02","PRINTER, IMPACT DOT MATRIX, 24 pins, 136 column",{"$f":"APR!G159","v":0},{"$f":"APR!H159","v":"unit"},{"$f":"APR!I159","v":18709.599999999999},0]
[{"$f":"SUBTOTAL(103,C$21:C634)","v":67},"43212102-PR-D01","PRINTER, IMPACT DOT MATRIX, 9 pins, 80 columns",{"$f":"APR!G160","v":0},{"$f":"APR!H160","v":"unit"},{"$f":"APR!I160","v":5831.52},0]
[{"$f":"SUBTOTAL(103,C$21:C635)","v":67},"43212104-PR-I01","PRINTER, INKJET, WIRELESS",{"$f":"APR!G161","v":0},{"$f":"APR!H161","v":"unit"},{"$f":"APR!I161","v":10000},0]
[{"$f":"SUBTOTAL(103,C$21:C636)","v":67},"43212105-PR-L01","PRINTER, LASER, MONOCHROME",{"$f":"APR!G162","v":0},{"$f":"APR!H162","v":"unit"},{"$f":"APR!I162","v":1237.5999999999999},{"$f":"D636*F636","v":0}]
[{"$f":"SUBTOTAL(103,C$21:C637)","v":67},"44101602-PU-P01","PUNCHER, paper, heavy duty, with two hole guide   ",{"$f":"APR!G163","v":0},{"$f":"APR!H163","v":"piece"},{"$f":"APR!I163","v":114.28},{"$f":"D637*F637","v":0}]
[{"$f":"SUBTOTAL(103,C$21:C638)","v":67},"44122106-PP-F02","PUSH PIN",{"$f":"APR!G164","v":0},{"$f":"APR!H164","v":"case"},{"$f":"APR!I164","v":24.96},0]
[{"$f":"SUBTOTAL(103,C$21:C639)","v":67},"47131501-RG-C01","RAGS, ALL COTTON",{"$f":"APR!G165","v":0},{"$f":"APR!H165","v":"bundle"},{"$f":"APR!I165","v":49.69},0]
[{"$f":"SUBTOTAL(103,C$21:C640)","v":67},"14111531-RE-B01","RECORD BOOK, 300 PAGES, size: 214mm x 278mm min   ",{"$f":"APR!G166","v":0},{"$f":"APR!H166","v":"book"},{"$f":"APR!I166","v":60.32},0]
[{"$f":"SUBTOTAL(103,C$21:C641)","v":67},"14111531-RE-B02","RECORD BOOK, 500 PAGES, size: 214mm x 278mm min   ",{"$f":"APR!G167","v":0},{"$f":"APR!H167","v":"book"},{"$f":"APR!I167","v":86.85},0]
[{"$f":"SUBTOTAL(103,C$21:C642)","v":67},"44102606-RI-T01","RIBBON, FOR MANUAL TYPEWRITER",{"$f":"APR!G168","v":0},{"$f":"APR!H168","v":"spool"},{"$f":"APR!I168","v":17.14},0]
[{"$f":"SUBTOTAL(103,C$21:C643)","v":67},"44122037-RB-P07","RING BINDER, PLASTIC, 25MM",{"$f":"APR!G169","v":0},{"$f":"APR!H169","v":"bundle"},{"$f":"APR!I169","v":150.80000000000001},0]
[{"$f":"SUBTOTAL(103,C$21:C644)","v":67},"44122037-RB-P09","RING BINDER, PLASTIC, 32MM",{"$f":"APR!G170","v":0},{"$f":"APR!H170","v":"bundle"},{"$f":"APR!I170","v":256.87},0]
[{"$f":"SUBTOTAL(103,C$21:C645)","v":67},"44122037-RB-P12","RING BINDER, PLASTIC, 50MM",{"$f":"APR!G171","v":0},{"$f":"APR!H171","v":"bundle"},{"$f":"APR!I171","v":291.02999999999997},0]
[{"$f":"SUBTOTAL(103,C$21:C646)","v":67},"44122101-RU-B01","RUBBER BAND, #18",{"$f":"APR!G172","v":0},{"$f":"APR!H172","v":"box"},{"$f":"APR!I172","v":93.31},0]
[{"$f":"SUBTOTAL(103,C$21:C647)","v":67},"41111604-RU-P02","RULER, PLASTIC, 450MM",{"$f":"APR!G173","v":0},{"$f":"APR!H173","v":"piece"},{"$f":"APR!I173","v":15.48},0]
[{"$f":"SUBTOTAL(103,C$21:C648)","v":67},"44121618-SS-S01","SCISSORS",{"$f":"APR!G174","v":0},{"$f":"APR!H174","v":"pair"},{"$f":"APR!I174","v":13.73},0]
[{"$f":"SUBTOTAL(103,C$21:C649)","v":67},"47131602-SC-N01","SCOURING PAD",{"$f":"APR!G175","v":0},{"$f":"APR!H175","v":"pack"},{"$f":"APR!I175","v":102.96},0]
[{"$f":"SUBTOTAL(103,C$21:C650)","v":67},"60121524-SP-G01","SIGN PEN, BLACK, liquid/gel ink, 0.5mm needle tip ",{"$f":"APR!G176","v":0},{"$f":"APR!H176","v":"piece"},{"$f":"APR!I176","v":38.1},0]
[{"$f":"SUBTOTAL(103,C$21:C651)","v":67},"60121524-SP-G02","SIGN PEN, BLUE, liquid/gel ink, 0.5mm needle tip  ",{"$f":"APR!G177","v":0},{"$f":"APR!H177","v":"piece"},{"$f":"APR!I177","v":38.1},0]
[{"$f":"SUBTOTAL(103,C$21:C652)","v":67},"60121524-SP-G03","SIGN PEN, RED, liquid/gel ink, 0.5mm needle tip   ",{"$f":"APR!G178","v":0},{"$f":"APR!H178","v":"piece"},{"$f":"APR!I178","v":38.1},0]
[{"$f":"SUBTOTAL(103,C$21:C653)","v":67},"53131608-SB-R01","SOAP, BATHROOM",{"$f":"APR!G179","v":0},{"$f":"APR!H179","v":"piece"},{"$f":"APR!I179","v":22.36},0]
[{"$f":"SUBTOTAL(103,C$21:C654)","v":67},"44121905-SP-F01","STAMP PAD, FELT",{"$f":"APR!G180","v":0},{"$f":"APR!H180","v":"piece"},{"$f":"APR!I180","v":27.66},0]
[{"$f":"SUBTOTAL(103,C$21:C655)","v":67},"44121613-SR-P01","STAPLE REMOVER, PLIER TYPE",{"$f":"APR!G181","v":0},{"$f":"APR!H181","v":"piece"},{"$f":"APR!I181","v":18.18},0]
[{"$f":"SUBTOTAL(103,C$21:C656)","v":67},"31151804-SW-H01","STAPLE WIRE, HEAVY DUTY, 23/13",{"$f":"APR!G182","v":0},{"$f":"APR!H182","v":"box"},{"$f":"APR!I182","v":23.4},0]
[{"$f":"SUBTOTAL(103,C$21:C657)","v":67},"31151804-SW-H02","STAPLE WIRE, HEAVY DUTY, 23/17",{"$f":"APR!G183","v":0},{"$f":"APR!H183","v":"box"},{"$f":"APR!I183","v":41.48},0]
[{"$f":"SUBTOTAL(103,C$21:C658)","v":67},"31151804-SW-S01","STAPLE WIRE, STANDARD",{"$f":"APR!G184","v":0},{"$f":"APR!H184","v":"box"},{"$f":"APR!I184","v":18.920000000000002},0]
[{"$f":"SUBTOTAL(103,C$21:C659)","v":67},"44121615-ST-B01","STAPLER, BINDER",{"$f":"APR!G185","v":0},{"$f":"APR!H185","v":"unit"},{"$f":"APR!I185","v":878.8},0]
[{"$f":"SUBTOTAL(103,C$21:C660)","v":67},"44121615-ST-S01","STAPLER, STANDARD TYPE, load cap: 200 staples min ",{"$f":"APR!G186","v":0},{"$f":"APR!H186","v":"piece"},{"$f":"APR!I186","v":82.16},0]
[{"$f":"SUBTOTAL(103,C$21:C661)","v":67},"44121605-TD-H01","TAPE DISPENSER, HANDHELD",{"$f":"APR!G187","v":0},{"$f":"APR!H187","v":"piece"},{"$f":"APR!I187","v":29.1},0]
[{"$f":"SUBTOTAL(103,C$21:C662)","v":67},"44121605-TD-T01","TAPE DISPENSER, TABLE TOP",{"$f":"APR!G188","v":0},{"$f":"APR!H188","v":"piece"},{"$f":"APR!I188","v":47.72},0]
[{"$f":"SUBTOTAL(103,C$21:C663)","v":67},"31201502-TA-E01","TAPE, ELECTRICAL",{"$f":"APR!G189","v":0},{"$f":"APR!H189","v":"roll"},{"$f":"APR!I189","v":18.2},0]
[{"$f":"SUBTOTAL(103,C$21:C664)","v":67},"14111515-TA-C01","TAPE, FOR ADDING MACHINE",{"$f":"APR!G190","v":0},{"$f":"APR!H190","v":"roll"},{"$f":"APR!I190","v":8.11},0]
[{"$f":"SUBTOTAL(103,C$21:C665)","v":67},"31201503-TA-M01","TAPE, MASKING, width: 24mm (±1mm)                 ",{"$f":"APR!G191","v":0},{"$f":"APR!H191","v":"roll"},{"$f":"APR!I191","v":55.12},0]
[{"$f":"SUBTOTAL(103,C$21:C666)","v":67},"31201503-TA-M02","TAPE, MASKING, width: 48mm (±1mm)                 ",{"$f":"APR!G192","v":0},{"$f":"APR!H192","v":"roll"},{"$f":"APR!I192","v":105.04},0]
[{"$f":"SUBTOTAL(103,C$21:C667)","v":67},"31201517-TA-P01","TAPE, PACKAGING, width: 48mm (±1mm)               ",{"$f":"APR!G193","v":0},{"$f":"APR!H193","v":"roll"},{"$f":"APR!I193","v":32.74},0]
[{"$f":"SUBTOTAL(103,C$21:C668)","v":67},"31201512-TA-T01","TAPE, TRANSPARENT, width: 24mm (±1mm)             ",{"$f":"APR!G194","v":0},{"$f":"APR!H194","v":"roll"},{"$f":"APR!I194","v":10.92},0]
[{"$f":"SUBTOTAL(103,C$21:C669)","v":67},"31201512-TA-T02","TAPE, TRANSPARENT, width: 48mm (±1mm)             ",{"$f":"APR!G195","v":0},{"$f":"APR!H195","v":"roll"},{"$f":"APR!I195","v":26.52},0]
[{"$f":"SUBTOTAL(103,C$21:C670)","v":67},"44103205-TC-A01","TIME CARD, AMANO",{"$f":"APR!G196","v":0},{"$f":"APR!H196","v":"bundle"},{"$f":"APR!I196","v":69.47},0]
[{"$f":"SUBTOTAL(103,C$21:C671)","v":67},"14111704-TT-P01","TOILET TISSUE PAPER 2-plys sheets, 150 pulls      ",{"$f":"APR!G197","v":0},{"$f":"APR!H197","v":"pack"},{"$f":"APR!I197","v":67.599999999999994},{"$f":"D671*F671","v":0}]
[{"$f":"SUBTOTAL(103,C$21:C672)","v":67},"47121701-TB-P01","TRASHBAG, plastic, gusseted type, black,          ",{"$f":"APR!G198","v":0},{"$f":"APR!H198","v":"roll"},{"$f":"APR!I198","v":139.88},0]
[{"$f":"SUBTOTAL(103,C$21:C673)","v":67},"31151507-TW-P01","TWINE, PLASTIC",{"$f":"APR!G199","v":0},{"$f":"APR!H199","v":"roll"},{"$f":"APR!I199","v":49.92},0]
[{"$f":"SUBTOTAL(103,C$21:C674)","v":67},"47121702-WB-P01","WASTEBASKET, NON RIGID PLASTIC",{"$f":"APR!G200","v":0},{"$f":"APR!H200","v":"piece"},{"$f":"APR!I200","v":23.9},0]
[{"$f":"SUBTOTAL(103,C$21:C675)","v":67},"43222609-WR-R01","WIRELESS N-ROUTER",{"$f":"APR!G201","v":0},{"$f":"APR!H201","v":"unit"},{"$f":"APR!I201","v":1037.92},0]
[{"$f":"SUBTOTAL(103,C$21:C676)","v":67},"60121124-WR-P02","WRAPPING PAPER",{"$f":"APR!G202","v":0},{"$f":"APR!H202","v":"pack"},{"$f":"APR!I202","v":128.84},0,"."]
[]
["FOR THE LATEST PRICES AND DETAILED SPECIFICATIONS, PLEASE REFER TO THE ELECTRONIC CATALOGUE @ www.procurementservice.gov.ph/www.philgeps.gov.ph"]
["For verification of balances, call PS-Acctg Division @ Tel. Nos. (02) 563-9351 or email us at accounting@procurementservice.gov.ph"]
["NOTE: ALL SIGNATURES MUST BE OVER PRINTED NAME"]
["STOCKS REQUESTED ARE CERTIFIED TO BE     FUNDS CERTIFIED AVAILABLE:                              APPROVED:"]
["WITHIN APPROVED PROGRAM:"]
[]
[]
[]
["   AGENCY PROPERTY/SUPPLY OFFICER                         AGENCY CHIEF ACCOUNTANT                        AGENCY HEAD/AUTHORIZED SIGNATURE"]
[]
[{"$f":"APR!B215","v":"[  ] FUNDS DEPOSITED WITH PS    [  ] ___________________ CHECK No. ____________________"}]
[{"$f":"APR!B216","v":"IN THE AMOUNT OF: ____________________________________________________________ (P _____________________ ) ENCLOSED"}]
[]
[{"$f":"SUBTOTAL(103,C$21:C691)","v":67},"60121524-SP-G01","SIGN PEN, BLACK, liquid/gel ink, 0.5mm needle tip ",{"$f":"APR!G176","v":0},{"$f":"APR!H176","v":"piece"},{"$f":"APR!I176","v":38.1},{"$f":"D691*F691","v":0}]
[{"$f":"SUBTOTAL(103,C$21:C692)","v":67},"60121524-SP-G02","SIGN PEN, BLUE, liquid/gel ink, 0.5mm needle tip  ",{"$f":"APR!G177","v":0},{"$f":"APR!H177","v":"piece"},{"$f":"APR!I177","v":38.1},{"$f":"D692*F692","v":0}]
[{"$f":"SUBTOTAL(103,C$21:C693)","v":67},"60121524-SP-G03","SIGN PEN, RED, liquid/gel ink, 0.5mm needle tip   ",{"$f":"APR!G178","v":0},{"$f":"APR!H178","v":"piece"},{"$f":"APR!I178","v":38.1},{"$f":"D693*F693","v":0}]
[{"$f":"SUBTOTAL(103,C$21:C694)","v":67},"53131608-SB-R01","SOAP, BATHROOM",{"$f":"APR!G179","v":0},{"$f":"APR!H179","v":"piece"},{"$f":"APR!I179","v":22.36},{"$f":"D694*F694","v":0}]
[{"$f":"SUBTOTAL(103,C$21:C695)","v":67},"44121905-SP-F01","STAMP PAD, FELT",{"$f":"APR!G180","v":0},{"$f":"APR!H180","v":"piece"},{"$f":"APR!I180","v":27.66},{"$f":"D695*F695","v":0}]
[{"$f":"SUBTOTAL(103,C$21:C696)","v":67},"44121613-SR-P01","STAPLE REMOVER, PLIER TYPE",{"$f":"APR!G181","v":0},{"$f":"APR!H181","v":"piece"},{"$f":"APR!I181","v":18.18},0]
[{"$f":"SUBTOTAL(103,C$21:C697)","v":67},"31151804-SW-H01","STAPLE WIRE, HEAVY DUTY, 23/13",{"$f":"APR!G182","v":0},{"$f":"APR!H182","v":"box"},{"$f":"APR!I182","v":23.4},0]
[{"$f":"SUBTOTAL(103,C$21:C698)","v":67},"31151804-SW-H02","STAPLE WIRE, HEAVY DUTY, 23/17",{"$f":"APR!G183","v":0},{"$f":"APR!H183","v":"box"},{"$f":"APR!I183","v":41.48},0]
[{"$f":"SUBTOTAL(103,C$21:C699)","v":67},"31151804-SW-S01","STAPLE WIRE, STANDARD",{"$f":"APR!G184","v":0},{"$f":"APR!H184","v":"box"},{"$f":"APR!I184","v":18.920000000000002},0]
[{"$f":"SUBTOTAL(103,C$21:C700)","v":67},"44121615-ST-B01","STAPLER, BINDER",{"$f":"APR!G185","v":0},{"$f":"APR!H185","v":"unit"},{"$f":"APR!I185","v":878.8},0]
[{"$f":"SUBTOTAL(103,C$21:C701)","v":67},"44121615-ST-S01","STAPLER, STANDARD TYPE, load cap: 200 staples min ",{"$f":"APR!G186","v":0},{"$f":"APR!H186","v":"piece"},{"$f":"APR!I186","v":82.16},0]
[{"$f":"SUBTOTAL(103,C$21:C702)","v":67},"44121605-TD-H01","TAPE DISPENSER, HANDHELD",{"$f":"APR!G187","v":0},{"$f":"APR!H187","v":"piece"},{"$f":"APR!I187","v":29.1},0]
[{"$f":"SUBTOTAL(103,C$21:C703)","v":67},"44121605-TD-T01","TAPE DISPENSER, TABLE TOP",{"$f":"APR!G188","v":0},{"$f":"APR!H188","v":"piece"},{"$f":"APR!I188","v":47.72},0]
[{"$f":"SUBTOTAL(103,C$21:C704)","v":67},"31201502-TA-E01","TAPE, ELECTRICAL",{"$f":"APR!G189","v":0},{"$f":"APR!H189","v":"roll"},{"$f":"APR!I189","v":18.2},0]
[{"$f":"SUBTOTAL(103,C$21:C705)","v":67},"14111515-TA-C01","TAPE, FOR ADDING MACHINE",{"$f":"APR!G190","v":0},{"$f":"APR!H190","v":"roll"},{"$f":"APR!I190","v":8.11},0]
[{"$f":"SUBTOTAL(103,C$21:C706)","v":67},"31201503-TA-M01","TAPE, MASKING, width: 24mm (±1mm)                 ",{"$f":"APR!G191","v":0},{"$f":"APR!H191","v":"roll"},{"$f":"APR!I191","v":55.12},0]
[{"$f":"SUBTOTAL(103,C$21:C707)","v":67},"31201503-TA-M02","TAPE, MASKING, width: 48mm (±1mm)                 ",{"$f":"APR!G192","v":0},{"$f":"APR!H192","v":"roll"},{"$f":"APR!I192","v":105.04},0]
[{"$f":"SUBTOTAL(103,C$21:C708)","v":67},"31201517-TA-P01","TAPE, PACKAGING, width: 48mm (±1mm)               ",{"$f":"APR!G193","v":0},{"$f":"APR!H193","v":"roll"},{"$f":"APR!I193","v":32.74},0]
[{"$f":"SUBTOTAL(103,C$21:C709)","v":67},"31201512-TA-T01","TAPE, TRANSPARENT, width: 24mm (±1mm)             ",{"$f":"APR!G194","v":0},{"$f":"APR!H194","v":"roll"},{"$f":"APR!I194","v":10.92},0]
[{"$f":"SUBTOTAL(103,C$21:C710)","v":67},"31201512-TA-T02","TAPE, TRANSPARENT, width: 48mm (±1mm)             ",{"$f":"APR!G195","v":0},{"$f":"APR!H195","v":"roll"},{"$f":"APR!I195","v":26.52},0]
[{"$f":"SUBTOTAL(103,C$21:C711)","v":67},"44103205-TC-A01","TIME CARD, AMANO",{"$f":"APR!G196","v":0},{"$f":"APR!H196","v":"bundle"},{"$f":"APR!I196","v":69.47},0]
[{"$f":"SUBTOTAL(103,C$21:C712)","v":67},"14111704-TT-P01","TOILET TISSUE PAPER 2-plys sheets, 150 pulls      ",{"$f":"APR!G197","v":0},{"$f":"APR!H197","v":"pack"},{"$f":"APR!I197","v":67.599999999999994},0]
[{"$f":"SUBTOTAL(103,C$21:C713)","v":67},"47121701-TB-P01","TRASHBAG, plastic, gusseted type, black,          ",{"$f":"APR!G198","v":0},{"$f":"APR!H198","v":"roll"},{"$f":"APR!I198","v":139.88},0]
[{"$f":"SUBTOTAL(103,C$21:C714)","v":67},"31151507-TW-P01","TWINE, PLASTIC",{"$f":"APR!G199","v":0},{"$f":"APR!H199","v":"roll"},{"$f":"APR!I199","v":49.92},0]
[{"$f":"SUBTOTAL(103,C$21:C715)","v":67},"47121702-WB-P01","WASTEBASKET, NON RIGID PLASTIC",{"$f":"APR!G200","v":0},{"$f":"APR!H200","v":"piece"},{"$f":"APR!I200","v":23.9},0]
[{"$f":"SUBTOTAL(103,C$21:C716)","v":67},"43222609-WR-R01","WIRELESS N-ROUTER",{"$f":"APR!G201","v":0},{"$f":"APR!H201","v":"unit"},{"$f":"APR!I201","v":1037.92},0]
[{"$f":"SUBTOTAL(103,C$21:C717)","v":67},"60121124-WR-P02","WRAPPING PAPER",{"$f":"APR!G202","v":0},{"$f":"APR!H202","v":"pack"},{"$f":"APR!I202","v":128.84},0]
[]
[]
[]
[]
[]
[]
[]
[]
[]
[]
[]
[]
[]
[]
[]
[]
[]
[]
[]
[]
[]
[]
[]
[]
[]
[]
[]
[]
[]
[]
[]
[null,null,null,"TOTAL ORDERED AMOUNT",null,null,{"$f":"APR!J203","v":0}]
["FOR THE LATEST PRICES AND DETAILED SPECIFICATIONS, PLEASE REFER TO THE ELECTRONIC CATALOGUE @ www.procurementservice.gov.ph/www.philgeps.gov.ph"]
["For verification of balances, call PS-Acctg Division @ Tel. Nos. (02) 563-9351 or email us at accounting@procurementservice.gov.ph"]
["NOTE: ALL SIGNATURES MUST BE OVER PRINTED NAME"]
["STOCKS REQUESTED ARE CERTIFIED TO BE     FUNDS CERTIFIED AVAILABLE:                              APPROVED:"]
["WITHIN APPROVED PROGRAM:"]
[]
[]
[]
["   AGENCY PROPERTY/SUPPLY OFFICER                         AGENCY CHIEF ACCOUNTANT                        AGENCY HEAD/AUTHORIZED SIGNATURE"]
[]
[{"$f":"APR!B215","v":"[  ] FUNDS DEPOSITED WITH PS    [  ] ___________________ CHECK No. ____________________"}]
[{"$f":"APR!B216","v":"IN THE AMOUNT OF: ____________________________________________________________ (P _____________________ ) ENCLOSED"}]

{"sheet":"APRBulk","index":3,"n_rows":761,"n_cols":7,"rows_kept":761,"cut":false,"hidden":false,"merged":[[607,0,607,6],[679,0,679,6],[751,0,751,6],[678,0,678,6],[510,0,510,6],[512,0,512,6],[513,0,513,6],[605,0,605,6],[606,0,606,6],[608,0,608,6],[612,0,612,6],[613,0,613,6],[615,0,615,6],[616,0,616,6],[677,0,677,6],[760,0,760,6],[680,0,680,6],[684,0,684,6],[685,0,685,6],[687,0,687,6],[688,0,688,6],[749,0,749,6],[750,0,750,6],[752,0,752,6],[756,0,756,6],[757,0,757,6],[759,0,759,6],[12,1,12,4],[14,1,14,4],[17,0,17,6],[18,0,19,0],[18,1,19,1],[18,2,19,2],[18,3,18,6],[13,1,13,5],[15,1,15,6],[16,1,16,6],[203,0,203,6],[204,0,204,6],[206,0,206,6],[210,0,210,6],[211,0,211,6],[205,0,205,6],[4,0,4,3],[4,5,4,6],[1,0,1,1],[1,4,1,5],[2,0,2,1],[2,4,2,5],[3,0,3,1],[1,2,1,3],[2,2,2,3],[3,2,3,3],[509,0,509,6],[214,0,214,6],[368,0,368,6],[213,0,213,6],[369,0,369,6],[371,0,371,6],[375,0,375,6],[376,0,376,6],[378,0,378,6],[379,0,379,6],[502,0,502,6],[503,0,503,6],[505,0,505,6],[370,0,370,6],[504,0,504,6]]}
["APR FORM revised May 2015 ",null,null,null,null,null,"FORM NO. 001-B"]
["AGENCY NAME",null,"A",null,"AGENCY ACCOUNT CODE",null,"A"]
["ADDRESS",null,"A",null,"AGENCY CONTROL No.",null,{"$f":"IF(APR!L3<>\"\",APR!L3,\"\")","v":""}]
["TEL. NOS.",null,"A",null,"DATE PREPARED",null,{"$f":"IF(APR!L4<>\"\",APR!L4,\"\")","v":""}]
["AGENCY PROCUREMENT REQUEST",null,null,null,"PS APR No."]
[]
["To:","PROCUREMENT SERVICE"]
[null,"DBM Compound, RR Road"]
[null,"Cristobal St., Paco, Manila"]
[]
[null,"PLEASE INDICATE (X) APPROPRIATE BOX ON ACTION REQUESTED ON THE ITEMS LISTED BELOW"]
[]
[null,"[  ]  Please issue common-use supplies/materials as indicated below"]
[null,"Mode of delivery: [  ] Pick-up (Fast Lane)   [  ] Pick-up (Schedule)   [  ] Scheduled Delivery on ________________________"]
[]
[null,"In case fund is not sufficient: [  ] Reduce Quantity           [  ] Charge to Unutilized Deposit, APR No.: ___________ Date: ____________"]
[null,"( * Please verify with PS-Accounting prior to your transaction date)"]
[]
[null,"ITEM CODE","ITEM DESCRIPTION/SPECIFICATIONS","BIG BOX"]
[null,null,null,"QTY","UNIT",{"$f":"CATALOGUE!H4","v":"UNIT PRICE\n(as of 12/01/2016)"}," AMOUNT"]
[{"$f":"SUBTOTAL(103,C$21:C21)","v":1},"13111203-AC-F01","ACETATE",{"$f":"APR!K21","v":0},{"$f":"APR!L21","v":"roll"},{"$f":"APR!M21","v":624},{"$f":"D21*F21","v":0}]
[{"$f":"SUBTOTAL(103,C$21:C22)","v":2},"47131812-AF-A01","AIR FRESHENER, aerosol, 280ml/150g min            ",{"$f":"APR!K22","v":0},{"$f":"APR!L22","v":"box"},{"$f":"APR!M22","v":998.4},0]
[{"$f":"SUBTOTAL(103,C$21:C23)","v":3},"12191601-AL-E01","ALCOHOL, ethyl, 68%-70%, scented, 500ml (-5ml)",{"$f":"APR!K23","v":0},{"$f":"APR!L23","v":"box"},{"$f":"APR!M23","v":1721.52},0]
[{"$f":"SUBTOTAL(103,C$21:C24)","v":4},"39111801-BA-F02","BALLAST, 36 WATTS",{"$f":"APR!K24","v":0},{"$f":"APR!L24","v":"box"},{"$f":"APR!M24","v":1944.28},0]
[{"$f":"SUBTOTAL(103,C$21:C25)","v":5},"26111702-BT-A02","BATTERY, dry cell, AA",{"$f":"APR!K25","v":0},{"$f":"APR!L25","v":"box"},{"$f":"APR!M25","v":195},0]
[{"$f":"SUBTOTAL(103,C$21:C26)","v":6},"26111702-BT-A01","BATTERY, dry cell, AAA",{"$f":"APR!K26","v":0},{"$f":"APR!L26","v":"box"},{"$f":"APR!M26","v":184.6},0]
[{"$f":"SUBTOTAL(103,C$21:C27)","v":7},"26111702-BT-A03","BATTERY, dry cell, D",{"$f":"APR!K27","v":0},{"$f":"APR!L27","v":"box"},{"$f":"APR!M27","v":884},0]
[{"$f":"SUBTOTAL(103,C$21:C28)","v":8},"44101602-PB-M01","BINDING AND PUNCHING MACHINE",{"$f":"APR!K28","v":0},{"$f":"APR!L28","v":"unit"},{"$f":"APR!M28","v":10400},0]
[{"$f":"SUBTOTAL(103,C$21:C29)","v":9},"47131604-BR-S01","BROOM, SOFT (TAMBO), weight: 200g min tiger grass ",{"$f":"APR!K29","v":0},{"$f":"APR!L29","v":"bundle"},{"$f":"APR!M29","v":2210},0]
[{"$f":"SUBTOTAL(103,C$21:C30)","v":10},"47131604-BR-T01","BROOM, STICK (TINGTING)",{"$f":"APR!K30","v":0},{"$f":"APR!L30","v":"bundle"},{"$f":"APR!M30","v":598},0]
[{"$f":"SUBTOTAL(103,C$21:C31)","v":11},"44101807-CA-C01","CALCULATOR, COMPACT, electronic, 12 digits cap    ",{"$f":"APR!K31","v":0},{"$f":"APR!L31","v":"carton"},{"$f":"APR!M31","v":5408},0]
[{"$f":"SUBTOTAL(103,C$21:C32)","v":12},"44101810-CA-D01","CALCULATOR, MINI-PRINTING",{"$f":"APR!K32","v":0},{"$f":"APR!L32","v":"pack"},{"$f":"APR!M32","v":18616},0]
[{"$f":"SUBTOTAL(103,C$21:C33)","v":13},"44101810-CA-D02","CALCULATOR, PRINTING, DESKTOP",{"$f":"APR!K33","v":0},{"$f":"APR!L33","v":"pack"},{"$f":"APR!M33","v":11793.6},0]
[{"$f":"SUBTOTAL(103,C$21:C34)","v":14},"44101807-CA-S01","CALCULATOR, SCIENTIFIC",{"$f":"APR!K34","v":0},{"$f":"APR!L34","v":"carton"},{"$f":"APR!M34","v":10353.6},0]
[{"$f":"SUBTOTAL(103,C$21:C35)","v":15},"13111201-CF-P01","CARBON FILM, A4 SIZE",{"$f":"APR!K35","v":0},{"$f":"APR!L35","v":"carton"},{"$f":"APR!M35","v":9879},0]
[{"$f":"SUBTOTAL(103,C$21:C36)","v":16},"13111201-CF-P02","CARBON FILM, PE, black, size 216mm x 330mm        ",{"$f":"APR!K36","v":0},{"$f":"APR!L36","v":"carton"},{"$f":"APR!M36","v":10140},0]
[{"$f":"SUBTOTAL(103,C$21:C37)","v":17},"14111525-CA-A01","CARTOLINA, ASSORTED COLORS",{"$f":"APR!K37","v":0},{"$f":"APR!L37","v":"bundle"},{"$f":"APR!M37","v":322.39999999999998},0]
[{"$f":"SUBTOTAL(103,C$21:C38)","v":18},"14111525-CA-W01","CARTOLINA, WHITE",{"$f":"APR!K38","v":0},{"$f":"APR!L38","v":"bundle"},{"$f":"APR!M38","v":260},0]
[{"$f":"SUBTOTAL(103,C$21:C39)","v":19},"56101504-CM-B01","CHAIR, MONOBLOC, BEIGE, with backrest, w/o armrest",{"$f":"APR!K39","v":0},{"$f":"APR!L39","v":"stack"},{"$f":"APR!M39","v":6367},0]
[{"$f":"SUBTOTAL(103,C$21:C40)","v":20},"56101504-CM-W01","CHAIR, MONOBLOC, WHITE, with backrest, w/o armrest",{"$f":"APR!K40","v":0},{"$f":"APR!L40","v":"stack"},{"$f":"APR!M40","v":6370},0]
[{"$f":"SUBTOTAL(103,C$21:C41)","v":21},"44121710-CH-W01","CHALK, WHITE ENAMEL",{"$f":"APR!K41","v":0},{"$f":"APR!L41","v":"carton"},{"$f":"APR!M41","v":775.8},0]
[{"$f":"SUBTOTAL(103,C$21:C42)","v":22},"47131829-TB-C01","CLEANER, TOILET BOWL AND URINAL",{"$f":"APR!K42","v":0},{"$f":"APR!L42","v":"box"},{"$f":"APR!M42","v":499.2},0]
[{"$f":"SUBTOTAL(103,C$21:C43)","v":23},"47131805-CL-P01","CLEANSER, SCOURING POWDER",{"$f":"APR!K43","v":0},{"$f":"APR!L43","v":"box"},{"$f":"APR!M43","v":1020.96},0]
[{"$f":"SUBTOTAL(103,C$21:C44)","v":24},"60121413-CB-P01","CLEARBOOK, A4 SIZE",{"$f":"APR!K44","v":0},{"$f":"APR!L44","v":"box"},{"$f":"APR!M44","v":474.24},0]
[{"$f":"SUBTOTAL(103,C$21:C45)","v":25},"60121413-CB-P02","CLEARBOOK, LEGAL",{"$f":"APR!K45","v":0},{"$f":"APR!L45","v":"box"},{"$f":"APR!M45","v":524.16},0]
[{"$f":"SUBTOTAL(103,C$21:C46)","v":26},"44122105-BF-C01","CLIP, BACKFOLD, 19MM",{"$f":"APR!K46","v":0},{"$f":"APR!L46","v":"carton"},{"$f":"APR!M46","v":364},0]
[{"$f":"SUBTOTAL(103,C$21:C47)","v":27},"44122105-BF-C02","CLIP, BACKFOLD, 25MM",{"$f":"APR!K47","v":0},{"$f":"APR!L47","v":"carton"},{"$f":"APR!M47","v":520},0]
[{"$f":"SUBTOTAL(103,C$21:C48)","v":28},"44122105-BF-C03","CLIP, BACKFOLD, 32MM",{"$f":"APR!K48","v":0},{"$f":"APR!L48","v":"carton"},{"$f":"APR!M48","v":956},0]
[{"$f":"SUBTOTAL(103,C$21:C49)","v":29},"44122105-BF-C04","CLIP, BACKFOLD, 50MM",{"$f":"APR!K49","v":0},{"$f":"APR!L49","v":"carton"},{"$f":"APR!M49","v":1819},0]
[{"$f":"SUBTOTAL(103,C$21:C50)","v":30},"44122105-BD-C01","CLIP, BULLDOG",{"$f":"APR!K50","v":0},{"$f":"APR!L50","v":"box"},{"$f":"APR!M50","v":299.52},0]
[{"$f":"SUBTOTAL(103,C$21:C51)","v":31},"14111513-CO-P04","COLUMNAR PAD, 18 COLS.",{"$f":"APR!K51","v":0},{"$f":"APR!L51","v":"bundle"},{"$f":"APR!M51","v":655.20000000000005},0]
[{"$f":"SUBTOTAL(103,C$21:C52)","v":31},"39101619-FL-C01","COMPACT FLUORESCENT LAMP, 18 WATTS",{"$f":"APR!K52","v":0},{"$f":"APR!L52","v":"carton"},{"$f":"APR!M52","v":4664.5},0]
[{"$f":"SUBTOTAL(103,C$21:C53)","v":31},"14111506-CF-L11","CONTINUOUS FORM, 1 PLY, 280 x 241mm               ",{"$f":"APR!K53","v":0},{"$f":"APR!L53","v":"box"},{"$f":"APR!M53","v":630.76},0]
[{"$f":"SUBTOTAL(103,C$21:C54)","v":31},"14111506-CF-L21","CONTINUOUS FORM, 2 PLY, 280 x 241mm",{"$f":"APR!K54","v":0},{"$f":"APR!L54","v":"box"},{"$f":"APR!M54","v":716.04},0]
[{"$f":"SUBTOTAL(103,C$21:C55)","v":31},"14111506-CF-L31","CONTINUOUS FORM, 3 PLY, 280 x 241mm",{"$f":"APR!K55","v":0},{"$f":"APR!L55","v":"box"},{"$f":"APR!M55","v":596.79999999999995},0]
[{"$f":"SUBTOTAL(103,C$21:C56)","v":31},"14111506-CF-L12","CONTINUOUS FORM, 1 PLY, 280MM X 378MM",{"$f":"APR!K56","v":0},{"$f":"APR!L56","v":"box"},{"$f":"APR!M56","v":950.3},0]
[{"$f":"SUBTOTAL(103,C$21:C57)","v":31},"14111506-CF-L22","CONTINUOUS FORM, 2 PLY, 280MM X 378MM",{"$f":"APR!K57","v":0},{"$f":"APR!L57","v":"box"},{"$f":"APR!M57","v":1220.96},0]
[{"$f":"SUBTOTAL(103,C$21:C58)","v":31},"14111506-CF-L32","CONTINUOUS FORM, 3 PLY, 280MM X 378MM",{"$f":"APR!K58","v":0},{"$f":"APR!L58","v":"box"},{"$f":"APR!M58","v":958.15},0]
[{"$f":"SUBTOTAL(103,C$21:C59)","v":31},"44121801-CT-R01","CORRECTION TAPE",{"$f":"APR!K59","v":0},{"$f":"APR!L59","v":"box"},{"$f":"APR!M59","v":1560},0]
[{"$f":"SUBTOTAL(103,C$21:C60)","v":31},"44121612-BL-H01","CUTTER BLADE",{"$f":"APR!K60","v":0},{"$f":"APR!L60","v":"box"},{"$f":"APR!M60","v":183.8},0]
[{"$f":"SUBTOTAL(103,C$21:C61)","v":31},"44121612-CU-H01","CUTTER KNIFE",{"$f":"APR!K61","v":0},{"$f":"APR!L61","v":"box"},{"$f":"APR!M61","v":474.24},0]
[{"$f":"SUBTOTAL(103,C$21:C62)","v":31},"44111515-DF-B01","DATA FILE BOX, made of chipboard, with closed ends",{"$f":"APR!K62","v":0},{"$f":"APR!L62","v":"bundle"},{"$f":"APR!M62","v":558.24},0]
[{"$f":"SUBTOTAL(103,C$21:C63)","v":31},"44122011-DF-F01","DATA FOLDER, made of chipboard, taglia lock       ",{"$f":"APR!K63","v":0},{"$f":"APR!L63","v":"bundle"},{"$f":"APR!M63","v":411.84},0]
[{"$f":"SUBTOTAL(103,C$21:C64)","v":31},"44103202-DS-M01","DATING AND STAMPING MACHINE",{"$f":"APR!K64","v":0},{"$f":"APR!L64","v":"box"},{"$f":"APR!M64","v":5740.56},0]
[{"$f":"SUBTOTAL(103,C$21:C65)","v":31},"47131811-DE-P02","DETERGENT POWDER, all purpose, 1kg per plastic pouch          ",{"$f":"APR!K65","v":0},{"$f":"APR!L65","v":"sack"},{"$f":"APR!M65","v":935.75},0]
[{"$f":"SUBTOTAL(103,C$21:C66)","v":31},"52161535-DV-R01","DIGITAL VOICE RECORDER, memory: 4GB (expandable)",{"$f":"APR!K66","v":0},{"$f":"APR!L66","v":"pack"},{"$f":"APR!M66","v":62296},0]
[{"$f":"SUBTOTAL(103,C$21:C67)","v":31},"47131800-DB-S01","DISINFECTANT, bleaching solution",{"$f":"APR!K67","v":0},{"$f":"APR!L67","v":"box"},{"$f":"APR!M67","v":610.91999999999996},0]
[{"$f":"SUBTOTAL(103,C$21:C68)","v":31},"47131803-DS-A01","DISINFECTANT SPRAY, aerosol type, 400-550 grams",{"$f":"APR!K68","v":0},{"$f":"APR!L68","v":"box"},{"$f":"APR!M68","v":1435.2},0]
[{"$f":"SUBTOTAL(103,C$21:C69)","v":31},"45121517-DO-C01","DOCUMENT CAMERA",{"$f":"APR!K69","v":0},{"$f":"APR!L69","v":"unit"},{"$f":"APR!M69","v":25272},0]
[{"$f":"SUBTOTAL(103,C$21:C70)","v":31},"47131601-DU-P01","DUST PAN",{"$f":"APR!K70","v":0},{"$f":"APR!L70","v":"bundle"},{"$f":"APR!M70","v":299.52},0]
[{"$f":"SUBTOTAL(103,C$21:C71)","v":31},"43202003-DV-W01","DVD RE-WRITABLE",{"$f":"APR!K71","v":0},{"$f":"APR!L71","v":"pack"},{"$f":"APR!M71","v":217.9},0]
[{"$f":"SUBTOTAL(103,C$21:C72)","v":31},"40101604-EF-G01","ELECTRIC FAN, INDUSTRIAL",{"$f":"APR!K72","v":0},{"$f":"APR!L72","v":"unit"},{"$f":"APR!M72","v":956.8},0]
[{"$f":"SUBTOTAL(103,C$21:C73)","v":31},"40101604-EF-C01","ELECTRIC FAN, ORBIT type, ceiling,  metal blade   ",{"$f":"APR!K73","v":0},{"$f":"APR!L73","v":"unit"},{"$f":"APR!M73","v":1248},0]
[{"$f":"SUBTOTAL(103,C$21:C74)","v":31},"40101604-EF-S01","ELECTRIC FAN, STANDARD TYPE",{"$f":"APR!K74","v":0},{"$f":"APR!L74","v":"unit"},{"$f":"APR!M74","v":967.1},0]
[{"$f":"SUBTOTAL(103,C$21:C75)","v":31},"40101604-EF-W01","ELECTRIC FAN, WALL TYPE",{"$f":"APR!K75","v":0},{"$f":"APR!L75","v":"unit"},{"$f":"APR!M75","v":790.4},0]
[{"$f":"SUBTOTAL(103,C$21:C76)","v":31},"44103201-ET-R01","ELECTRONIC TIME RECORDER OR BUNDY CLOCK",{"$f":"APR!K76","v":0},{"$f":"APR!L76","v":"unit"},{"$f":"APR!M76","v":3315.52},0]
[{"$f":"SUBTOTAL(103,C$21:C77)","v":31},"44121506-EN-D01","ENVELOPE DOC., 229MM X 324MM",{"$f":"APR!K77","v":0},{"$f":"APR!L77","v":"box"},{"$f":"APR!M77","v":381.54},0]
[{"$f":"SUBTOTAL(103,C$21:C78)","v":31},"44121506-EN-D02","ENVELOPE, DOCUMENTARY, for legal size document",{"$f":"APR!K78","v":0},{"$f":"APR!L78","v":"box"},{"$f":"APR!M78","v":507.4},0]
[{"$f":"SUBTOTAL(103,C$21:C79)","v":31},"44121506-EN-X01","ENVELOPE, EXPANDING, KRAFTBOARD,for legal size doc",{"$f":"APR!K79","v":0},{"$f":"APR!L79","v":"box"},{"$f":"APR!M79","v":621.71},0]
[{"$f":"SUBTOTAL(103,C$21:C80)","v":31},"44121506-EN-X02","ENVELOPE, EXPANDING, PLASTIC",{"$f":"APR!K80","v":0},{"$f":"APR!L80","v":"box"},{"$f":"APR!M80","v":2761},0]
[{"$f":"SUBTOTAL(103,C$21:C81)","v":31},"44121506-EN-M01","ENVELOPE, MAILING",{"$f":"APR!K81","v":0},{"$f":"APR!L81","v":"box"},{"$f":"APR!M81","v":499.2},0]
[{"$f":"SUBTOTAL(103,C$21:C82)","v":31},"44121504-EN-W01","ENVELOPE, MAILING, WITH WINDOW",{"$f":"APR!K82","v":0},{"$f":"APR!L82","v":"box"},{"$f":"APR!M82","v":561.6},0]
[{"$f":"SUBTOTAL(103,C$21:C83)","v":31},"44121506-EN-P01","ENVELOPE, PAY",{"$f":"APR!K83","v":0},{"$f":"APR!L83","v":"box"},{"$f":"APR!M83","v":119.39},0]
[{"$f":"SUBTOTAL(103,C$21:C84)","v":31},"44111912-ER-B01","ERASER, FELT, FOR BLACKBOARD OR WHITEBOARD",{"$f":"APR!K84","v":0},{"$f":"APR!L84","v":"box"},{"$f":"APR!M84","v":133.32},0]
[{"$f":"SUBTOTAL(103,C$21:C85)","v":31},"60121534-ER-P01","ERASER, PLASTIC OR RUBBER",{"$f":"APR!K85","v":0},{"$f":"APR!L85","v":"box"},{"$f":"APR!M85","v":68.7},{"$f":"D85*F85","v":0}]
[{"$f":"SUBTOTAL(103,C$21:C86)","v":31},"43201827-HD-X02","EXTERNAL HARD DRIVE, 1TB, 2.5\"HDD, USB 3.0        ",{"$f":"APR!K86","v":0},{"$f":"APR!L86","v":"pack"},{"$f":"APR!M86","v":28184},0]
[{"$f":"SUBTOTAL(103,C$21:C87)","v":31},"44101714-FX-M01","FACSIMILE MACHINE",{"$f":"APR!K87","v":0},{"$f":"APR!L87","v":"unit"},{"$f":"APR!M87","v":3502.72},0]
[{"$f":"SUBTOTAL(103,C$21:C88)","v":31},"44122118-FA-P01","FASTENER, METAL, 70mm between prongs              ",{"$f":"APR!K88","v":0},{"$f":"APR!L88","v":"pack"},{"$f":"APR!M88","v":570.9},0]
[{"$f":"SUBTOTAL(103,C$21:C89)","v":31},"44111515-FO-X01","FILE ORGANIZER, LEGAL",{"$f":"APR!K89","v":0},{"$f":"APR!L89","v":"box"},{"$f":"APR!M89","v":3533.5},0]
[{"$f":"SUBTOTAL(103,C$21:C90)","v":31},"44122018-FT-D01","FILE TAB DIVIDER, A4",{"$f":"APR!K90","v":0},{"$f":"APR!L90","v":"pack"},{"$f":"APR!M90","v":124.8},0]
[{"$f":"SUBTOTAL(103,C$21:C91)","v":31},"44122018-FT-D02","FILE TAB DIVIDER, LEGAL",{"$f":"APR!K91","v":0},{"$f":"APR!L91","v":"pack"},{"$f":"APR!M91","v":166.4},0]
[{"$f":"SUBTOTAL(103,C$21:C92)","v":31},"46191601-FE-M01","FIRE EXTINGUISHER, DRY CHEMICAL",{"$f":"APR!K92","v":0},{"$f":"APR!L92","v":"unit"},{"$f":"APR!M92","v":1080.56},0]
[{"$f":"SUBTOTAL(103,C$21:C93)","v":31},"46191601-FE-H01","FIRE EXTINGUISHER, PURE HCFC",{"$f":"APR!K93","v":0},{"$f":"APR!L93","v":"unit"},{"$f":"APR!M93","v":4992},0]
[{"$f":"SUBTOTAL(103,C$21:C94)","v":31},"43202101-FD-U01","FLASH DRIVE, 16 GB capacity                       ",{"$f":"APR!K94","v":0},{"$f":"APR!L94","v":"box"},{"$f":"APR!M94","v":972.4},0]
[{"$f":"SUBTOTAL(103,C$21:C95)","v":31},"47131802-FW-L01","FLOOR WAX, LIQUID TYPE, NATURAL",{"$f":"APR!K95","v":0},{"$f":"APR!L95","v":"box"},{"$f":"APR!M95","v":1482},0]
[{"$f":"SUBTOTAL(103,C$21:C96)","v":31},"47131802-FW-P01","FLOOR WAX, PASTE TYPE, NATURAL",{"$f":"APR!K96","v":0},{"$f":"APR!L96","v":"box"},{"$f":"APR!M96","v":894.4},0]
[{"$f":"SUBTOTAL(103,C$21:C97)","v":31},"47131802-FW-P02","FLOOR WAX, PASTE, RED",{"$f":"APR!K97","v":0},{"$f":"APR!L97","v":"box"},{"$f":"APR!M97","v":811.2},0]
[{"$f":"SUBTOTAL(103,C$21:C98)","v":31},"39101605-FL-T03","FLUORESCENT LAMP, 14 WATTS",{"$f":"APR!K98","v":0},{"$f":"APR!L98","v":"box"},{"$f":"APR!M98","v":2210},0]
[{"$f":"SUBTOTAL(103,C$21:C99)","v":31},"39101605-FL-T04","FLUORESCENT LAMP, 28 WATTS",{"$f":"APR!K99","v":0},{"$f":"APR!L99","v":"box"},{"$f":"APR!M99","v":2860},0]
[{"$f":"SUBTOTAL(103,C$21:C100)","v":31},"39101628-LT-L01","LINEAR TUBE, LED, 18 WATTS",{"$f":"APR!K100","v":0},{"$f":"APR!L100","v":"box"},{"$f":"APR!M100","v":5616},0]
[{"$f":"SUBTOTAL(103,C$21:C101)","v":31},"39111501-FF-C02","FLUORESCENT LIGHTING FIXTURES, 1 X 36 WATTS",{"$f":"APR!K101","v":0},{"$f":"APR!L101","v":"box"},{"$f":"APR!M101","v":3640},0]
[{"$f":"SUBTOTAL(103,C$21:C102)","v":31},"44122011-FO-F01","FOLDER, FANCY",{"$f":"APR!K102","v":0},{"$f":"APR!L102","v":"bundle"},{"$f":"APR!M102","v":234},0]
[{"$f":"SUBTOTAL(103,C$21:C103)","v":31},"44122011-FO-F02","FOLDER, FANCY, 320MM X 225MM",{"$f":"APR!K103","v":0},{"$f":"APR!L103","v":"bundle"},{"$f":"APR!M103","v":291.2},0]
[{"$f":"SUBTOTAL(103,C$21:C104)","v":31},"44122011-FO-L01","FOLDER, L-TYPE, A4 SIZE",{"$f":"APR!K104","v":0},{"$f":"APR!L104","v":"box"},{"$f":"APR!M104","v":3993.6},0]
[{"$f":"SUBTOTAL(103,C$21:C105)","v":31},"44122011-FO-L02","FOLDER, L-TYPE, LEGAL SIZE",{"$f":"APR!K105","v":0},{"$f":"APR!L105","v":"box"},{"$f":"APR!M105","v":4892.16},0]
[{"$f":"SUBTOTAL(103,C$21:C106)","v":31},"44122027-FO-P01","FOLDER, PRESSBOARD, size: 240mm x 370mm (-5mm)",{"$f":"APR!K106","v":0},{"$f":"APR!L106","v":"box"},{"$f":"APR!M106","v":746.72},0]
[{"$f":"SUBTOTAL(103,C$21:C107)","v":31},"44122011-FO-T01","FOLDER, TAGBOARD, for A4 size documents           ",{"$f":"APR!K107","v":0},{"$f":"APR!L107","v":"pack"},{"$f":"APR!M107","v":179.28},0]
[{"$f":"SUBTOTAL(103,C$21:C108)","v":31},"44122011-FO-T02","FOLDER, TAGBOARD, for legal size documents        ",{"$f":"APR!K108","v":0},{"$f":"APR!L108","v":"pack"},{"$f":"APR!M108","v":200.37},0]
[{"$f":"SUBTOTAL(103,C$21:C109)","v":31},"47131830-FC-A01","FURNITURE CLEANER",{"$f":"APR!K109","v":0},{"$f":"APR!L109","v":"box"},{"$f":"APR!M109","v":1017.12},0]
[{"$f":"SUBTOTAL(103,C$21:C110)","v":31},"31201610-GL-J01","GLUE, all purpose, gross weight: 200 grams min    ",{"$f":"APR!K110","v":0},{"$f":"APR!L110","v":"box"},{"$f":"APR!M110","v":1590.48},0]
[{"$f":"SUBTOTAL(103,C$21:C111)","v":31},"55101524-RA-H01","HANDBOOK ON RA9184",{"$f":"APR!K111","v":0},{"$f":"APR!L111","v":"bundle"},{"$f":"APR!M111","v":1236.5999999999999},0]
[{"$f":"SUBTOTAL(103,C$21:C112)","v":31},"60121138-IL-B01","ILLUSTRATION BOARD, 760MM X 1000MM",{"$f":"APR!K112","v":0},{"$f":"APR!L112","v":"bundle"},{"$f":"APR!M112","v":701},0]
[{"$f":"SUBTOTAL(103,C$21:C113)","v":31},"44111515-IC-B01","INDEX CARD BOX, 3X5",{"$f":"APR!K113","v":0},{"$f":"APR!L113","v":"pack"},{"$f":"APR!M113","v":364},{"$f":"D113*F113","v":0}]
[{"$f":"SUBTOTAL(103,C$21:C114)","v":31},"44100515-IC-B02","INDEX CARD BOX, 5X8",{"$f":"APR!K114","v":0},{"$f":"APR!L114","v":"pack"},{"$f":"APR!M114","v":551.20000000000005},{"$f":"D114*F114","v":0}]
[{"$f":"SUBTOTAL(103,C$21:C115)","v":31},"14111518-IC-R01","INDEX CARD, 3X5",{"$f":"APR!K115","v":0},{"$f":"APR!L115","v":"box"},{"$f":"APR!M115","v":512.70000000000005},0]
[{"$f":"SUBTOTAL(103,C$21:C116)","v":31},"14111518-IC-R02","INDEX CARD, 5X8",{"$f":"APR!K116","v":0},{"$f":"APR!L116","v":"box"},{"$f":"APR!M116","v":1393.4},0]
[{"$f":"SUBTOTAL(103,C$21:C117)","v":31},"44122008-IT-T01","INDEX TAB",{"$f":"APR!K117","v":0},{"$f":"APR!L117","v":"pack"},{"$f":"APR!M117","v":2395},0]
[{"$f":"SUBTOTAL(103,C$21:C118)","v":31},"12171703-SI-P01","INK, FOR STAMP PAD",{"$f":"APR!K118","v":0},{"$f":"APR!L118","v":"box"},{"$f":"APR!M118","v":295.56},0]
[{"$f":"SUBTOTAL(103,C$21:C119)","v":31},"10191509-IN-A01","INSECTICIDE, aerosol type, net content: 600ml min ",{"$f":"APR!K119","v":0},{"$f":"APR!L119","v":"box"},{"$f":"APR!M119","v":1497.6},0]
[{"$f":"SUBTOTAL(103,C$21:C120)","v":31},"14111609-LL-C01","LOOSELEAF COVER",{"$f":"APR!K120","v":0},{"$f":"APR!L120","v":"bundle"},{"$f":"APR!M120","v":539.76},0]
[{"$f":"SUBTOTAL(103,C$21:C121)","v":31},"44111515-MF-B02","MAGAZINE FILE BOX, LARGE",{"$f":"APR!K121","v":0},{"$f":"APR!L121","v":"pack"},{"$f":"APR!M121","v":832},0]
[{"$f":"SUBTOTAL(103,C$21:C122)","v":31},"60121124-MA-P01","MANILA PAPER",{"$f":"APR!K122","v":0},{"$f":"APR!L122","v":"bundle"},{"$f":"APR!M122","v":520},0]
[{"$f":"SUBTOTAL(103,C$21:C123)","v":31},"44122106-MP-R01","MAP PIN, ROUND HEAD",{"$f":"APR!K123","v":0},{"$f":"APR!L123","v":"box"},{"$f":"APR!M123","v":403.5},0]
[{"$f":"SUBTOTAL(103,C$21:C124)","v":31},"44121716-MA-F01","MARKER, FLUORESCENT",{"$f":"APR!K124","v":0},{"$f":"APR!L124","v":"pack"},{"$f":"APR!M124","v":1706.4},0]
[{"$f":"SUBTOTAL(103,C$21:C125)","v":31},"44121708-MP-B01","MARKER, PERMANENT, bullet type, black             ",{"$f":"APR!K125","v":0},{"$f":"APR!L125","v":"box"},{"$f":"APR!M125","v":115.8},{"$f":"D125*F125","v":0}]
[{"$f":"SUBTOTAL(103,C$21:C126)","v":31},"44121708-MP-B02","MARKER, PERMANENT, bullet type, blue              ",{"$f":"APR!K126","v":0},{"$f":"APR!L126","v":"box"},{"$f":"APR!M126","v":115.8},{"$f":"D126*F126","v":0}]
[{"$f":"SUBTOTAL(103,C$21:C127)","v":31},"44121708-MP-B03","MARKER, PERMANENT, bullet type, red               ",{"$f":"APR!K127","v":0},{"$f":"APR!L127","v":"box"},{"$f":"APR!M127","v":115.8},0]
[{"$f":"SUBTOTAL(103,C$21:C128)","v":31},"44121708-MW-B01","MARKER, WHITEBOARD, black",{"$f":"APR!K128","v":0},{"$f":"APR!L128","v":"box"},{"$f":"APR!M128","v":123.36},0]
[{"$f":"SUBTOTAL(103,C$21:C129)","v":31},"44121708-MW-B02","MARKER, WHITEBOARD, blue",{"$f":"APR!K129","v":0},{"$f":"APR!L129","v":"box"},{"$f":"APR!M129","v":123.36},0]
[{"$f":"SUBTOTAL(103,C$21:C130)","v":31},"44121708-MW-B03","MARKER, WHITEBOARD, red",{"$f":"APR!K130","v":0},{"$f":"APR!L130","v":"box"},{"$f":"APR!M130","v":123.36},0]
[{"$f":"SUBTOTAL(103,C$21:C131)","v":31},"52161533-ME-P01","MEGAPHONE",{"$f":"APR!K131","v":0},{"$f":"APR!L131","v":"unit"},{"$f":"APR!M131","v":2704},0]
[{"$f":"SUBTOTAL(103,C$21:C132)","v":31},"56101519-TMS02","MONOBLOC, TABLE, BEIGE",{"$f":"APR!K132","v":0},{"$f":"APR!L132","v":"unit"},{"$f":"APR!M132","v":1289.5999999999999},0]
[{"$f":"SUBTOTAL(103,C$21:C133)","v":31},"56101519-TM-S01","MONOBLOC, TABLE, WHITE",{"$f":"APR!K133","v":0},{"$f":"APR!L133","v":"unit"},{"$f":"APR!M133","v":1289.5999999999999},0]
[{"$f":"SUBTOTAL(103,C$21:C134)","v":31},"47121804-MP-B01","MOPBUCKET",{"$f":"APR!K134","v":0},{"$f":"APR!L134","v":"unit"},{"$f":"APR!M134","v":1911},0]
[{"$f":"SUBTOTAL(103,C$21:C135)","v":31},"47131613-MP-H02","MOPHANDLE",{"$f":"APR!K135","v":0},{"$f":"APR!L135","v":"bundle"},{"$f":"APR!M135","v":1709.76},0]
[{"$f":"SUBTOTAL(103,C$21:C136)","v":31},"47131619-MP-R01","MOPHEAD, made of rayon, weight: 400 grams min",{"$f":"APR!K136","v":0},{"$f":"APR!L136","v":"bundle"},{"$f":"APR!M136","v":1185.5999999999999},0]
[{"$f":"SUBTOTAL(103,C$21:C137)","v":31},"43211708-MO-O01","MOUSE, OPTICAL, USB CONNECTION TYPE",{"$f":"APR!K137","v":0},{"$f":"APR!L137","v":"pack"},{"$f":"APR!M137","v":1278},0]
[{"$f":"SUBTOTAL(103,C$21:C138)","v":31},"45111609-MM-P01","MULTIMEDIA PROJECTOR, 4000 min ANSI Lumens",{"$f":"APR!K138","v":0},{"$f":"APR!L138","v":"unit"},{"$f":"APR!M138","v":26483.599999999999},0]
[{"$f":"SUBTOTAL(103,C$21:C139)","v":31},"14111514-NB-S01","NOTEBOOK, STENOGRAPHER",{"$f":"APR!K139","v":0},{"$f":"APR!L139","v":"pack"},{"$f":"APR!M139","v":208},0]
[{"$f":"SUBTOTAL(103,C$21:C140)","v":31},"14111514-NP-S02","NOTEPAD, 2X3",{"$f":"APR!K140","v":0},{"$f":"APR!L140","v":"pack"},{"$f":"APR!M140","v":374.4},0]
[{"$f":"SUBTOTAL(103,C$21:C141)","v":31},"14111514-NP-S03","NOTEPAD, 3X3",{"$f":"APR!K141","v":0},{"$f":"APR!L141","v":"pack"},{"$f":"APR!M141","v":486.48},{"$f":"D141*F141","v":0}]
[{"$f":"SUBTOTAL(103,C$21:C142)","v":31},"14111514-NP-S04","NOTEPAD, STICK-ON, 3X4",{"$f":"APR!K142","v":0},{"$f":"APR!L142","v":"pack"},{"$f":"APR!M142","v":648.72},{"$f":"D142*F142","v":0}]
[{"$f":"SUBTOTAL(103,C$21:C143)","v":31},"12181601-OL-G01","OIL, GENERAL PURPOSE LUBRICANT",{"$f":"APR!K143","v":0},{"$f":"APR!L143","v":"box"},{"$f":"APR!M143","v":2656.8},0]
[{"$f":"SUBTOTAL(103,C$21:C144)","v":31},"14111531-PP-R01","PAD PAPER, RULED",{"$f":"APR!K144","v":0},{"$f":"APR!L144","v":"bundle"},{"$f":"APR!M144","v":182.6},0]
[{"$f":"SUBTOTAL(103,C$21:C145)","v":31},"44122104-PC-G01","PAPER CLIP, 32MM",{"$f":"APR!K145","v":0},{"$f":"APR!L145","v":"carton"},{"$f":"APR!M145","v":321.5},0]
[{"$f":"SUBTOTAL(103,C$21:C146)","v":31},"44122104-PC-J02","PAPER CLIP, 48MM",{"$f":"APR!K146","v":0},{"$f":"APR!L146","v":"carton"},{"$f":"APR!M146","v":642.5},0]
[{"$f":"SUBTOTAL(103,C$21:C147)","v":31},"44101603-PS-M01","PAPER SHREDDER",{"$f":"APR!K147","v":0},{"$f":"APR!L147","v":"unit"},{"$f":"APR!M147","v":5699.2},0]
[{"$f":"SUBTOTAL(103,C$21:C148)","v":31},"44101601-PT-M01","PAPER TRIMMER CUTTING MACHINE",{"$f":"APR!K148","v":0},{"$f":"APR!L148","v":"unit"},{"$f":"APR!M148","v":7488},0]
[{"$f":"SUBTOTAL(103,C$21:C149)","v":31},"14111507-PP-M01","PAPER, MULTICOPY, 80gsm, size: 210mm x 297mm",{"$f":"APR!K149","v":0},{"$f":"APR!L149","v":"box"},{"$f":"APR!M149","v":561.6},0]
[{"$f":"SUBTOTAL(103,C$21:C150)","v":31},"14111507-PP-M02","PAPER, MULTICOPY, 80gsm, size: 216mm x 330mm",{"$f":"APR!K150","v":0},{"$f":"APR!L150","v":"box"},{"$f":"APR!M150","v":660.1},0]
[{"$f":"SUBTOTAL(103,C$21:C151)","v":31},"14111507-PP-C01","PAPER, Multi-Purpose (COPY) A4, 70 gsm., 5 reams/box",{"$f":"APR!K151","v":0},{"$f":"APR!L151","v":"box"},{"$f":"APR!M151","v":476.3},0]
[{"$f":"SUBTOTAL(103,C$21:C152)","v":31},"14111507-PP-C02","PAPER, Multi-Purpose (COPY) Legal, 70 gsm.,5 reams/box",{"$f":"APR!K152","v":0},{"$f":"APR!L152","v":"box"},{"$f":"APR!M152","v":571.75},0]
[{"$f":"SUBTOTAL(103,C$21:C153)","v":31},"14111503-PA-P01","PAPER, PARCHMENT",{"$f":"APR!K153","v":0},{"$f":"APR!L153","v":"pack"},{"$f":"APR!M153","v":1768},0]
[{"$f":"SUBTOTAL(103,C$21:C154)","v":31},"14111818-TH-P01","PAPER, THERMAL, 210MM X 30M",{"$f":"APR!K154","v":0},{"$f":"APR!L154","v":"box"},{"$f":"APR!M154","v":1437.6},0]
[{"$f":"SUBTOTAL(103,C$21:C155)","v":31},"14111818-TH-P02","PAPER, THERMAL, 216MM X 30M",{"$f":"APR!K155","v":0},{"$f":"APR!L155","v":"box"},{"$f":"APR!M155","v":1495.2},0]
[{"$f":"SUBTOTAL(103,C$21:C156)","v":31},"44121619-PS-M01","PENCIL SHARPENER",{"$f":"APR!K156","v":0},{"$f":"APR!L156","v":"box"},{"$f":"APR!M156","v":4492.8},0]
[{"$f":"SUBTOTAL(103,C$21:C157)","v":31},"44121706-PE-L01","PENCIL, LEAD WITH ERASER",{"$f":"APR!K157","v":0},{"$f":"APR!L157","v":"pack"},{"$f":"APR!M157","v":235.44},0]
[{"$f":"SUBTOTAL(103,C$21:C158)","v":31},"55121905-PH-F01","PHILIPPINE NATIONAL FLAG",{"$f":"APR!K158","v":0},{"$f":"APR!L158","v":"bundle"},{"$f":"APR!M158","v":2787.2},0]
[{"$f":"SUBTOTAL(103,C$21:C159)","v":31},"43212102-PR-D02","PRINTER, IMPACT DOT MATRIX, 24 pins, 136 column",{"$f":"APR!K159","v":0},{"$f":"APR!L159","v":"unit"},{"$f":"APR!M159","v":18709.599999999999},0]
[{"$f":"SUBTOTAL(103,C$21:C160)","v":31},"43212102-PR-D01","PRINTER, IMPACT DOT MATRIX, 9 pins, 80 columns",{"$f":"APR!K160","v":0},{"$f":"APR!L160","v":"unit"},{"$f":"APR!M160","v":5831.52},0]
[{"$f":"SUBTOTAL(103,C$21:C161)","v":31},"43212104-PR-I01","PRINTER, INKJET, WIRELESS",{"$f":"APR!K161","v":0},{"$f":"APR!L161","v":"unit"},{"$f":"APR!M161","v":10000},0]
[{"$f":"SUBTOTAL(103,C$21:C162)","v":31},"43212105-PR-L01","PRINTER, LASER, MONOCHROME",{"$f":"APR!K162","v":0},{"$f":"APR!L162","v":"unit"},{"$f":"APR!M162","v":1237.5999999999999},{"$f":"D162*F162","v":0}]
[{"$f":"SUBTOTAL(103,C$21:C163)","v":31},"44101602-PU-P01","PUNCHER, paper, heavy duty, with two hole guide   ",{"$f":"APR!K163","v":0},{"$f":"APR!L163","v":"carton"},{"$f":"APR!M163","v":2742.72},{"$f":"D163*F163","v":0}]
[{"$f":"SUBTOTAL(103,C$21:C164)","v":31},"44122106-PP-F02","PUSH PIN",{"$f":"APR!K164","v":0},{"$f":"APR!L164","v":"box"},{"$f":"APR!M164","v":299.52},0]
[{"$f":"SUBTOTAL(103,C$21:C165)","v":31},"47131501-RG-C01","RAGS, ALL COTTON",{"$f":"APR!K165","v":0},{"$f":"APR!L165","v":"sack"},{"$f":"APR!M165","v":1490.7},0]
[{"$f":"SUBTOTAL(103,C$21:C166)","v":31},"14111531-RE-B01","RECORD BOOK, 300 PAGES, size: 214mm x 278mm min   ",{"$f":"APR!K166","v":0},{"$f":"APR!L166","v":"bundle"},{"$f":"APR!M166","v":603.20000000000005},0]
[{"$f":"SUBTOTAL(103,C$21:C167)","v":31},"14111531-RE-B02","RECORD BOOK, 500 PAGES, size: 214mm x 278mm min   ",{"$f":"APR!K167","v":0},{"$f":"APR!L167","v":"bundle"},{"$f":"APR!M167","v":434.25},0]
[{"$f":"SUBTOTAL(103,C$21:C168)","v":31},"44102606-RI-T01","RIBBON, FOR MANUAL TYPEWRITER",{"$f":"APR!K168","v":0},{"$f":"APR!L168","v":"box"},{"$f":"APR!M168","v":205.68},0]
[{"$f":"SUBTOTAL(103,C$21:C169)","v":31},"44122037-RB-P07","RING BINDER, PLASTIC, 25MM",{"$f":"APR!K169","v":0},{"$f":"APR!L169","v":"pack"},{"$f":"APR!M169","v":2412.8000000000002},0]
[{"$f":"SUBTOTAL(103,C$21:C170)","v":31},"44122037-RB-P09","RING BINDER, PLASTIC, 32MM",{"$f":"APR!K170","v":0},{"$f":"APR!L170","v":"pack"},{"$f":"APR!M170","v":4109.92},0]
[{"$f":"SUBTOTAL(103,C$21:C171)","v":31},"44122037-RB-P12","RING BINDER, PLASTIC, 50MM",{"$f":"APR!K171","v":0},{"$f":"APR!L171","v":"pack"},{"$f":"APR!M171","v":4656.4799999999996},0]
[{"$f":"SUBTOTAL(103,C$21:C172)","v":31},"44122101-RU-B01","RUBBER BAND, #18",{"$f":"APR!K172","v":0},{"$f":"APR!L172","v":"carton"},{"$f":"APR!M172","v":4665.5},0]
[{"$f":"SUBTOTAL(103,C$21:C173)","v":31},"41111604-RU-P02","RULER, PLASTIC, 450MM",{"$f":"APR!K173","v":0},{"$f":"APR!L173","v":"box"},{"$f":"APR!M173","v":774},0]
[{"$f":"SUBTOTAL(103,C$21:C174)","v":31},"44121618-SS-S01","SCISSORS",{"$f":"APR!K174","v":0},{"$f":"APR!L174","v":"box"},{"$f":"APR!M174","v":494.28},0]
[{"$f":"SUBTOTAL(103,C$21:C175)","v":31},"47131602-SC-N01","SCOURING PAD",{"$f":"APR!K175","v":0},{"$f":"APR!L175","v":"box"},{"$f":"APR!M175","v":2059.1999999999998},0]
[{"$f":"SUBTOTAL(103,C$21:C176)","v":31},"60121524-SP-G01","SIGN PEN, BLACK, liquid/gel ink, 0.5mm needle tip ",{"$f":"APR!K176","v":0},{"$f":"APR!L176","v":"box"},{"$f":"APR!M176","v":457.2},0]
[{"$f":"SUBTOTAL(103,C$21:C177)","v":31},"60121524-SP-G02","SIGN PEN, BLUE, liquid/gel ink, 0.5mm needle tip  ",{"$f":"APR!K177","v":0},{"$f":"APR!L177","v":"box"},{"$f":"APR!M177","v":457.2},0]
[{"$f":"SUBTOTAL(103,C$21:C178)","v":31},"60121524-SP-G03","SIGN PEN, RED, liquid/gel ink, 0.5mm needle tip   ",{"$f":"APR!K178","v":0},{"$f":"APR!L178","v":"box"},{"$f":"APR!M178","v":457.2},0]
[{"$f":"SUBTOTAL(103,C$21:C179)","v":31},"53131608-SB-R01","SOAP, BATHROOM",{"$f":"APR!K179","v":0},{"$f":"APR!L179","v":"carton"},{"$f":"APR!M179","v":1453.4},0]
[{"$f":"SUBTOTAL(103,C$21:C180)","v":31},"44121905-SP-F01","STAMP PAD, FELT",{"$f":"APR!K180","v":0},{"$f":"APR!L180","v":"pack"},{"$f":"APR!M180","v":331.92},0]
[{"$f":"SUBTOTAL(103,C$21:C181)","v":31},"44121613-SR-P01","STAPLE REMOVER, PLIER TYPE",{"$f":"APR!K181","v":0},{"$f":"APR!L181","v":"box"},{"$f":"APR!M181","v":436.32},0]
[{"$f":"SUBTOTAL(103,C$21:C182)","v":31},"31151804-SW-H01","STAPLE WIRE, HEAVY DUTY, 23/13",{"$f":"APR!K182","v":0},{"$f":"APR!L182","v":"pack"},{"$f":"APR!M182","v":234},0]
[{"$f":"SUBTOTAL(103,C$21:C183)","v":31},"31151804-SW-H02","STAPLE WIRE, HEAVY DUTY, 23/17",{"$f":"APR!K183","v":0},{"$f":"APR!L183","v":"pack"},{"$f":"APR!M183","v":414.8},0]
[{"$f":"SUBTOTAL(103,C$21:C184)","v":31},"31151804-SW-S01","STAPLE WIRE, STANDARD",{"$f":"APR!K184","v":0},{"$f":"APR!L184","v":"carton"},{"$f":"APR!M184","v":1892},0]
[{"$f":"SUBTOTAL(103,C$21:C185)","v":31},"44121615-ST-B01","STAPLER, BINDER",{"$f":"APR!K185","v":0},{"$f":"APR!L185","v":"unit"},{"$f":"APR!M185","v":878.8},0]
[{"$f":"SUBTOTAL(103,C$21:C186)","v":31},"44121615-ST-S01","STAPLER, STANDARD TYPE, load cap: 200 staples min ",{"$f":"APR!K186","v":0},{"$f":"APR!L186","v":"pack"},{"$f":"APR!M186","v":657.28},0]
[{"$f":"SUBTOTAL(103,C$21:C187)","v":31},"44121605-TD-H01","TAPE DISPENSER, HANDHELD",{"$f":"APR!K187","v":0},{"$f":"APR!L187","v":"box"},{"$f":"APR!M187","v":291},0]
[{"$f":"SUBTOTAL(103,C$21:C188)","v":31},"44121605-TD-T01","TAPE DISPENSER, TABLE TOP",{"$f":"APR!K188","v":0},{"$f":"APR!L188","v":"piece"},{"$f":"APR!M188","v":47.72},0]
[{"$f":"SUBTOTAL(103,C$21:C189)","v":31},"31201502-TA-E01","TAPE, ELECTRICAL",{"$f":"APR!K189","v":0},{"$f":"APR!L189","v":"pack"},{"$f":"APR!M189","v":455},0]
[{"$f":"SUBTOTAL(103,C$21:C190)","v":31},"14111515-TA-C01","TAPE, FOR ADDING MACHINE",{"$f":"APR!K190","v":0},{"$f":"APR!L190","v":"pack"},{"$f":"APR!M190","v":162.19999999999999},0]
[{"$f":"SUBTOTAL(103,C$21:C191)","v":31},"31201503-TA-M01","TAPE, MASKING, width: 24mm (±1mm)                 ",{"$f":"APR!K191","v":0},{"$f":"APR!L191","v":"pack"},{"$f":"APR!M191","v":661.44},0]
[{"$f":"SUBTOTAL(103,C$21:C192)","v":31},"31201503-TA-M02","TAPE, MASKING, width: 48mm (±1mm)                 ",{"$f":"APR!K192","v":0},{"$f":"APR!L192","v":"pack"},{"$f":"APR!M192","v":630.24},0]
[{"$f":"SUBTOTAL(103,C$21:C193)","v":31},"31201517-TA-P01","TAPE, PACKAGING, width: 48mm (±1mm)               ",{"$f":"APR!K193","v":0},{"$f":"APR!L193","v":"pack"},{"$f":"APR!M193","v":196.44},0]
[{"$f":"SUBTOTAL(103,C$21:C194)","v":31},"31201512-TA-T01","TAPE, TRANSPARENT, width: 24mm (±1mm)             ",{"$f":"APR!K194","v":0},{"$f":"APR!L194","v":"pack"},{"$f":"APR!M194","v":131.04},0]
[{"$f":"SUBTOTAL(103,C$21:C195)","v":31},"31201512-TA-T02","TAPE, TRANSPARENT, width: 48mm (±1mm)             ",{"$f":"APR!K195","v":0},{"$f":"APR!L195","v":"pack"},{"$f":"APR!M195","v":159.12},0]
[{"$f":"SUBTOTAL(103,C$21:C196)","v":31},"44103205-TC-A01","TIME CARD, AMANO",{"$f":"APR!K196","v":0},{"$f":"APR!L196","v":"pack"},{"$f":"APR!M196","v":694.7},0]
[{"$f":"SUBTOTAL(103,C$21:C197)","v":31},"14111704-TT-P01","TOILET TISSUE PAPER 2-plys sheets, 150 pulls      ",{"$f":"APR!K197","v":0},{"$f":"APR!L197","v":"box"},{"$f":"APR!M197","v":540.79999999999995},0]
[{"$f":"SUBTOTAL(103,C$21:C198)","v":31},"47121701-TB-P01","TRASHBAG, plastic, gusseted type, black,          ",{"$f":"APR!K198","v":0},{"$f":"APR!L198","v":"sack"},{"$f":"APR!M198","v":4196.3999999999996},0]
[{"$f":"SUBTOTAL(103,C$21:C199)","v":31},"31151507-TW-P01","TWINE, PLASTIC",{"$f":"APR!K199","v":0},{"$f":"APR!L199","v":"bundle"},{"$f":"APR!M199","v":499.2},0]
[{"$f":"SUBTOTAL(103,C$21:C200)","v":31},"47121702-WB-P01","WASTEBASKET, NON RIGID PLASTIC",{"$f":"APR!K200","v":0},{"$f":"APR!L200","v":"bundle"},{"$f":"APR!M200","v":573.6},0]
[{"$f":"SUBTOTAL(103,C$21:C201)","v":31},"43222609-WR-R01","WIRELESS N-ROUTER",{"$f":"APR!K201","v":0},{"$f":"APR!L201","v":"unit"},{"$f":"APR!M201","v":1037.92},0]
[{"$f":"SUBTOTAL(103,C$21:C202)","v":31},"60121124-WR-P02","WRAPPING PAPER",{"$f":"APR!K202","v":0},{"$f":"APR!L202","v":"bundle"},{"$f":"APR!M202","v":2576.8000000000002},0]
[]
["FOR THE LATEST PRICES AND DETAILED SPECIFICATIONS, PLEASE REFER TO THE ELECTRONIC CATALOGUE @ www.procurementservice.gov.ph/www.philgeps.gov.ph"]
["For verification of balances, call PS-Acctg Division @ Tel. Nos. (02) 563-9351 or email us at accounting@procurementservice.gov.ph"]
["NOTE: ALL SIGNATURES MUST BE OVER PRINTED NAME"]
["STOCKS REQUESTED ARE CERTIFIED TO BE     FUNDS CERTIFIED AVAILABLE:                              APPROVED:"]
["WITHIN APPROVED PROGRAM:"]
[]
[]
[]
["   AGENCY PROPERTY/SUPPLY OFFICER                         AGENCY CHIEF ACCOUNTANT                        AGENCY HEAD/AUTHORIZED SIGNATURE"]
[]
[{"$f":"APR!B215","v":"[  ] FUNDS DEPOSITED WITH PS    [  ] ___________________ CHECK No. ____________________"}]
[{"$f":"APR!B216","v":"IN THE AMOUNT OF: ____________________________________________________________ (P _____________________ ) ENCLOSED"}]
[]
[{"$f":"SUBTOTAL(103,C$21:C217)","v":32},"39101619-FL-C01","COMPACT FLUORESCENT LAMP, 18 WATTS",{"$f":"APR!K52","v":0},{"$f":"APR!L52","v":"carton"},{"$f":"APR!M52","v":4664.5},{"$f":"D217*F217","v":0}]
[{"$f":"SUBTOTAL(103,C$21:C218)","v":33},"14111506-CF-L11","CONTINUOUS FORM, 1 PLY, 280 x 241mm               ",{"$f":"APR!K53","v":0},{"$f":"APR!L53","v":"box"},{"$f":"APR!M53","v":630.76},0]
[{"$f":"SUBTOTAL(103,C$21:C219)","v":34},"14111506-CF-L21","CONTINUOUS FORM, 2 PLY, 280 x 241mm",{"$f":"APR!K54","v":0},{"$f":"APR!L54","v":"box"},{"$f":"APR!M54","v":716.04},0]
[{"$f":"SUBTOTAL(103,C$21:C220)","v":35},"14111506-CF-L31","CONTINUOUS FORM, 3 PLY, 280 x 241mm",{"$f":"APR!K55","v":0},{"$f":"APR!L55","v":"box"},{"$f":"APR!M55","v":596.79999999999995},0]
[{"$f":"SUBTOTAL(103,C$21:C221)","v":36},"14111506-CF-L12","CONTINUOUS FORM, 1 PLY, 280MM X 378MM",{"$f":"APR!K56","v":0},{"$f":"APR!L56","v":"box"},{"$f":"APR!M56","v":950.3},0]
[{"$f":"SUBTOTAL(103,C$21:C222)","v":37},"14111506-CF-L22","CONTINUOUS FORM, 2 PLY, 280MM X 378MM",{"$f":"APR!K57","v":0},{"$f":"APR!L57","v":"box"},{"$f":"APR!M57","v":1220.96},0]
[{"$f":"SUBTOTAL(103,C$21:C223)","v":38},"14111506-CF-L32","CONTINUOUS FORM, 3 PLY, 280MM X 378MM",{"$f":"APR!K58","v":0},{"$f":"APR!L58","v":"box"},{"$f":"APR!M58","v":958.15},0]
[{"$f":"SUBTOTAL(103,C$21:C224)","v":39},"44121801-CT-R01","CORRECTION TAPE",{"$f":"APR!K59","v":0},{"$f":"APR!L59","v":"box"},{"$f":"APR!M59","v":1560},0]
[{"$f":"SUBTOTAL(103,C$21:C225)","v":40},"44121612-BL-H01","CUTTER BLADE",{"$f":"APR!K60","v":0},{"$f":"APR!L60","v":"box"},{"$f":"APR!M60","v":183.8},0]
[{"$f":"SUBTOTAL(103,C$21:C226)","v":41},"44121612-CU-H01","CUTTER KNIFE",{"$f":"APR!K61","v":0},{"$f":"APR!L61","v":"box"},{"$f":"APR!M61","v":474.24},0]
[{"$f":"SUBTOTAL(103,C$21:C227)","v":42},"44111515-DF-B01","DATA FILE BOX, made of chipboard, with closed ends",{"$f":"APR!K62","v":0},{"$f":"APR!L62","v":"bundle"},{"$f":"APR!M62","v":558.24},{"$f":"D227*F227","v":0}]
[{"$f":"SUBTOTAL(103,C$21:C228)","v":43},"44122011-DF-F01","DATA FOLDER, made of chipboard, taglia lock       ",{"$f":"APR!K63","v":0},{"$f":"APR!L63","v":"bundle"},{"$f":"APR!M63","v":411.84},0]
[{"$f":"SUBTOTAL(103,C$21:C229)","v":44},"44103202-DS-M01","DATING AND STAMPING MACHINE",{"$f":"APR!K64","v":0},{"$f":"APR!L64","v":"box"},{"$f":"APR!M64","v":5740.56},0]
[{"$f":"SUBTOTAL(103,C$21:C230)","v":45},"47131811-DE-P02","DETERGENT POWDER, all purpose, 1kg per plastic pouch          ",{"$f":"APR!K65","v":0},{"$f":"APR!L65","v":"sack"},{"$f":"APR!M65","v":935.75},0]
[{"$f":"SUBTOTAL(103,C$21:C231)","v":46},"52161535-DV-R01","DIGITAL VOICE RECORDER, memory: 4GB (expandable)",{"$f":"APR!K66","v":0},{"$f":"APR!L66","v":"pack"},{"$f":"APR!M66","v":62296},0]
[{"$f":"SUBTOTAL(103,C$21:C232)","v":47},"47131800-DB-S01","DISINFECTANT, bleaching solution",{"$f":"APR!K67","v":0},{"$f":"APR!L67","v":"box"},{"$f":"APR!M67","v":610.91999999999996},0]
[{"$f":"SUBTOTAL(103,C$21:C233)","v":48},"47131803-DS-A01","DISINFECTANT SPRAY, aerosol type, 400-550 grams",{"$f":"APR!K68","v":0},{"$f":"APR!L68","v":"box"},{"$f":"APR!M68","v":1435.2},0]
[{"$f":"SUBTOTAL(103,C$21:C234)","v":49},"45121517-DO-C01","DOCUMENT CAMERA",{"$f":"APR!K69","v":0},{"$f":"APR!L69","v":"unit"},{"$f":"APR!M69","v":25272},0]
[{"$f":"SUBTOTAL(103,C$21:C235)","v":50},"47131601-DU-P01","DUST PAN",{"$f":"APR!K70","v":0},{"$f":"APR!L70","v":"bundle"},{"$f":"APR!M70","v":299.52},0]
[{"$f":"SUBTOTAL(103,C$21:C236)","v":51},"43202003-DV-W01","DVD RE-WRITABLE",{"$f":"APR!K71","v":0},{"$f":"APR!L71","v":"pack"},{"$f":"APR!M71","v":217.9},0]
[{"$f":"SUBTOTAL(103,C$21:C237)","v":52},"40101604-EF-G01","ELECTRIC FAN, INDUSTRIAL",{"$f":"APR!K72","v":0},{"$f":"APR!L72","v":"unit"},{"$f":"APR!M72","v":956.8},0]
[{"$f":"SUBTOTAL(103,C$21:C238)","v":53},"40101604-EF-C01","ELECTRIC FAN, ORBIT type, ceiling,  metal blade   ",{"$f":"APR!K73","v":0},{"$f":"APR!L73","v":"unit"},{"$f":"APR!M73","v":1248},0]
[{"$f":"SUBTOTAL(103,C$21:C239)","v":54},"40101604-EF-S01","ELECTRIC FAN, STANDARD TYPE",{"$f":"APR!K74","v":0},{"$f":"APR!L74","v":"unit"},{"$f":"APR!M74","v":967.1},0]
[{"$f":"SUBTOTAL(103,C$21:C240)","v":55},"40101604-EF-W01","ELECTRIC FAN, WALL TYPE",{"$f":"APR!K75","v":0},{"$f":"APR!L75","v":"unit"},{"$f":"APR!M75","v":790.4},0]
[{"$f":"SUBTOTAL(103,C$21:C241)","v":56},"44103201-ET-R01","ELECTRONIC TIME RECORDER OR BUNDY CLOCK",{"$f":"APR!K76","v":0},{"$f":"APR!L76","v":"unit"},{"$f":"APR!M76","v":3315.52},0]
[{"$f":"SUBTOTAL(103,C$21:C242)","v":57},"44121506-EN-D01","ENVELOPE DOC., 229MM X 324MM",{"$f":"APR!K77","v":0},{"$f":"APR!L77","v":"box"},{"$f":"APR!M77","v":381.54},0]
[{"$f":"SUBTOTAL(103,C$21:C243)","v":58},"44121506-EN-D02","ENVELOPE, DOCUMENTARY, for legal size document",{"$f":"APR!K78","v":0},{"$f":"APR!L78","v":"box"},{"$f":"APR!M78","v":507.4},0]
[{"$f":"SUBTOTAL(103,C$21:C244)","v":59},"44121506-EN-X01","ENVELOPE, EXPANDING, KRAFTBOARD,for legal size doc",{"$f":"APR!K79","v":0},{"$f":"APR!L79","v":"box"},{"$f":"APR!M79","v":621.71},0]
[{"$f":"SUBTOTAL(103,C$21:C245)","v":60},"44121506-EN-X02","ENVELOPE, EXPANDING, PLASTIC",{"$f":"APR!K80","v":0},{"$f":"APR!L80","v":"box"},{"$f":"APR!M80","v":2761},0]
[{"$f":"SUBTOTAL(103,C$21:C246)","v":61},"44121506-EN-M01","ENVELOPE, MAILING",{"$f":"APR!K81","v":0},{"$f":"APR!L81","v":"box"},{"$f":"APR!M81","v":499.2},0]
[{"$f":"SUBTOTAL(103,C$21:C247)","v":62},"44121504-EN-W01","ENVELOPE, MAILING, WITH WINDOW",{"$f":"APR!K82","v":0},{"$f":"APR!L82","v":"box"},{"$f":"APR!M82","v":561.6},0]
[{"$f":"SUBTOTAL(103,C$21:C248)","v":62},"44121506-EN-P01","ENVELOPE, PAY",{"$f":"APR!K83","v":0},{"$f":"APR!L83","v":"box"},{"$f":"APR!M83","v":119.39},0]
[{"$f":"SUBTOTAL(103,C$21:C249)","v":62},"44111912-ER-B01","ERASER, FELT, FOR BLACKBOARD OR WHITEBOARD",{"$f":"APR!K84","v":0},{"$f":"APR!L84","v":"box"},{"$f":"APR!M84","v":133.32},0]
[{"$f":"SUBTOTAL(103,C$21:C250)","v":62},"60121534-ER-P01","ERASER, PLASTIC OR RUBBER",{"$f":"APR!K85","v":0},{"$f":"APR!L85","v":"box"},{"$f":"APR!M85","v":68.7},0]
[{"$f":"SUBTOTAL(103,C$21:C251)","v":62},"43201827-HD-X02","EXTERNAL HARD DRIVE, 1TB, 2.5\"HDD, USB 3.0        ",{"$f":"APR!K86","v":0},{"$f":"APR!L86","v":"pack"},{"$f":"APR!M86","v":28184},0]
[{"$f":"SUBTOTAL(103,C$21:C252)","v":62},"44101714-FX-M01","FACSIMILE MACHINE",{"$f":"APR!K87","v":0},{"$f":"APR!L87","v":"unit"},{"$f":"APR!M87","v":3502.72},0]
[{"$f":"SUBTOTAL(103,C$21:C253)","v":62},"44122118-FA-P01","FASTENER, METAL, 70mm between prongs              ",{"$f":"APR!K88","v":0},{"$f":"APR!L88","v":"pack"},{"$f":"APR!M88","v":570.9},0]
[{"$f":"SUBTOTAL(103,C$21:C254)","v":62},"44111515-FO-X01","FILE ORGANIZER, LEGAL",{"$f":"APR!K89","v":0},{"$f":"APR!L89","v":"box"},{"$f":"APR!M89","v":3533.5},0]
[{"$f":"SUBTOTAL(103,C$21:C255)","v":62},"44122018-FT-D01","FILE TAB DIVIDER, A4",{"$f":"APR!K90","v":0},{"$f":"APR!L90","v":"pack"},{"$f":"APR!M90","v":124.8},0]
[{"$f":"SUBTOTAL(103,C$21:C256)","v":62},"44122018-FT-D02","FILE TAB DIVIDER, LEGAL",{"$f":"APR!K91","v":0},{"$f":"APR!L91","v":"pack"},{"$f":"APR!M91","v":166.4},0]
[{"$f":"SUBTOTAL(103,C$21:C257)","v":62},"46191601-FE-M01","FIRE EXTINGUISHER, DRY CHEMICAL",{"$f":"APR!K92","v":0},{"$f":"APR!L92","v":"unit"},{"$f":"APR!M92","v":1080.56},0]
[{"$f":"SUBTOTAL(103,C$21:C258)","v":62},"46191601-FE-H01","FIRE EXTINGUISHER, PURE HCFC",{"$f":"APR!K93","v":0},{"$f":"APR!L93","v":"unit"},{"$f":"APR!M93","v":4992},0]
[{"$f":"SUBTOTAL(103,C$21:C259)","v":62},"43202101-FD-U01","FLASH DRIVE, 16 GB capacity                       ",{"$f":"APR!K94","v":0},{"$f":"APR!L94","v":"box"},{"$f":"APR!M94","v":972.4},0]
[{"$f":"SUBTOTAL(103,C$21:C260)","v":62},"47131802-FW-L01","FLOOR WAX, LIQUID TYPE, NATURAL",{"$f":"APR!K95","v":0},{"$f":"APR!L95","v":"box"},{"$f":"APR!M95","v":1482},0]
[{"$f":"SUBTOTAL(103,C$21:C261)","v":62},"47131802-FW-P01","FLOOR WAX, PASTE TYPE, NATURAL",{"$f":"APR!K96","v":0},{"$f":"APR!L96","v":"box"},{"$f":"APR!M96","v":894.4},0]
[{"$f":"SUBTOTAL(103,C$21:C262)","v":62},"47131802-FW-P02","FLOOR WAX, PASTE, RED",{"$f":"APR!K97","v":0},{"$f":"APR!L97","v":"box"},{"$f":"APR!M97","v":811.2},0]
[{"$f":"SUBTOTAL(103,C$21:C263)","v":62},"39101605-FL-T03","FLUORESCENT LAMP, 14 WATTS",{"$f":"APR!K98","v":0},{"$f":"APR!L98","v":"box"},{"$f":"APR!M98","v":2210},0]
[{"$f":"SUBTOTAL(103,C$21:C264)","v":62},"39101605-FL-T04","FLUORESCENT LAMP, 28 WATTS",{"$f":"APR!K99","v":0},{"$f":"APR!L99","v":"box"},{"$f":"APR!M99","v":2860},0]
[{"$f":"SUBTOTAL(103,C$21:C265)","v":62},"39101628-LT-L01","LINEAR TUBE, LED, 18 WATTS",{"$f":"APR!K100","v":0},{"$f":"APR!L100","v":"box"},{"$f":"APR!M100","v":5616},0]
[{"$f":"SUBTOTAL(103,C$21:C266)","v":62},"39111501-FF-C02","FLUORESCENT LIGHTING FIXTURES, 1 X 36 WATTS",{"$f":"APR!K101","v":0},{"$f":"APR!L101","v":"box"},{"$f":"APR!M101","v":3640},0]
[{"$f":"SUBTOTAL(103,C$21:C267)","v":62},"44122011-FO-F01","FOLDER, FANCY",{"$f":"APR!K102","v":0},{"$f":"APR!L102","v":"bundle"},{"$f":"APR!M102","v":234},0]
[{"$f":"SUBTOTAL(103,C$21:C268)","v":62},"44122011-FO-F02","FOLDER, FANCY, 320MM X 225MM",{"$f":"APR!K103","v":0},{"$f":"APR!L103","v":"bundle"},{"$f":"APR!M103","v":291.2},0]
[{"$f":"SUBTOTAL(103,C$21:C269)","v":62},"44122011-FO-L01","FOLDER, L-TYPE, A4 SIZE",{"$f":"APR!K104","v":0},{"$f":"APR!L104","v":"box"},{"$f":"APR!M104","v":3993.6},0]
[{"$f":"SUBTOTAL(103,C$21:C270)","v":62},"44122011-FO-L02","FOLDER, L-TYPE, LEGAL SIZE",{"$f":"APR!K105","v":0},{"$f":"APR!L105","v":"box"},{"$f":"APR!M105","v":4892.16},0]
[{"$f":"SUBTOTAL(103,C$21:C271)","v":62},"44122027-FO-P01","FOLDER, PRESSBOARD, size: 240mm x 370mm (-5mm)",{"$f":"APR!K106","v":0},{"$f":"APR!L106","v":"box"},{"$f":"APR!M106","v":746.72},0]
[{"$f":"SUBTOTAL(103,C$21:C272)","v":62},"44122011-FO-T01","FOLDER, TAGBOARD, for A4 size documents           ",{"$f":"APR!K107","v":0},{"$f":"APR!L107","v":"pack"},{"$f":"APR!M107","v":179.28},0]
[{"$f":"SUBTOTAL(103,C$21:C273)","v":62},"44122011-FO-T02","FOLDER, TAGBOARD, for legal size documents        ",{"$f":"APR!K108","v":0},{"$f":"APR!L108","v":"pack"},{"$f":"APR!M108","v":200.37},0]
[{"$f":"SUBTOTAL(103,C$21:C274)","v":62},"47131830-FC-A01","FURNITURE CLEANER",{"$f":"APR!K109","v":0},{"$f":"APR!L109","v":"box"},{"$f":"APR!M109","v":1017.12},0]
[{"$f":"SUBTOTAL(103,C$21:C275)","v":62},"31201610-GL-J01","GLUE, all purpose, gross weight: 200 grams min    ",{"$f":"APR!K110","v":0},{"$f":"APR!L110","v":"box"},{"$f":"APR!M110","v":1590.48},0]
[{"$f":"SUBTOTAL(103,C$21:C276)","v":62},"55101524-RA-H01","HANDBOOK ON RA9184",{"$f":"APR!K111","v":0},{"$f":"APR!L111","v":"bundle"},{"$f":"APR!M111","v":1236.5999999999999},0]
[{"$f":"SUBTOTAL(103,C$21:C277)","v":62},"60121138-IL-B01","ILLUSTRATION BOARD, 760MM X 1000MM",{"$f":"APR!K112","v":0},{"$f":"APR!L112","v":"bundle"},{"$f":"APR!M112","v":701},0]
[{"$f":"SUBTOTAL(103,C$21:C278)","v":62},"44111515-IC-B01","INDEX CARD BOX, 3X5",{"$f":"APR!K113","v":0},{"$f":"APR!L113","v":"pack"},{"$f":"APR!M113","v":364},{"$f":"D278*F278","v":0}]
[{"$f":"SUBTOTAL(103,C$21:C279)","v":62},"44100515-IC-B02","INDEX CARD BOX, 5X8",{"$f":"APR!K114","v":0},{"$f":"APR!L114","v":"pack"},{"$f":"APR!M114","v":551.20000000000005},{"$f":"D279*F279","v":0}]
[{"$f":"SUBTOTAL(103,C$21:C280)","v":62},"14111518-IC-R01","INDEX CARD, 3X5",{"$f":"APR!K115","v":0},{"$f":"APR!L115","v":"box"},{"$f":"APR!M115","v":512.70000000000005},0]
[{"$f":"SUBTOTAL(103,C$21:C281)","v":62},"14111518-IC-R02","INDEX CARD, 5X8",{"$f":"APR!K116","v":0},{"$f":"APR!L116","v":"box"},{"$f":"APR!M116","v":1393.4},0]
[{"$f":"SUBTOTAL(103,C$21:C282)","v":62},"44122008-IT-T01","INDEX TAB",{"$f":"APR!K117","v":0},{"$f":"APR!L117","v":"pack"},{"$f":"APR!M117","v":2395},0]
[{"$f":"SUBTOTAL(103,C$21:C283)","v":62},"12171703-SI-P01","INK, FOR STAMP PAD",{"$f":"APR!K118","v":0},{"$f":"APR!L118","v":"box"},{"$f":"APR!M118","v":295.56},0]
[{"$f":"SUBTOTAL(103,C$21:C284)","v":62},"10191509-IN-A01","INSECTICIDE, aerosol type, net content: 600ml min ",{"$f":"APR!K119","v":0},{"$f":"APR!L119","v":"box"},{"$f":"APR!M119","v":1497.6},0]
[{"$f":"SUBTOTAL(103,C$21:C285)","v":62},"14111609-LL-C01","LOOSELEAF COVER",{"$f":"APR!K120","v":0},{"$f":"APR!L120","v":"bundle"},{"$f":"APR!M120","v":539.76},0]
[{"$f":"SUBTOTAL(103,C$21:C286)","v":62},"44111515-MF-B02","MAGAZINE FILE BOX, LARGE",{"$f":"APR!K121","v":0},{"$f":"APR!L121","v":"pack"},{"$f":"APR!M121","v":832},0]
[{"$f":"SUBTOTAL(103,C$21:C287)","v":62},"60121124-MA-P01","MANILA PAPER",{"$f":"APR!K122","v":0},{"$f":"APR!L122","v":"bundle"},{"$f":"APR!M122","v":520},0]
[{"$f":"SUBTOTAL(103,C$21:C288)","v":62},"44122106-MP-R01","MAP PIN, ROUND HEAD",{"$f":"APR!K123","v":0},{"$f":"APR!L123","v":"box"},{"$f":"APR!M123","v":403.5},0]
[{"$f":"SUBTOTAL(103,C$21:C289)","v":62},"44121716-MA-F01","MARKER, FLUORESCENT",{"$f":"APR!K124","v":0},{"$f":"APR!L124","v":"pack"},{"$f":"APR!M124","v":1706.4},0]
[{"$f":"SUBTOTAL(103,C$21:C290)","v":62},"44121708-MP-B01","MARKER, PERMANENT, bullet type, black             ",{"$f":"APR!K125","v":0},{"$f":"APR!L125","v":"box"},{"$f":"APR!M125","v":115.8},{"$f":"D290*F290","v":0}]
[{"$f":"SUBTOTAL(103,C$21:C291)","v":62},"44121708-MP-B02","MARKER, PERMANENT, bullet type, blue              ",{"$f":"APR!K126","v":0},{"$f":"APR!L126","v":"box"},{"$f":"APR!M126","v":115.8},{"$f":"D291*F291","v":0}]
[{"$f":"SUBTOTAL(103,C$21:C292)","v":62},"44121708-MP-B03","MARKER, PERMANENT, bullet type, red               ",{"$f":"APR!K127","v":0},{"$f":"APR!L127","v":"box"},{"$f":"APR!M127","v":115.8},0]
[{"$f":"SUBTOTAL(103,C$21:C293)","v":62},"44121708-MW-B01","MARKER, WHITEBOARD, black",{"$f":"APR!K128","v":0},{"$f":"APR!L128","v":"box"},{"$f":"APR!M128","v":123.36},0]
[{"$f":"SUBTOTAL(103,C$21:C294)","v":62},"44121708-MW-B02","MARKER, WHITEBOARD, blue",{"$f":"APR!K129","v":0},{"$f":"APR!L129","v":"box"},{"$f":"APR!M129","v":123.36},0]
[{"$f":"SUBTOTAL(103,C$21:C295)","v":62},"44121708-MW-B03","MARKER, WHITEBOARD, red",{"$f":"APR!K130","v":0},{"$f":"APR!L130","v":"box"},{"$f":"APR!M130","v":123.36},0]
[{"$f":"SUBTOTAL(103,C$21:C296)","v":62},"52161533-ME-P01","MEGAPHONE",{"$f":"APR!K131","v":0},{"$f":"APR!L131","v":"unit"},{"$f":"APR!M131","v":2704},0]
[{"$f":"SUBTOTAL(103,C$21:C297)","v":62},"56101519-TMS02","MONOBLOC, TABLE, BEIGE",{"$f":"APR!K132","v":0},{"$f":"APR!L132","v":"unit"},{"$f":"APR!M132","v":1289.5999999999999},0]
[{"$f":"SUBTOTAL(103,C$21:C298)","v":62},"56101519-TM-S01","MONOBLOC, TABLE, WHITE",{"$f":"APR!K133","v":0},{"$f":"APR!L133","v":"unit"},{"$f":"APR!M133","v":1289.5999999999999},0]
[{"$f":"SUBTOTAL(103,C$21:C299)","v":62},"47121804-MP-B01","MOPBUCKET",{"$f":"APR!K134","v":0},{"$f":"APR!L134","v":"unit"},{"$f":"APR!M134","v":1911},0]
[{"$f":"SUBTOTAL(103,C$21:C300)","v":62},"47131613-MP-H02","MOPHANDLE",{"$f":"APR!K135","v":0},{"$f":"APR!L135","v":"bundle"},{"$f":"APR!M135","v":1709.76},0]
[{"$f":"SUBTOTAL(103,C$21:C301)","v":62},"47131619-MP-R01","MOPHEAD, made of rayon, weight: 400 grams min",{"$f":"APR!K136","v":0},{"$f":"APR!L136","v":"bundle"},{"$f":"APR!M136","v":1185.5999999999999},0]
[{"$f":"SUBTOTAL(103,C$21:C302)","v":62},"43211708-MO-O01","MOUSE, OPTICAL, USB CONNECTION TYPE",{"$f":"APR!K137","v":0},{"$f":"APR!L137","v":"pack"},{"$f":"APR!M137","v":1278},0]
[{"$f":"SUBTOTAL(103,C$21:C303)","v":62},"45111609-MM-P01","MULTIMEDIA PROJECTOR, 4000 min ANSI Lumens",{"$f":"APR!K138","v":0},{"$f":"APR!L138","v":"unit"},{"$f":"APR!M138","v":26483.599999999999},0]
[{"$f":"SUBTOTAL(103,C$21:C304)","v":62},"14111514-NB-S01","NOTEBOOK, STENOGRAPHER",{"$f":"APR!K139","v":0},{"$f":"APR!L139","v":"pack"},{"$f":"APR!M139","v":208},0]
[{"$f":"SUBTOTAL(103,C$21:C305)","v":62},"14111514-NP-S02","NOTEPAD, 2X3",{"$f":"APR!K140","v":0},{"$f":"APR!L140","v":"pack"},{"$f":"APR!M140","v":374.4},0]
[{"$f":"SUBTOTAL(103,C$21:C306)","v":62},"14111514-NP-S03","NOTEPAD, 3X3",{"$f":"APR!K141","v":0},{"$f":"APR!L141","v":"pack"},{"$f":"APR!M141","v":486.48},{"$f":"D306*F306","v":0}]
[{"$f":"SUBTOTAL(103,C$21:C307)","v":62},"14111514-NP-S04","NOTEPAD, STICK-ON, 3X4",{"$f":"APR!K142","v":0},{"$f":"APR!L142","v":"pack"},{"$f":"APR!M142","v":648.72},{"$f":"D307*F307","v":0}]
[{"$f":"SUBTOTAL(103,C$21:C308)","v":62},"12181601-OL-G01","OIL, GENERAL PURPOSE LUBRICANT",{"$f":"APR!K143","v":0},{"$f":"APR!L143","v":"box"},{"$f":"APR!M143","v":2656.8},0]
[{"$f":"SUBTOTAL(103,C$21:C309)","v":62},"14111531-PP-R01","PAD PAPER, RULED",{"$f":"APR!K144","v":0},{"$f":"APR!L144","v":"bundle"},{"$f":"APR!M144","v":182.6},0]
[{"$f":"SUBTOTAL(103,C$21:C310)","v":62},"44122104-PC-G01","PAPER CLIP, 32MM",{"$f":"APR!K145","v":0},{"$f":"APR!L145","v":"carton"},{"$f":"APR!M145","v":321.5},0]
[{"$f":"SUBTOTAL(103,C$21:C311)","v":62},"44122104-PC-J02","PAPER CLIP, 48MM",{"$f":"APR!K146","v":0},{"$f":"APR!L146","v":"carton"},{"$f":"APR!M146","v":642.5},0]
[{"$f":"SUBTOTAL(103,C$21:C312)","v":62},"44101603-PS-M01","PAPER SHREDDER",{"$f":"APR!K147","v":0},{"$f":"APR!L147","v":"unit"},{"$f":"APR!M147","v":5699.2},0]
[{"$f":"SUBTOTAL(103,C$21:C313)","v":62},"44101601-PT-M01","PAPER TRIMMER CUTTING MACHINE",{"$f":"APR!K148","v":0},{"$f":"APR!L148","v":"unit"},{"$f":"APR!M148","v":7488},0]
[{"$f":"SUBTOTAL(103,C$21:C314)","v":62},"14111507-PP-M01","PAPER, MULTICOPY, 80gsm, size: 210mm x 297mm",{"$f":"APR!K149","v":0},{"$f":"APR!L149","v":"box"},{"$f":"APR!M149","v":561.6},0]
[{"$f":"SUBTOTAL(103,C$21:C315)","v":62},"14111507-PP-M02","PAPER, MULTICOPY, 80gsm, size: 216mm x 330mm",{"$f":"APR!K150","v":0},{"$f":"APR!L150","v":"box"},{"$f":"APR!M150","v":660.1},0]
[{"$f":"SUBTOTAL(103,C$21:C316)","v":62},"14111507-PP-C01","PAPER, Multi-Purpose (COPY) A4, 70 gsm., 5 reams/box",{"$f":"APR!K151","v":0},{"$f":"APR!L151","v":"box"},{"$f":"APR!M151","v":476.3},0]
[{"$f":"SUBTOTAL(103,C$21:C317)","v":62},"14111507-PP-C02","PAPER, Multi-Purpose (COPY) Legal, 70 gsm.,5 reams/box",{"$f":"APR!K152","v":0},{"$f":"APR!L152","v":"box"},{"$f":"APR!M152","v":571.75},0]
[{"$f":"SUBTOTAL(103,C$21:C318)","v":62},"14111503-PA-P01","PAPER, PARCHMENT",{"$f":"APR!K153","v":0},{"$f":"APR!L153","v":"pack"},{"$f":"APR!M153","v":1768},0]
[{"$f":"SUBTOTAL(103,C$21:C319)","v":62},"14111818-TH-P01","PAPER, THERMAL, 210MM X 30M",{"$f":"APR!K154","v":0},{"$f":"APR!L154","v":"box"},{"$f":"APR!M154","v":1437.6},0]
[{"$f":"SUBTOTAL(103,C$21:C320)","v":62},"14111818-TH-P02","PAPER, THERMAL, 216MM X 30M",{"$f":"APR!K155","v":0},{"$f":"APR!L155","v":"box"},{"$f":"APR!M155","v":1495.2},0]
[{"$f":"SUBTOTAL(103,C$21:C321)","v":62},"44121619-PS-M01","PENCIL SHARPENER",{"$f":"APR!K156","v":0},{"$f":"APR!L156","v":"box"},{"$f":"APR!M156","v":4492.8},0]
[{"$f":"SUBTOTAL(103,C$21:C322)","v":62},"44121706-PE-L01","PENCIL, LEAD WITH ERASER",{"$f":"APR!K157","v":0},{"$f":"APR!L157","v":"pack"},{"$f":"APR!M157","v":235.44},0]
[{"$f":"SUBTOTAL(103,C$21:C323)","v":62},"55121905-PH-F01","PHILIPPINE NATIONAL FLAG",{"$f":"APR!K158","v":0},{"$f":"APR!L158","v":"bundle"},{"$f":"APR!M158","v":2787.2},0]
[{"$f":"SUBTOTAL(103,C$21:C324)","v":62},"43212102-PR-D02","PRINTER, IMPACT DOT MATRIX, 24 pins, 136 column",{"$f":"APR!K159","v":0},{"$f":"APR!L159","v":"unit"},{"$f":"APR!M159","v":18709.599999999999},0]
[{"$f":"SUBTOTAL(103,C$21:C325)","v":62},"43212102-PR-D01","PRINTER, IMPACT DOT MATRIX, 9 pins, 80 columns",{"$f":"APR!K160","v":0},{"$f":"APR!L160","v":"unit"},{"$f":"APR!M160","v":5831.52},0]
[{"$f":"SUBTOTAL(103,C$21:C326)","v":62},"43212104-PR-I01","PRINTER, INKJET, WIRELESS",{"$f":"APR!K161","v":0},{"$f":"APR!L161","v":"unit"},{"$f":"APR!M161","v":10000},0]
[{"$f":"SUBTOTAL(103,C$21:C327)","v":62},"43212105-PR-L01","PRINTER, LASER, MONOCHROME",{"$f":"APR!K162","v":0},{"$f":"APR!L162","v":"unit"},{"$f":"APR!M162","v":1237.5999999999999},{"$f":"D327*F327","v":0}]
[{"$f":"SUBTOTAL(103,C$21:C328)","v":62},"44101602-PU-P01","PUNCHER, paper, heavy duty, with two hole guide   ",{"$f":"APR!K163","v":0},{"$f":"APR!L163","v":"carton"},{"$f":"APR!M163","v":2742.72},{"$f":"D328*F328","v":0}]
[{"$f":"SUBTOTAL(103,C$21:C329)","v":62},"44122106-PP-F02","PUSH PIN",{"$f":"APR!K164","v":0},{"$f":"APR!L164","v":"box"},{"$f":"APR!M164","v":299.52},0]
[{"$f":"SUBTOTAL(103,C$21:C330)","v":62},"47131501-RG-C01","RAGS, ALL COTTON",{"$f":"APR!K165","v":0},{"$f":"APR!L165","v":"sack"},{"$f":"APR!M165","v":1490.7},0]
[{"$f":"SUBTOTAL(103,C$21:C331)","v":62},"14111531-RE-B01","RECORD BOOK, 300 PAGES, size: 214mm x 278mm min   ",{"$f":"APR!K166","v":0},{"$f":"APR!L166","v":"bundle"},{"$f":"APR!M166","v":603.20000000000005},0]
[{"$f":"SUBTOTAL(103,C$21:C332)","v":62},"14111531-RE-B02","RECORD BOOK, 500 PAGES, size: 214mm x 278mm min   ",{"$f":"APR!K167","v":0},{"$f":"APR!L167","v":"bundle"},{"$f":"APR!M167","v":434.25},0]
[{"$f":"SUBTOTAL(103,C$21:C333)","v":62},"44102606-RI-T01","RIBBON, FOR MANUAL TYPEWRITER",{"$f":"APR!K168","v":0},{"$f":"APR!L168","v":"box"},{"$f":"APR!M168","v":205.68},0]
[{"$f":"SUBTOTAL(103,C$21:C334)","v":62},"44122037-RB-P07","RING BINDER, PLASTIC, 25MM",{"$f":"APR!K169","v":0},{"$f":"APR!L169","v":"pack"},{"$f":"APR!M169","v":2412.8000000000002},0]
[{"$f":"SUBTOTAL(103,C$21:C335)","v":62},"44122037-RB-P09","RING BINDER, PLASTIC, 32MM",{"$f":"APR!K170","v":0},{"$f":"APR!L170","v":"pack"},{"$f":"APR!M170","v":4109.92},0]
[{"$f":"SUBTOTAL(103,C$21:C336)","v":62},"44122037-RB-P12","RING BINDER, PLASTIC, 50MM",{"$f":"APR!K171","v":0},{"$f":"APR!L171","v":"pack"},{"$f":"APR!M171","v":4656.4799999999996},0]
[{"$f":"SUBTOTAL(103,C$21:C337)","v":62},"44122101-RU-B01","RUBBER BAND, #18",{"$f":"APR!K172","v":0},{"$f":"APR!L172","v":"carton"},{"$f":"APR!M172","v":4665.5},0]
[{"$f":"SUBTOTAL(103,C$21:C338)","v":62},"41111604-RU-P02","RULER, PLASTIC, 450MM",{"$f":"APR!K173","v":0},{"$f":"APR!L173","v":"box"},{"$f":"APR!M173","v":774},0]
[{"$f":"SUBTOTAL(103,C$21:C339)","v":62},"44121618-SS-S01","SCISSORS",{"$f":"APR!K174","v":0},{"$f":"APR!L174","v":"box"},{"$f":"APR!M174","v":494.28},0]
[{"$f":"SUBTOTAL(103,C$21:C340)","v":62},"47131602-SC-N01","SCOURING PAD",{"$f":"APR!K175","v":0},{"$f":"APR!L175","v":"box"},{"$f":"APR!M175","v":2059.1999999999998},0]
[{"$f":"SUBTOTAL(103,C$21:C341)","v":62},"60121524-SP-G01","SIGN PEN, BLACK, liquid/gel ink, 0.5mm needle tip ",{"$f":"APR!K176","v":0},{"$f":"APR!L176","v":"box"},{"$f":"APR!M176","v":457.2},0]
[{"$f":"SUBTOTAL(103,C$21:C342)","v":62},"60121524-SP-G02","SIGN PEN, BLUE, liquid/gel ink, 0.5mm needle tip  ",{"$f":"APR!K177","v":0},{"$f":"APR!L177","v":"box"},{"$f":"APR!M177","v":457.2},0]
[{"$f":"SUBTOTAL(103,C$21:C343)","v":62},"60121524-SP-G03","SIGN PEN, RED, liquid/gel ink, 0.5mm needle tip   ",{"$f":"APR!K178","v":0},{"$f":"APR!L178","v":"box"},{"$f":"APR!M178","v":457.2},0]
[{"$f":"SUBTOTAL(103,C$21:C344)","v":62},"53131608-SB-R01","SOAP, BATHROOM",{"$f":"APR!K179","v":0},{"$f":"APR!L179","v":"carton"},{"$f":"APR!M179","v":1453.4},0]
[{"$f":"SUBTOTAL(103,C$21:C345)","v":62},"44121905-SP-F01","STAMP PAD, FELT",{"$f":"APR!K180","v":0},{"$f":"APR!L180","v":"pack"},{"$f":"APR!M180","v":331.92},0]
[{"$f":"SUBTOTAL(103,C$21:C346)","v":62},"44121613-SR-P01","STAPLE REMOVER, PLIER TYPE",{"$f":"APR!K181","v":0},{"$f":"APR!L181","v":"box"},{"$f":"APR!M181","v":436.32},0]
[{"$f":"SUBTOTAL(103,C$21:C347)","v":62},"31151804-SW-H01","STAPLE WIRE, HEAVY DUTY, 23/13",{"$f":"APR!K182","v":0},{"$f":"APR!L182","v":"pack"},{"$f":"APR!M182","v":234},0]
[{"$f":"SUBTOTAL(103,C$21:C348)","v":62},"31151804-SW-H02","STAPLE WIRE, HEAVY DUTY, 23/17",{"$f":"APR!K183","v":0},{"$f":"APR!L183","v":"pack"},{"$f":"APR!M183","v":414.8},0]
[{"$f":"SUBTOTAL(103,C$21:C349)","v":62},"31151804-SW-S01","STAPLE WIRE, STANDARD",{"$f":"APR!K184","v":0},{"$f":"APR!L184","v":"carton"},{"$f":"APR!M184","v":1892},0]
[{"$f":"SUBTOTAL(103,C$21:C350)","v":62},"44121615-ST-B01","STAPLER, BINDER",{"$f":"APR!K185","v":0},{"$f":"APR!L185","v":"unit"},{"$f":"APR!M185","v":878.8},0]
[{"$f":"SUBTOTAL(103,C$21:C351)","v":62},"44121615-ST-S01","STAPLER, STANDARD TYPE, load cap: 200 staples min ",{"$f":"APR!K186","v":0},{"$f":"APR!L186","v":"pack"},{"$f":"APR!M186","v":657.28},0]
[{"$f":"SUBTOTAL(103,C$21:C352)","v":62},"44121605-TD-H01","TAPE DISPENSER, HANDHELD",{"$f":"APR!K187","v":0},{"$f":"APR!L187","v":"box"},{"$f":"APR!M187","v":291},0]
[{"$f":"SUBTOTAL(103,C$21:C353)","v":62},"44121605-TD-T01","TAPE DISPENSER, TABLE TOP",{"$f":"APR!K188","v":0},{"$f":"APR!L188","v":"piece"},{"$f":"APR!M188","v":47.72},0]
[{"$f":"SUBTOTAL(103,C$21:C354)","v":62},"31201502-TA-E01","TAPE, ELECTRICAL",{"$f":"APR!K189","v":0},{"$f":"APR!L189","v":"pack"},{"$f":"APR!M189","v":455},0]
[{"$f":"SUBTOTAL(103,C$21:C355)","v":62},"14111515-TA-C01","TAPE, FOR ADDING MACHINE",{"$f":"APR!K190","v":0},{"$f":"APR!L190","v":"pack"},{"$f":"APR!M190","v":162.19999999999999},0]
[{"$f":"SUBTOTAL(103,C$21:C356)","v":62},"31201503-TA-M01","TAPE, MASKING, width: 24mm (±1mm)                 ",{"$f":"APR!K191","v":0},{"$f":"APR!L191","v":"pack"},{"$f":"APR!M191","v":661.44},0]
[{"$f":"SUBTOTAL(103,C$21:C357)","v":62},"31201503-TA-M02","TAPE, MASKING, width: 48mm (±1mm)                 ",{"$f":"APR!K192","v":0},{"$f":"APR!L192","v":"pack"},{"$f":"APR!M192","v":630.24},0]
[{"$f":"SUBTOTAL(103,C$21:C358)","v":62},"31201517-TA-P01","TAPE, PACKAGING, width: 48mm (±1mm)               ",{"$f":"APR!K193","v":0},{"$f":"APR!L193","v":"pack"},{"$f":"APR!M193","v":196.44},0]
[{"$f":"SUBTOTAL(103,C$21:C359)","v":62},"31201512-TA-T01","TAPE, TRANSPARENT, width: 24mm (±1mm)             ",{"$f":"APR!K194","v":0},{"$f":"APR!L194","v":"pack"},{"$f":"APR!M194","v":131.04},0]
[{"$f":"SUBTOTAL(103,C$21:C360)","v":62},"31201512-TA-T02","TAPE, TRANSPARENT, width: 48mm (±1mm)             ",{"$f":"APR!K195","v":0},{"$f":"APR!L195","v":"pack"},{"$f":"APR!M195","v":159.12},0]
[{"$f":"SUBTOTAL(103,C$21:C361)","v":62},"44103205-TC-A01","TIME CARD, AMANO",{"$f":"APR!K196","v":0},{"$f":"APR!L196","v":"pack"},{"$f":"APR!M196","v":694.7},0]
[{"$f":"SUBTOTAL(103,C$21:C362)","v":62},"14111704-TT-P01","TOILET TISSUE PAPER 2-plys sheets, 150 pulls      ",{"$f":"APR!K197","v":0},{"$f":"APR!L197","v":"box"},{"$f":"APR!M197","v":540.79999999999995},0]
[{"$f":"SUBTOTAL(103,C$21:C363)","v":62},"47121701-TB-P01","TRASHBAG, plastic, gusseted type, black,          ",{"$f":"APR!K198","v":0},{"$f":"APR!L198","v":"sack"},{"$f":"APR!M198","v":4196.3999999999996},0]
[{"$f":"SUBTOTAL(103,C$21:C364)","v":62},"31151507-TW-P01","TWINE, PLASTIC",{"$f":"APR!K199","v":0},{"$f":"APR!L199","v":"bundle"},{"$f":"APR!M199","v":499.2},0]
[{"$f":"SUBTOTAL(103,C$21:C365)","v":62},"47121702-WB-P01","WASTEBASKET, NON RIGID PLASTIC",{"$f":"APR!K200","v":0},{"$f":"APR!L200","v":"bundle"},{"$f":"APR!M200","v":573.6},0]
[{"$f":"SUBTOTAL(103,C$21:C366)","v":62},"43222609-WR-R01","WIRELESS N-ROUTER",{"$f":"APR!K201","v":0},{"$f":"APR!L201","v":"unit"},{"$f":"APR!M201","v":1037.92},0]
[{"$f":"SUBTOTAL(103,C$21:C367)","v":62},"60121124-WR-P02","WRAPPING PAPER",{"$f":"APR!K202","v":0},{"$f":"APR!L202","v":"bundle"},{"$f":"APR!M202","v":2576.8000000000002},0]
[]
["FOR THE LATEST PRICES AND DETAILED SPECIFICATIONS, PLEASE REFER TO THE ELECTRONIC CATALOGUE @ www.procurementservice.gov.ph/www.philgeps.gov.ph"]
["For verification of balances, call PS-Acctg Division @ Tel. Nos. (02) 563-9351 or email us at accounting@procurementservice.gov.ph"]
["NOTE: ALL SIGNATURES MUST BE OVER PRINTED NAME"]
["STOCKS REQUESTED ARE CERTIFIED TO BE     FUNDS CERTIFIED AVAILABLE:                              APPROVED:"]
["WITHIN APPROVED PROGRAM:"]
[]
[]
[]
["   AGENCY PROPERTY/SUPPLY OFFICER                         AGENCY CHIEF ACCOUNTANT                        AGENCY HEAD/AUTHORIZED SIGNATURE"]
[]
[{"$f":"APR!B215","v":"[  ] FUNDS DEPOSITED WITH PS    [  ] ___________________ CHECK No. ____________________"}]
[{"$f":"APR!B216","v":"IN THE AMOUNT OF: ____________________________________________________________ (P _____________________ ) ENCLOSED"}]
[]
[{"$f":"SUBTOTAL(103,C$21:C382)","v":63},"44121506-EN-P01","ENVELOPE, PAY, 500 pieces per box",{"$f":"APR!K83","v":0},{"$f":"APR!L83","v":"box"},{"$f":"APR!M83","v":119.39},{"$f":"D382*F382","v":0}]
[{"$f":"SUBTOTAL(103,C$21:C383)","v":64},"44111912-ER-B01","ERASER, FELT, FOR BLACKBOARD OR WHITEBOARD",{"$f":"APR!K84","v":0},{"$f":"APR!L84","v":"box"},{"$f":"APR!M84","v":133.32},0]
[{"$f":"SUBTOTAL(103,C$21:C384)","v":65},"60121534-ER-P01","ERASER, PLASTIC OR RUBBER",{"$f":"APR!K85","v":0},{"$f":"APR!L85","v":"box"},{"$f":"APR!M85","v":68.7},0]
[{"$f":"SUBTOTAL(103,C$21:C385)","v":66},"43201827-HD-X02","EXTERNAL HARD DRIVE, 1TB, 2.5\"HDD, USB 3.0, 1 unit \nin individual box",{"$f":"APR!K86","v":0},{"$f":"APR!L86","v":"pack"},{"$f":"APR!M86","v":28184},0]
[{"$f":"SUBTOTAL(103,C$21:C386)","v":67},"44101714-FX-M01","FACSIMILE MACHINE",{"$f":"APR!K87","v":0},{"$f":"APR!L87","v":"unit"},{"$f":"APR!M87","v":3502.72},0]
[{"$f":"SUBTOTAL(103,C$21:C387)","v":68},"44122118-FA-P01","FASTENER, METAL, 70mm between prongs, 50 sets per box",{"$f":"APR!K88","v":0},{"$f":"APR!L88","v":"pack"},{"$f":"APR!M88","v":570.9},0]
[{"$f":"SUBTOTAL(103,C$21:C388)","v":69},"44111515-FO-X01","FILE ORGANIZER, LEGAL",{"$f":"APR!K89","v":0},{"$f":"APR!L89","v":"box"},{"$f":"APR!M89","v":3533.5},0]
[{"$f":"SUBTOTAL(103,C$21:C389)","v":70},"44122018-FT-D01","FILE TAB DIVIDER, A4",{"$f":"APR!K90","v":0},{"$f":"APR!L90","v":"pack"},{"$f":"APR!M90","v":124.8},0]
[{"$f":"SUBTOTAL(103,C$21:C390)","v":71},"44122018-FT-D02","FILE TAB DIVIDER, LEGAL",{"$f":"APR!K91","v":0},{"$f":"APR!L91","v":"pack"},{"$f":"APR!M91","v":166.4},0]
[{"$f":"SUBTOTAL(103,C$21:C391)","v":72},"46191601-FE-M01","FIRE EXTINGUISHER, DRY CHEMICAL",{"$f":"APR!K92","v":0},{"$f":"APR!L92","v":"unit"},{"$f":"APR!M92","v":1080.56},0]
[{"$f":"SUBTOTAL(103,C$21:C392)","v":73},"46191601-FE-H01","FIRE EXTINGUISHER, PURE HCFC",{"$f":"APR!K93","v":0},{"$f":"APR!L93","v":"unit"},{"$f":"APR!M93","v":4992},0]
[{"$f":"SUBTOTAL(103,C$21:C393)","v":74},"43202101-FD-U01","FLASH DRIVE, 16 GB capacity,1 piece in individual blister pack              ",{"$f":"APR!K94","v":0},{"$f":"APR!L94","v":"box"},{"$f":"APR!M94","v":972.4},0]
[{"$f":"SUBTOTAL(103,C$21:C394)","v":75},"47131802-FW-L01","FLOOR WAX, LIQUID TYPE, NATURAL",{"$f":"APR!K95","v":0},{"$f":"APR!L95","v":"box"},{"$f":"APR!M95","v":1482},0]
[{"$f":"SUBTOTAL(103,C$21:C395)","v":76},"47131802-FW-P01","FLOOR WAX, PASTE TYPE, NATURAL",{"$f":"APR!K96","v":0},{"$f":"APR!L96","v":"box"},{"$f":"APR!M96","v":894.4},0]
[{"$f":"SUBTOTAL(103,C$21:C396)","v":77},"47131802-FW-P02","FLOOR WAX, PASTE, RED",{"$f":"APR!K97","v":0},{"$f":"APR!L97","v":"box"},{"$f":"APR!M97","v":811.2},0]
[{"$f":"SUBTOTAL(103,C$21:C397)","v":78},"39101605-FL-T03","FLUORESCENT LAMP, 14 WATTS",{"$f":"APR!K98","v":0},{"$f":"APR!L98","v":"box"},{"$f":"APR!M98","v":2210},0]
[{"$f":"SUBTOTAL(103,C$21:C398)","v":79},"39101605-FL-T04","FLUORESCENT LAMP, 28 WATTS",{"$f":"APR!K99","v":0},{"$f":"APR!L99","v":"box"},{"$f":"APR!M99","v":2860},0]
[{"$f":"SUBTOTAL(103,C$21:C399)","v":80},"39101628-LT-L01","LINEAR TUBE, LED, 18 WATTS",{"$f":"APR!K100","v":0},{"$f":"APR!L100","v":"box"},{"$f":"APR!M100","v":5616},0]
[{"$f":"SUBTOTAL(103,C$21:C400)","v":81},"39111501-FF-C02","FLUORESCENT LIGHTING FIXTURES, 1 X 36 WATTS",{"$f":"APR!K101","v":0},{"$f":"APR!L101","v":"box"},{"$f":"APR!M101","v":3640},0]
[{"$f":"SUBTOTAL(103,C$21:C401)","v":82},"44122011-FO-F01","FOLDER, FANCY, A4, 50 pieces per bundle",{"$f":"APR!K102","v":0},{"$f":"APR!L102","v":"bundle"},{"$f":"APR!M102","v":234},0]
[{"$f":"SUBTOTAL(103,C$21:C402)","v":83},"44122011-FO-F02","FOLDER, FANCY, legal, 50 pieces per bundle",{"$f":"APR!K103","v":0},{"$f":"APR!L103","v":"bundle"},{"$f":"APR!M103","v":291.2},0]
[{"$f":"SUBTOTAL(103,C$21:C403)","v":84},"44122011-FO-L01","FOLDER, L-TYPE, A4 SIZE, 50 pieces per pack",{"$f":"APR!K104","v":0},{"$f":"APR!L104","v":"box"},{"$f":"APR!M104","v":3993.6},0]
[{"$f":"SUBTOTAL(103,C$21:C404)","v":85},"44122011-FO-L02","FOLDER, L-TYPE, LEGAL SIZE, 50 pieces per pack",{"$f":"APR!K105","v":0},{"$f":"APR!L105","v":"box"},{"$f":"APR!M105","v":4892.16},0]
[{"$f":"SUBTOTAL(103,C$21:C405)","v":86},"44122027-FO-P01","FOLDER, PRESSBOARD, size: 240mm x 370mm (-5mm), 100 pieces per box    ",{"$f":"APR!K106","v":0},{"$f":"APR!L106","v":"box"},{"$f":"APR!M106","v":746.72},0]
[{"$f":"SUBTOTAL(103,C$21:C406)","v":87},"44122011-FO-T01","FOLDER, TAGBOARD, for A4 size documents, \n100 pieces per pack",{"$f":"APR!K107","v":0},{"$f":"APR!L107","v":"pack"},{"$f":"APR!M107","v":179.28},0]
[{"$f":"SUBTOTAL(103,C$21:C407)","v":88},"44122011-FO-T02","FOLDER, TAGBOARD, for legal size documents ,100 pieces per pack        ",{"$f":"APR!K108","v":0},{"$f":"APR!L108","v":"pack"},{"$f":"APR!M108","v":200.37},0]
[{"$f":"SUBTOTAL(103,C$21:C408)","v":89},"47131830-FC-A01","FURNITURE CLEANER, aerosol, 300ml min./can",{"$f":"APR!K109","v":0},{"$f":"APR!L109","v":"box"},{"$f":"APR!M109","v":1017.12},0]
[{"$f":"SUBTOTAL(103,C$21:C409)","v":90},"31201610-GL-J01","GLUE, all purpose, gross weight: 200 grams min    ",{"$f":"APR!K110","v":0},{"$f":"APR!L110","v":"box"},{"$f":"APR!M110","v":1590.48},0]
[{"$f":"SUBTOTAL(103,C$21:C410)","v":91},"55101524-RA-H01","HANDBOOK ON RA9184",{"$f":"APR!K111","v":0},{"$f":"APR!L111","v":"bundle"},{"$f":"APR!M111","v":1236.5999999999999},0]
[{"$f":"SUBTOTAL(103,C$21:C411)","v":92},"60121138-IL-B01","ILLUSTRATION BOARD, 760MM X 1000MM",{"$f":"APR!K112","v":0},{"$f":"APR!L112","v":"bundle"},{"$f":"APR!M112","v":701},0]
[{"$f":"SUBTOTAL(103,C$21:C412)","v":93},"44111515-IC-B01","INDEX CARD BOX, 3X5",{"$f":"APR!K113","v":0},{"$f":"APR!L113","v":"pack"},{"$f":"APR!M113","v":364},{"$f":"D412*F412","v":0}]
[{"$f":"SUBTOTAL(103,C$21:C413)","v":93},"44100515-IC-B02","INDEX CARD BOX, 5X8",{"$f":"APR!K114","v":0},{"$f":"APR!L114","v":"pack"},{"$f":"APR!M114","v":551.20000000000005},{"$f":"D413*F413","v":0}]
[{"$f":"SUBTOTAL(103,C$21:C414)","v":93},"14111518-IC-R01","INDEX CARD, 3X5, 500 pieces per pack",{"$f":"APR!K115","v":0},{"$f":"APR!L115","v":"box"},{"$f":"APR!M115","v":512.70000000000005},0]
[{"$f":"SUBTOTAL(103,C$21:C415)","v":93},"14111518-IC-R02","INDEX CARD, 5X8, 500 pieces per pack",{"$f":"APR!K116","v":0},{"$f":"APR!L116","v":"box"},{"$f":"APR!M116","v":1393.4},0]
[{"$f":"SUBTOTAL(103,C$21:C416)","v":93},"44122008-IT-T01","INDEX TAB, 5 sets per box",{"$f":"APR!K117","v":0},{"$f":"APR!L117","v":"pack"},{"$f":"APR!M117","v":2395},0]
[{"$f":"SUBTOTAL(103,C$21:C417)","v":93},"12171703-SI-P01","STAMP PAD INK, purple or violet, 50ml (min.)",{"$f":"APR!K118","v":0},{"$f":"APR!L118","v":"box"},{"$f":"APR!M118","v":295.56},0]
[{"$f":"SUBTOTAL(103,C$21:C418)","v":93},"10191509-IN-A01","INSECTICIDE, aerosol type, net content: 600ml min ",{"$f":"APR!K119","v":0},{"$f":"APR!L119","v":"box"},{"$f":"APR!M119","v":1497.6},0]
[{"$f":"SUBTOTAL(103,C$21:C419)","v":93},"14111609-LL-C01","LOOSELEAF COVER, 50 sets per bundle",{"$f":"APR!K120","v":0},{"$f":"APR!L120","v":"bundle"},{"$f":"APR!M120","v":539.76},0]
[{"$f":"SUBTOTAL(103,C$21:C420)","v":93},"44111515-MF-B02","MAGAZINE FILE BOX, LARGE",{"$f":"APR!K121","v":0},{"$f":"APR!L121","v":"pack"},{"$f":"APR!M121","v":832},0]
[{"$f":"SUBTOTAL(103,C$21:C421)","v":93},"60121124-MA-P01","MANILA PAPER, 10 sheets per pack",{"$f":"APR!K122","v":0},{"$f":"APR!L122","v":"bundle"},{"$f":"APR!M122","v":520},0]
[{"$f":"SUBTOTAL(103,C$21:C422)","v":93},"44122106-MP-R01","MAP PIN, ROUND HEAD, 100 pieces per case",{"$f":"APR!K123","v":0},{"$f":"APR!L123","v":"box"},{"$f":"APR!M123","v":403.5},0]
[{"$f":"SUBTOTAL(103,C$21:C423)","v":93},"44121716-MA-F01","MARKER, FLUORESCENT, 3 colors per set",{"$f":"APR!K124","v":0},{"$f":"APR!L124","v":"pack"},{"$f":"APR!M124","v":1706.4},0]
[{"$f":"SUBTOTAL(103,C$21:C424)","v":93},"44121708-MP-B01","MARKER, PERMANENT, bullet type, black             ",{"$f":"APR!K125","v":0},{"$f":"APR!L125","v":"box"},{"$f":"APR!M125","v":115.8},{"$f":"D424*F424","v":0}]
[{"$f":"SUBTOTAL(103,C$21:C425)","v":93},"44121708-MP-B02","MARKER, PERMANENT, bullet type, blue              ",{"$f":"APR!K126","v":0},{"$f":"APR!L126","v":"box"},{"$f":"APR!M126","v":115.8},{"$f":"D425*F425","v":0}]
[{"$f":"SUBTOTAL(103,C$21:C426)","v":93},"44121708-MP-B03","MARKER, PERMANENT, bullet type, red               ",{"$f":"APR!K127","v":0},{"$f":"APR!L127","v":"box"},{"$f":"APR!M127","v":115.8},0]
[{"$f":"SUBTOTAL(103,C$21:C427)","v":93},"44121708-MW-B01","MARKER, WHITEBOARD, black",{"$f":"APR!K128","v":0},{"$f":"APR!L128","v":"box"},{"$f":"APR!M128","v":123.36},0]
[{"$f":"SUBTOTAL(103,C$21:C428)","v":93},"44121708-MW-B02","MARKER, WHITEBOARD, blue",{"$f":"APR!K129","v":0},{"$f":"APR!L129","v":"box"},{"$f":"APR!M129","v":123.36},0]
[{"$f":"SUBTOTAL(103,C$21:C429)","v":93},"44121708-MW-B03","MARKER, WHITEBOARD, red",{"$f":"APR!K130","v":0},{"$f":"APR!L130","v":"box"},{"$f":"APR!M130","v":123.36},0]
[{"$f":"SUBTOTAL(103,C$21:C430)","v":93},"52161533-ME-P01","MEGAPHONE",{"$f":"APR!K131","v":0},{"$f":"APR!L131","v":"unit"},{"$f":"APR!M131","v":2704},0]
[{"$f":"SUBTOTAL(103,C$21:C431)","v":93},"56101519-TMS02","MONOBLOC, TABLE, BEIGE",{"$f":"APR!K132","v":0},{"$f":"APR!L132","v":"unit"},{"$f":"APR!M132","v":1289.5999999999999},0]
[{"$f":"SUBTOTAL(103,C$21:C432)","v":93},"56101519-TM-S01","MONOBLOC, TABLE, WHITE",{"$f":"APR!K133","v":0},{"$f":"APR!L133","v":"unit"},{"$f":"APR!M133","v":1289.5999999999999},0]
[{"$f":"SUBTOTAL(103,C$21:C433)","v":93},"47121804-MP-B01","MOPBUCKET",{"$f":"APR!K134","v":0},{"$f":"APR!L134","v":"unit"},{"$f":"APR!M134","v":1911},0]
[{"$f":"SUBTOTAL(103,C$21:C434)","v":93},"47131613-MP-H02","MOPHANDLE",{"$f":"APR!K135","v":0},{"$f":"APR!L135","v":"bundle"},{"$f":"APR!M135","v":1709.76},0]
[{"$f":"SUBTOTAL(103,C$21:C435)","v":93},"47131619-MP-R01","MOPHEAD, made of rayon, weight: 400 grams min     ",{"$f":"APR!K136","v":0},{"$f":"APR!L136","v":"bundle"},{"$f":"APR!M136","v":1185.5999999999999},0]
[{"$f":"SUBTOTAL(103,C$21:C436)","v":93},"43211708-MO-O01","MOUSE, OPTICAL, USB CONNECTION TYPE, 1 unit in individual box",{"$f":"APR!K137","v":0},{"$f":"APR!L137","v":"pack"},{"$f":"APR!M137","v":1278},0]
[{"$f":"SUBTOTAL(103,C$21:C437)","v":93},"45111609-MM-P01","MULTIMEDIA PROJECTOR, 4000 min ANSI Lumens        ",{"$f":"APR!K138","v":0},{"$f":"APR!L138","v":"unit"},{"$f":"APR!M138","v":26483.599999999999},0]
[{"$f":"SUBTOTAL(103,C$21:C438)","v":93},"14111514-NB-S01","NOTEBOOK, STENOGRAPHER, spiral, 40 leaves         ",{"$f":"APR!K139","v":0},{"$f":"APR!L139","v":"pack"},{"$f":"APR!M139","v":208},0]
[{"$f":"SUBTOTAL(103,C$21:C439)","v":93},"14111514-NP-S02","NOTEPAD, STICK-ON, 2X3, 100 sheets per pad",{"$f":"APR!K140","v":0},{"$f":"APR!L140","v":"pack"},{"$f":"APR!M140","v":374.4},0]
[{"$f":"SUBTOTAL(103,C$21:C440)","v":93},"14111514-NP-S03","NOTEPAD, STICK-ON, 3X3, 100 sheets per pad",{"$f":"APR!K141","v":0},{"$f":"APR!L141","v":"pack"},{"$f":"APR!M141","v":486.48},{"$f":"D440*F440","v":0}]
[{"$f":"SUBTOTAL(103,C$21:C441)","v":93},"14111514-NP-S04","NOTEPAD, STICK-ON, 3X4, 100 sheets per pad",{"$f":"APR!K142","v":0},{"$f":"APR!L142","v":"pack"},{"$f":"APR!M142","v":648.72},{"$f":"D441*F441","v":0}]
[{"$f":"SUBTOTAL(103,C$21:C442)","v":93},"12181601-OL-G01","OIL, GENERAL PURPOSE LUBRICANT, 120ml per bottle",{"$f":"APR!K143","v":0},{"$f":"APR!L143","v":"box"},{"$f":"APR!M143","v":2656.8},0]
[{"$f":"SUBTOTAL(103,C$21:C443)","v":93},"14111531-PP-R01","PAD PAPER, RULED",{"$f":"APR!K144","v":0},{"$f":"APR!L144","v":"bundle"},{"$f":"APR!M144","v":182.6},0]
[{"$f":"SUBTOTAL(103,C$21:C444)","v":93},"44122104-PC-G01","PAPER CLIP, 32MM, 100 pieces per box\nor 52 grams (min.) (net of box)",{"$f":"APR!K145","v":0},{"$f":"APR!L145","v":"carton"},{"$f":"APR!M145","v":321.5},0]
[{"$f":"SUBTOTAL(103,C$21:C445)","v":93},"44122104-PC-J02","PAPER CLIP, 48MM, 100 pieces per box\nor 120 grams (min.) (net of box)",{"$f":"APR!K146","v":0},{"$f":"APR!L146","v":"carton"},{"$f":"APR!M146","v":642.5},0]
[{"$f":"SUBTOTAL(103,C$21:C446)","v":93},"44101603-PS-M01","PAPER SHREDDER",{"$f":"APR!K147","v":0},{"$f":"APR!L147","v":"unit"},{"$f":"APR!M147","v":5699.2},0]
[{"$f":"SUBTOTAL(103,C$21:C447)","v":93},"44101601-PT-M01","PAPER TRIMMER CUTTING MACHINE",{"$f":"APR!K148","v":0},{"$f":"APR!L148","v":"unit"},{"$f":"APR!M148","v":7488},0]
[{"$f":"SUBTOTAL(103,C$21:C448)","v":93},"14111507-PP-M01","PAPER, MULTICOPY, 80gsm, size: 210mm x 297mm      ",{"$f":"APR!K149","v":0},{"$f":"APR!L149","v":"box"},{"$f":"APR!M149","v":561.6},0]
[{"$f":"SUBTOTAL(103,C$21:C449)","v":93},"14111507-PP-M02","PAPER, MULTICOPY, 80gsm, size: 216mm x 330mm      ",{"$f":"APR!K150","v":0},{"$f":"APR!L150","v":"box"},{"$f":"APR!M150","v":660.1},0]
[{"$f":"SUBTOTAL(103,C$21:C450)","v":93},"14111507-PP-C01","PAPER, Multi-Purpose (COPY) A4, 70 gsm., 5 reams/box",{"$f":"APR!K151","v":0},{"$f":"APR!L151","v":"box"},{"$f":"APR!M151","v":476.3},0]
[{"$f":"SUBTOTAL(103,C$21:C451)","v":93},"14111507-PP-C02","PAPER, Multi-Purpose (COPY) Legal, 70 gsm., 5 reams/box",{"$f":"APR!K152","v":0},{"$f":"APR!L152","v":"box"},{"$f":"APR!M152","v":571.75},0]
[{"$f":"SUBTOTAL(103,C$21:C452)","v":93},"14111503-PA-P01","PAPER, PARCHMENT, 100 sheets per box",{"$f":"APR!K153","v":0},{"$f":"APR!L153","v":"pack"},{"$f":"APR!M153","v":1768},0]
[{"$f":"SUBTOTAL(103,C$21:C453)","v":93},"14111818-TH-P01","PAPER, THERMAL, 210MM X 30M",{"$f":"APR!K154","v":0},{"$f":"APR!L154","v":"box"},{"$f":"APR!M154","v":1437.6},0]
[{"$f":"SUBTOTAL(103,C$21:C454)","v":93},"14111818-TH-P02","PAPER, THERMAL, 216MM X 30M",{"$f":"APR!K155","v":0},{"$f":"APR!L155","v":"box"},{"$f":"APR!M155","v":1495.2},0]
[{"$f":"SUBTOTAL(103,C$21:C455)","v":93},"44121619-PS-M01","PENCIL SHARPENER",{"$f":"APR!K156","v":0},{"$f":"APR!L156","v":"box"},{"$f":"APR!M156","v":4492.8},0]
[{"$f":"SUBTOTAL(103,C$21:C456)","v":93},"44121706-PE-L01","PENCIL, LEAD WITH ERASER",{"$f":"APR!K157","v":0},{"$f":"APR!L157","v":"pack"},{"$f":"APR!M157","v":235.44},0]
[{"$f":"SUBTOTAL(103,C$21:C457)","v":93},"55121905-PH-F01","PHILIPPINE NATIONAL FLAG",{"$f":"APR!K158","v":0},{"$f":"APR!L158","v":"bundle"},{"$f":"APR!M158","v":2787.2},0]
[{"$f":"SUBTOTAL(103,C$21:C458)","v":93},"43212102-PR-D02","PRINTER, IMPACT DOT MATRIX, 24 pins, 136 column",{"$f":"APR!K159","v":0},{"$f":"APR!L159","v":"unit"},{"$f":"APR!M159","v":18709.599999999999},0]
[{"$f":"SUBTOTAL(103,C$21:C459)","v":93},"43212102-PR-D01","PRINTER, IMPACT DOT MATRIX, 9 pins, 80 columns",{"$f":"APR!K160","v":0},{"$f":"APR!L160","v":"unit"},{"$f":"APR!M160","v":5831.52},0]
[{"$f":"SUBTOTAL(103,C$21:C460)","v":93},"43212104-PR-I01","PRINTER, INKJET, WIRELESS",{"$f":"APR!K161","v":0},{"$f":"APR!L161","v":"unit"},{"$f":"APR!M161","v":10000},0]
[{"$f":"SUBTOTAL(103,C$21:C461)","v":93},"43212105-PR-L01","PRINTER, LASER, MONOCHROME",{"$f":"APR!K162","v":0},{"$f":"APR!L162","v":"unit"},{"$f":"APR!M162","v":1237.5999999999999},{"$f":"D461*F461","v":0}]
[{"$f":"SUBTOTAL(103,C$21:C462)","v":93},"44101602-PU-P01","PUNCHER, paper, heavy duty, with two hole guide   ",{"$f":"APR!K163","v":0},{"$f":"APR!L163","v":"carton"},{"$f":"APR!M163","v":2742.72},{"$f":"D462*F462","v":0}]
[{"$f":"SUBTOTAL(103,C$21:C463)","v":93},"44122106-PP-F02","PUSH PIN",{"$f":"APR!K164","v":0},{"$f":"APR!L164","v":"box"},{"$f":"APR!M164","v":299.52},0]
[{"$f":"SUBTOTAL(103,C$21:C464)","v":93},"47131501-RG-C01","RAGS, ALL COTTON",{"$f":"APR!K165","v":0},{"$f":"APR!L165","v":"sack"},{"$f":"APR!M165","v":1490.7},0]
[{"$f":"SUBTOTAL(103,C$21:C465)","v":93},"14111531-RE-B01","RECORD BOOK, 300 PAGES, size: 214mm x 278mm min   ",{"$f":"APR!K166","v":0},{"$f":"APR!L166","v":"bundle"},{"$f":"APR!M166","v":603.20000000000005},0]
[{"$f":"SUBTOTAL(103,C$21:C466)","v":93},"14111531-RE-B02","RECORD BOOK, 500 PAGES, size: 214mm x 278mm min   ",{"$f":"APR!K167","v":0},{"$f":"APR!L167","v":"bundle"},{"$f":"APR!M167","v":434.25},0]
[{"$f":"SUBTOTAL(103,C$21:C467)","v":93},"44102606-RI-T01","RIBBON, FOR MANUAL TYPEWRITER",{"$f":"APR!K168","v":0},{"$f":"APR!L168","v":"box"},{"$f":"APR!M168","v":205.68},0]
[{"$f":"SUBTOTAL(103,C$21:C468)","v":93},"44122037-RB-P07","RING BINDER, PLASTIC, 25MM",{"$f":"APR!K169","v":0},{"$f":"APR!L169","v":"pack"},{"$f":"APR!M169","v":2412.8000000000002},0]
[{"$f":"SUBTOTAL(103,C$21:C469)","v":93},"44122037-RB-P09","RING BINDER, PLASTIC, 32MM",{"$f":"APR!K170","v":0},{"$f":"APR!L170","v":"pack"},{"$f":"APR!M170","v":4109.92},0]
[{"$f":"SUBTOTAL(103,C$21:C470)","v":93},"44122037-RB-P12","RING BINDER, PLASTIC, 50MM",{"$f":"APR!K171","v":0},{"$f":"APR!L171","v":"pack"},{"$f":"APR!M171","v":4656.4799999999996},0]
[{"$f":"SUBTOTAL(103,C$21:C471)","v":93},"44122101-RU-B01","RUBBER BAND, #18",{"$f":"APR!K172","v":0},{"$f":"APR!L172","v":"carton"},{"$f":"APR!M172","v":4665.5},0]
[{"$f":"SUBTOTAL(103,C$21:C472)","v":93},"41111604-RU-P02","RULER, PLASTIC, 450MM",{"$f":"APR!K173","v":0},{"$f":"APR!L173","v":"box"},{"$f":"APR!M173","v":774},0]
[{"$f":"SUBTOTAL(103,C$21:C473)","v":93},"44121618-SS-S01","SCISSORS",{"$f":"APR!K174","v":0},{"$f":"APR!L174","v":"box"},{"$f":"APR!M174","v":494.28},0]
[{"$f":"SUBTOTAL(103,C$21:C474)","v":93},"47131602-SC-N01","SCOURING PAD",{"$f":"APR!K175","v":0},{"$f":"APR!L175","v":"box"},{"$f":"APR!M175","v":2059.1999999999998},0]
[{"$f":"SUBTOTAL(103,C$21:C475)","v":93},"60121524-SP-G01","SIGN PEN, BLACK, liquid/gel ink, 0.5mm needle tip ",{"$f":"APR!K176","v":0},{"$f":"APR!L176","v":"box"},{"$f":"APR!M176","v":457.2},0]
[{"$f":"SUBTOTAL(103,C$21:C476)","v":93},"60121524-SP-G02","SIGN PEN, BLUE, liquid/gel ink, 0.5mm needle tip  ",{"$f":"APR!K177","v":0},{"$f":"APR!L177","v":"box"},{"$f":"APR!M177","v":457.2},0]
[{"$f":"SUBTOTAL(103,C$21:C477)","v":93},"60121524-SP-G03","SIGN PEN, RED, liquid/gel ink, 0.5mm needle tip   ",{"$f":"APR!K178","v":0},{"$f":"APR!L178","v":"box"},{"$f":"APR!M178","v":457.2},0]
[{"$f":"SUBTOTAL(103,C$21:C478)","v":93},"53131608-SB-R01","SOAP, BATHROOM",{"$f":"APR!K179","v":0},{"$f":"APR!L179","v":"carton"},{"$f":"APR!M179","v":1453.4},0]
[{"$f":"SUBTOTAL(103,C$21:C479)","v":93},"44121905-SP-F01","STAMP PAD, FELT",{"$f":"APR!K180","v":0},{"$f":"APR!L180","v":"pack"},{"$f":"APR!M180","v":331.92},0]
[{"$f":"SUBTOTAL(103,C$21:C480)","v":93},"44121613-SR-P01","STAPLE REMOVER, PLIER TYPE",{"$f":"APR!K181","v":0},{"$f":"APR!L181","v":"box"},{"$f":"APR!M181","v":436.32},0]
[{"$f":"SUBTOTAL(103,C$21:C481)","v":93},"31151804-SW-H01","STAPLE WIRE, HEAVY DUTY, 23/13",{"$f":"APR!K182","v":0},{"$f":"APR!L182","v":"pack"},{"$f":"APR!M182","v":234},0]
[{"$f":"SUBTOTAL(103,C$21:C482)","v":93},"31151804-SW-H02","STAPLE WIRE, HEAVY DUTY, 23/17",{"$f":"APR!K183","v":0},{"$f":"APR!L183","v":"pack"},{"$f":"APR!M183","v":414.8},0]
[{"$f":"SUBTOTAL(103,C$21:C483)","v":93},"31151804-SW-S01","STAPLE WIRE, STANDARD",{"$f":"APR!K184","v":0},{"$f":"APR!L184","v":"carton"},{"$f":"APR!M184","v":1892},0]
[{"$f":"SUBTOTAL(103,C$21:C484)","v":93},"44121615-ST-B01","STAPLER, BINDER",{"$f":"APR!K185","v":0},{"$f":"APR!L185","v":"unit"},{"$f":"APR!M185","v":878.8},0]
[{"$f":"SUBTOTAL(103,C$21:C485)","v":93},"44121615-ST-S01","STAPLER, STANDARD TYPE, load cap: 200 staples min ",{"$f":"APR!K186","v":0},{"$f":"APR!L186","v":"pack"},{"$f":"APR!M186","v":657.28},0]
[{"$f":"SUBTOTAL(103,C$21:C486)","v":93},"44121605-TD-H01","TAPE DISPENSER, HANDHELD",{"$f":"APR!K187","v":0},{"$f":"APR!L187","v":"box"},{"$f":"APR!M187","v":291},0]
[{"$f":"SUBTOTAL(103,C$21:C487)","v":93},"44121605-TD-T01","TAPE DISPENSER, TABLE TOP",{"$f":"APR!K188","v":0},{"$f":"APR!L188","v":"piece"},{"$f":"APR!M188","v":47.72},0]
[{"$f":"SUBTOTAL(103,C$21:C488)","v":93},"31201502-TA-E01","TAPE, ELECTRICAL",{"$f":"APR!K189","v":0},{"$f":"APR!L189","v":"pack"},{"$f":"APR!M189","v":455},0]
[{"$f":"SUBTOTAL(103,C$21:C489)","v":93},"14111515-TA-C01","TAPE, FOR ADDING MACHINE",{"$f":"APR!K190","v":0},{"$f":"APR!L190","v":"pack"},{"$f":"APR!M190","v":162.19999999999999},0]
[{"$f":"SUBTOTAL(103,C$21:C490)","v":93},"31201503-TA-M01","TAPE, MASKING, width: 24mm (±1mm)                 ",{"$f":"APR!K191","v":0},{"$f":"APR!L191","v":"pack"},{"$f":"APR!M191","v":661.44},0]
[{"$f":"SUBTOTAL(103,C$21:C491)","v":93},"31201503-TA-M02","TAPE, MASKING, width: 48mm (±1mm)                 ",{"$f":"APR!K192","v":0},{"$f":"APR!L192","v":"pack"},{"$f":"APR!M192","v":630.24},0]
[{"$f":"SUBTOTAL(103,C$21:C492)","v":93},"31201517-TA-P01","TAPE, PACKAGING, width: 48mm (±1mm)               ",{"$f":"APR!K193","v":0},{"$f":"APR!L193","v":"pack"},{"$f":"APR!M193","v":196.44},0]
[{"$f":"SUBTOTAL(103,C$21:C493)","v":93},"31201512-TA-T01","TAPE, TRANSPARENT, width: 24mm (±1mm)             ",{"$f":"APR!K194","v":0},{"$f":"APR!L194","v":"pack"},{"$f":"APR!M194","v":131.04},0]
[{"$f":"SUBTOTAL(103,C$21:C494)","v":93},"31201512-TA-T02","TAPE, TRANSPARENT, width: 48mm (±1mm)             ",{"$f":"APR!K195","v":0},{"$f":"APR!L195","v":"pack"},{"$f":"APR!M195","v":159.12},0]
[{"$f":"SUBTOTAL(103,C$21:C495)","v":93},"44103205-TC-A01","TIME CARD, AMANO",{"$f":"APR!K196","v":0},{"$f":"APR!L196","v":"pack"},{"$f":"APR!M196","v":694.7},0]
[{"$f":"SUBTOTAL(103,C$21:C496)","v":93},"14111704-TT-P01","TOILET TISSUE PAPER 2-plys sheets, 150 pulls      ",{"$f":"APR!K197","v":0},{"$f":"APR!L197","v":"box"},{"$f":"APR!M197","v":540.79999999999995},0]
[{"$f":"SUBTOTAL(103,C$21:C497)","v":93},"47121701-TB-P01","TRASHBAG, plastic, gusseted type, black,          ",{"$f":"APR!K198","v":0},{"$f":"APR!L198","v":"sack"},{"$f":"APR!M198","v":4196.3999999999996},0]
[{"$f":"SUBTOTAL(103,C$21:C498)","v":93},"31151507-TW-P01","TWINE, PLASTIC",{"$f":"APR!K199","v":0},{"$f":"APR!L199","v":"bundle"},{"$f":"APR!M199","v":499.2},0]
[{"$f":"SUBTOTAL(103,C$21:C499)","v":93},"47121702-WB-P01","WASTEBASKET, NON RIGID PLASTIC",{"$f":"APR!K200","v":0},{"$f":"APR!L200","v":"bundle"},{"$f":"APR!M200","v":573.6},0]
[{"$f":"SUBTOTAL(103,C$21:C500)","v":93},"43222609-WR-R01","WIRELESS N-ROUTER",{"$f":"APR!K201","v":0},{"$f":"APR!L201","v":"unit"},{"$f":"APR!M201","v":1037.92},0]
[{"$f":"SUBTOTAL(103,C$21:C501)","v":93},"60121124-WR-P02","WRAPPING PAPER",{"$f":"APR!K202","v":0},{"$f":"APR!L202","v":"bundle"},{"$f":"APR!M202","v":2576.8000000000002},0]
[]
["FOR THE LATEST PRICES AND DETAILED SPECIFICATIONS, PLEASE REFER TO THE ELECTRONIC CATALOGUE @ www.procurementservice.gov.ph/www.philgeps.gov.ph"]
["For verification of balances, call PS-Acctg Division @ Tel. Nos. (02) 563-9351 or email us at accounting@procurementservice.gov.ph"]
["NOTE: ALL SIGNATURES MUST BE OVER PRINTED NAME"]
["STOCKS REQUESTED ARE CERTIFIED TO BE     FUNDS CERTIFIED AVAILABLE:                              APPROVED:"]
["WITHIN APPROVED PROGRAM:"]
[]
[]
[]
["   AGENCY PROPERTY/SUPPLY OFFICER                         AGENCY CHIEF ACCOUNTANT                        AGENCY HEAD/AUTHORIZED SIGNATURE"]
[]
[{"$f":"APR!B215","v":"[  ] FUNDS DEPOSITED WITH PS    [  ] ___________________ CHECK No. ____________________"}]
[{"$f":"APR!B216","v":"IN THE AMOUNT OF: ____________________________________________________________ (P _____________________ ) ENCLOSED"}]
[]
[{"$f":"SUBTOTAL(103,C$21:C516)","v":94},"44100515-IC-B02","INDEX CARD BOX, 5X8",{"$f":"APR!K114","v":0},{"$f":"APR!L114","v":"pack"},{"$f":"APR!M114","v":551.20000000000005},{"$f":"D516*F516","v":0}]
[{"$f":"SUBTOTAL(103,C$21:C517)","v":95},"14111518-IC-R01","INDEX CARD, 3X5, 500 pieces per pack",{"$f":"APR!K115","v":0},{"$f":"APR!L115","v":"box"},{"$f":"APR!M115","v":512.70000000000005},0]
[{"$f":"SUBTOTAL(103,C$21:C518)","v":96},"14111518-IC-R02","INDEX CARD, 5X8, 500 pieces per pack",{"$f":"APR!K116","v":0},{"$f":"APR!L116","v":"box"},{"$f":"APR!M116","v":1393.4},0]
[{"$f":"SUBTOTAL(103,C$21:C519)","v":97},"44122008-IT-T01","INDEX TAB, 5 sets per box",{"$f":"APR!K117","v":0},{"$f":"APR!L117","v":"pack"},{"$f":"APR!M117","v":2395},0]
[{"$f":"SUBTOTAL(103,C$21:C520)","v":98},"12171703-SI-P01","STAMP PAD INK, purple or violet, 50ml (min.)",{"$f":"APR!K118","v":0},{"$f":"APR!L118","v":"box"},{"$f":"APR!M118","v":295.56},0]
[{"$f":"SUBTOTAL(103,C$21:C521)","v":99},"10191509-IN-A01","INSECTICIDE, aerosol type, net content: 600ml min ",{"$f":"APR!K119","v":0},{"$f":"APR!L119","v":"box"},{"$f":"APR!M119","v":1497.6},0]
[{"$f":"SUBTOTAL(103,C$21:C522)","v":100},"14111609-LL-C01","LOOSELEAF COVER, 50 sets per bundle",{"$f":"APR!K120","v":0},{"$f":"APR!L120","v":"bundle"},{"$f":"APR!M120","v":539.76},0]
[{"$f":"SUBTOTAL(103,C$21:C523)","v":101},"44111515-MF-B02","MAGAZINE FILE BOX, LARGE",{"$f":"APR!K121","v":0},{"$f":"APR!L121","v":"pack"},{"$f":"APR!M121","v":832},0]
[{"$f":"SUBTOTAL(103,C$21:C524)","v":102},"60121124-MA-P01","MANILA PAPER, 10 sheets per pack",{"$f":"APR!K122","v":0},{"$f":"APR!L122","v":"bundle"},{"$f":"APR!M122","v":520},0]
[{"$f":"SUBTOTAL(103,C$21:C525)","v":103},"44122106-MP-R01","MAP PIN, ROUND HEAD, 100 pieces per case",{"$f":"APR!K123","v":0},{"$f":"APR!L123","v":"box"},{"$f":"APR!M123","v":403.5},0]
[{"$f":"SUBTOTAL(103,C$21:C526)","v":104},"44121716-MA-F01","MARKER, FLUORESCENT, 3 colors per set",{"$f":"APR!K124","v":0},{"$f":"APR!L124","v":"pack"},{"$f":"APR!M124","v":1706.4},0]
[{"$f":"SUBTOTAL(103,C$21:C527)","v":105},"44121708-MP-B01","MARKER, PERMANENT, bullet type, black             ",{"$f":"APR!K125","v":0},{"$f":"APR!L125","v":"box"},{"$f":"APR!M125","v":115.8},{"$f":"D527*F527","v":0}]
[{"$f":"SUBTOTAL(103,C$21:C528)","v":106},"44121708-MP-B02","MARKER, PERMANENT, bullet type, blue              ",{"$f":"APR!K126","v":0},{"$f":"APR!L126","v":"box"},{"$f":"APR!M126","v":115.8},{"$f":"D528*F528","v":0}]
[{"$f":"SUBTOTAL(103,C$21:C529)","v":107},"44121708-MP-B03","MARKER, PERMANENT, bullet type, red               ",{"$f":"APR!K127","v":0},{"$f":"APR!L127","v":"box"},{"$f":"APR!M127","v":115.8},0]
[{"$f":"SUBTOTAL(103,C$21:C530)","v":108},"44121708-MW-B01","MARKER, WHITEBOARD, black",{"$f":"APR!K128","v":0},{"$f":"APR!L128","v":"box"},{"$f":"APR!M128","v":123.36},0]
[{"$f":"SUBTOTAL(103,C$21:C531)","v":109},"44121708-MW-B02","MARKER, WHITEBOARD, blue",{"$f":"APR!K129","v":0},{"$f":"APR!L129","v":"box"},{"$f":"APR!M129","v":123.36},0]
[{"$f":"SUBTOTAL(103,C$21:C532)","v":110},"44121708-MW-B03","MARKER, WHITEBOARD, red",{"$f":"APR!K130","v":0},{"$f":"APR!L130","v":"box"},{"$f":"APR!M130","v":123.36},0]
[{"$f":"SUBTOTAL(103,C$21:C533)","v":111},"52161533-ME-P01","MEGAPHONE",{"$f":"APR!K131","v":0},{"$f":"APR!L131","v":"unit"},{"$f":"APR!M131","v":2704},0]
[{"$f":"SUBTOTAL(103,C$21:C534)","v":112},"56101519-TMS02","MONOBLOC, TABLE, BEIGE",{"$f":"APR!K132","v":0},{"$f":"APR!L132","v":"unit"},{"$f":"APR!M132","v":1289.5999999999999},0]
[{"$f":"SUBTOTAL(103,C$21:C535)","v":113},"56101519-TM-S01","MONOBLOC, TABLE, WHITE",{"$f":"APR!K133","v":0},{"$f":"APR!L133","v":"unit"},{"$f":"APR!M133","v":1289.5999999999999},0]
[{"$f":"SUBTOTAL(103,C$21:C536)","v":114},"47121804-MP-B01","MOPBUCKET",{"$f":"APR!K134","v":0},{"$f":"APR!L134","v":"unit"},{"$f":"APR!M134","v":1911},0]
[{"$f":"SUBTOTAL(103,C$21:C537)","v":115},"47131613-MP-H02","MOPHANDLE",{"$f":"APR!K135","v":0},{"$f":"APR!L135","v":"bundle"},{"$f":"APR!M135","v":1709.76},0]
[{"$f":"SUBTOTAL(103,C$21:C538)","v":116},"47131619-MP-R01","MOPHEAD, made of rayon, weight: 400 grams min     ",{"$f":"APR!K136","v":0},{"$f":"APR!L136","v":"bundle"},{"$f":"APR!M136","v":1185.5999999999999},0]
[{"$f":"SUBTOTAL(103,C$21:C539)","v":117},"43211708-MO-O01","MOUSE, OPTICAL, USB CONNECTION TYPE, 1 unit in individual box",{"$f":"APR!K137","v":0},{"$f":"APR!L137","v":"pack"},{"$f":"APR!M137","v":1278},0]
[{"$f":"SUBTOTAL(103,C$21:C540)","v":118},"45111609-MM-P01","MULTIMEDIA PROJECTOR, 4000 min ANSI Lumens        ",{"$f":"APR!K138","v":0},{"$f":"APR!L138","v":"unit"},{"$f":"APR!M138","v":26483.599999999999},0]
[{"$f":"SUBTOTAL(103,C$21:C541)","v":119},"14111514-NB-S01","NOTEBOOK, STENOGRAPHER, spiral, 40 leaves         ",{"$f":"APR!K139","v":0},{"$f":"APR!L139","v":"pack"},{"$f":"APR!M139","v":208},0]
[{"$f":"SUBTOTAL(103,C$21:C542)","v":120},"14111514-NP-S02","NOTEPAD, STICK-ON, 2X3, 100 sheets per pad",{"$f":"APR!K140","v":0},{"$f":"APR!L140","v":"pack"},{"$f":"APR!M140","v":374.4},0]
[{"$f":"SUBTOTAL(103,C$21:C543)","v":121},"14111514-NP-S03","NOTEPAD, STICK-ON, 3X3, 100 sheets per pad",{"$f":"APR!K141","v":0},{"$f":"APR!L141","v":"pack"},{"$f":"APR!M141","v":486.48},{"$f":"D543*F543","v":0}]
[{"$f":"SUBTOTAL(103,C$21:C544)","v":122},"14111514-NP-S04","NOTEPAD, STICK-ON, 3X4, 100 sheets per pad",{"$f":"APR!K142","v":0},{"$f":"APR!L142","v":"pack"},{"$f":"APR!M142","v":648.72},{"$f":"D544*F544","v":0}]
[{"$f":"SUBTOTAL(103,C$21:C545)","v":123},"12181601-OL-G01","OIL, GENERAL PURPOSE LUBRICANT, 120ml per bottle",{"$f":"APR!K143","v":0},{"$f":"APR!L143","v":"box"},{"$f":"APR!M143","v":2656.8},0]
[{"$f":"SUBTOTAL(103,C$21:C546)","v":124},"14111531-PP-R01","PAD PAPER, RULED",{"$f":"APR!K144","v":0},{"$f":"APR!L144","v":"bundle"},{"$f":"APR!M144","v":182.6},0]
[{"$f":"SUBTOTAL(103,C$21:C547)","v":124},"44122104-PC-G01","PAPER CLIP, 32MM, 100 pieces per box\nor 52 grams (min.) (net of box)",{"$f":"APR!K145","v":0},{"$f":"APR!L145","v":"carton"},{"$f":"APR!M145","v":321.5},0]
[{"$f":"SUBTOTAL(103,C$21:C548)","v":124},"44122104-PC-J02","PAPER CLIP, 48MM, 100 pieces per box\nor 120 grams (min.) (net of box)",{"$f":"APR!K146","v":0},{"$f":"APR!L146","v":"carton"},{"$f":"APR!M146","v":642.5},0]
[{"$f":"SUBTOTAL(103,C$21:C549)","v":124},"44101603-PS-M01","PAPER SHREDDER",{"$f":"APR!K147","v":0},{"$f":"APR!L147","v":"unit"},{"$f":"APR!M147","v":5699.2},0]
[{"$f":"SUBTOTAL(103,C$21:C550)","v":124},"44101601-PT-M01","PAPER TRIMMER CUTTING MACHINE",{"$f":"APR!K148","v":0},{"$f":"APR!L148","v":"unit"},{"$f":"APR!M148","v":7488},0]
[{"$f":"SUBTOTAL(103,C$21:C551)","v":124},"14111507-PP-M01","PAPER, MULTICOPY, 80gsm, size: 210mm x 297mm      ",{"$f":"APR!K149","v":0},{"$f":"APR!L149","v":"box"},{"$f":"APR!M149","v":561.6},0]
[{"$f":"SUBTOTAL(103,C$21:C552)","v":124},"14111507-PP-M02","PAPER, MULTICOPY, 80gsm, size: 216mm x 330mm      ",{"$f":"APR!K150","v":0},{"$f":"APR!L150","v":"box"},{"$f":"APR!M150","v":660.1},0]
[{"$f":"SUBTOTAL(103,C$21:C553)","v":124},"14111507-PP-C01","PAPER, Multi-Purpose (COPY) A4, 70 gsm., 5 reams/box",{"$f":"APR!K151","v":0},{"$f":"APR!L151","v":"box"},{"$f":"APR!M151","v":476.3},0]
[{"$f":"SUBTOTAL(103,C$21:C554)","v":124},"14111507-PP-C02","PAPER, Multi-Purpose (COPY) Legal, 70 gsm., 5 reams/box",{"$f":"APR!K152","v":0},{"$f":"APR!L152","v":"box"},{"$f":"APR!M152","v":571.75},0]
[{"$f":"SUBTOTAL(103,C$21:C555)","v":124},"14111503-PA-P01","PAPER, PARCHMENT, 100 sheets per box",{"$f":"APR!K153","v":0},{"$f":"APR!L153","v":"pack"},{"$f":"APR!M153","v":1768},0]
[{"$f":"SUBTOTAL(103,C$21:C556)","v":124},"14111818-TH-P01","PAPER, THERMAL, 210MM X 30M",{"$f":"APR!K154","v":0},{"$f":"APR!L154","v":"box"},{"$f":"APR!M154","v":1437.6},0]
[{"$f":"SUBTOTAL(103,C$21:C557)","v":124},"14111818-TH-P02","PAPER, THERMAL, 216MM X 30M",{"$f":"APR!K155","v":0},{"$f":"APR!L155","v":"box"},{"$f":"APR!M155","v":1495.2},0]
[{"$f":"SUBTOTAL(103,C$21:C558)","v":124},"44121619-PS-M01","PENCIL SHARPENER",{"$f":"APR!K156","v":0},{"$f":"APR!L156","v":"box"},{"$f":"APR!M156","v":4492.8},0]
[{"$f":"SUBTOTAL(103,C$21:C559)","v":124},"44121706-PE-L01","PENCIL, LEAD WITH ERASER",{"$f":"APR!K157","v":0},{"$f":"APR!L157","v":"pack"},{"$f":"APR!M157","v":235.44},0]
[{"$f":"SUBTOTAL(103,C$21:C560)","v":124},"55121905-PH-F01","PHILIPPINE NATIONAL FLAG",{"$f":"APR!K158","v":0},{"$f":"APR!L158","v":"bundle"},{"$f":"APR!M158","v":2787.2},0]
[{"$f":"SUBTOTAL(103,C$21:C561)","v":124},"43212102-PR-D02","PRINTER, IMPACT DOT MATRIX, 24 pins, 136 column",{"$f":"APR!K159","v":0},{"$f":"APR!L159","v":"unit"},{"$f":"APR!M159","v":18709.599999999999},0]
[{"$f":"SUBTOTAL(103,C$21:C562)","v":124},"43212102-PR-D01","PRINTER, IMPACT DOT MATRIX, 9 pins, 80 columns",{"$f":"APR!K160","v":0},{"$f":"APR!L160","v":"unit"},{"$f":"APR!M160","v":5831.52},0]
[{"$f":"SUBTOTAL(103,C$21:C563)","v":124},"43212104-PR-I01","PRINTER, INKJET, WIRELESS",{"$f":"APR!K161","v":0},{"$f":"APR!L161","v":"unit"},{"$f":"APR!M161","v":10000},0]
[{"$f":"SUBTOTAL(103,C$21:C564)","v":124},"43212105-PR-L01","PRINTER, LASER, MONOCHROME",{"$f":"APR!K162","v":0},{"$f":"APR!L162","v":"unit"},{"$f":"APR!M162","v":1237.5999999999999},{"$f":"D564*F564","v":0}]
[{"$f":"SUBTOTAL(103,C$21:C565)","v":124},"44101602-PU-P01","PUNCHER, paper, heavy duty, with two hole guide   ",{"$f":"APR!K163","v":0},{"$f":"APR!L163","v":"carton"},{"$f":"APR!M163","v":2742.72},{"$f":"D565*F565","v":0}]
[{"$f":"SUBTOTAL(103,C$21:C566)","v":124},"44122106-PP-F02","PUSH PIN",{"$f":"APR!K164","v":0},{"$f":"APR!L164","v":"box"},{"$f":"APR!M164","v":299.52},0]
[{"$f":"SUBTOTAL(103,C$21:C567)","v":124},"47131501-RG-C01","RAGS, ALL COTTON",{"$f":"APR!K165","v":0},{"$f":"APR!L165","v":"sack"},{"$f":"APR!M165","v":1490.7},0]
[{"$f":"SUBTOTAL(103,C$21:C568)","v":124},"14111531-RE-B01","RECORD BOOK, 300 PAGES, size: 214mm x 278mm min   ",{"$f":"APR!K166","v":0},{"$f":"APR!L166","v":"bundle"},{"$f":"APR!M166","v":603.20000000000005},0]
[{"$f":"SUBTOTAL(103,C$21:C569)","v":124},"14111531-RE-B02","RECORD BOOK, 500 PAGES, size: 214mm x 278mm min   ",{"$f":"APR!K167","v":0},{"$f":"APR!L167","v":"bundle"},{"$f":"APR!M167","v":434.25},0]
[{"$f":"SUBTOTAL(103,C$21:C570)","v":124},"44102606-RI-T01","RIBBON, FOR MANUAL TYPEWRITER",{"$f":"APR!K168","v":0},{"$f":"APR!L168","v":"box"},{"$f":"APR!M168","v":205.68},0]
[{"$f":"SUBTOTAL(103,C$21:C571)","v":124},"44122037-RB-P07","RING BINDER, PLASTIC, 25MM",{"$f":"APR!K169","v":0},{"$f":"APR!L169","v":"pack"},{"$f":"APR!M169","v":2412.8000000000002},0]
[{"$f":"SUBTOTAL(103,C$21:C572)","v":124},"44122037-RB-P09","RING BINDER, PLASTIC, 32MM",{"$f":"APR!K170","v":0},{"$f":"APR!L170","v":"pack"},{"$f":"APR!M170","v":4109.92},0]
[{"$f":"SUBTOTAL(103,C$21:C573)","v":124},"44122037-RB-P12","RING BINDER, PLASTIC, 50MM",{"$f":"APR!K171","v":0},{"$f":"APR!L171","v":"pack"},{"$f":"APR!M171","v":4656.4799999999996},0]
[{"$f":"SUBTOTAL(103,C$21:C574)","v":124},"44122101-RU-B01","RUBBER BAND, #18",{"$f":"APR!K172","v":0},{"$f":"APR!L172","v":"carton"},{"$f":"APR!M172","v":4665.5},0]
[{"$f":"SUBTOTAL(103,C$21:C575)","v":124},"41111604-RU-P02","RULER, PLASTIC, 450MM",{"$f":"APR!K173","v":0},{"$f":"APR!L173","v":"box"},{"$f":"APR!M173","v":774},0]
[{"$f":"SUBTOTAL(103,C$21:C576)","v":124},"44121618-SS-S01","SCISSORS",{"$f":"APR!K174","v":0},{"$f":"APR!L174","v":"box"},{"$f":"APR!M174","v":494.28},0]
[{"$f":"SUBTOTAL(103,C$21:C577)","v":124},"47131602-SC-N01","SCOURING PAD",{"$f":"APR!K175","v":0},{"$f":"APR!L175","v":"box"},{"$f":"APR!M175","v":2059.1999999999998},0]
[{"$f":"SUBTOTAL(103,C$21:C578)","v":124},"60121524-SP-G01","SIGN PEN, BLACK, liquid/gel ink, 0.5mm needle tip ",{"$f":"APR!K176","v":0},{"$f":"APR!L176","v":"box"},{"$f":"APR!M176","v":457.2},0]
[{"$f":"SUBTOTAL(103,C$21:C579)","v":124},"60121524-SP-G02","SIGN PEN, BLUE, liquid/gel ink, 0.5mm needle tip  ",{"$f":"APR!K177","v":0},{"$f":"APR!L177","v":"box"},{"$f":"APR!M177","v":457.2},0]
[{"$f":"SUBTOTAL(103,C$21:C580)","v":124},"60121524-SP-G03","SIGN PEN, RED, liquid/gel ink, 0.5mm needle tip   ",{"$f":"APR!K178","v":0},{"$f":"APR!L178","v":"box"},{"$f":"APR!M178","v":457.2},0]
[{"$f":"SUBTOTAL(103,C$21:C581)","v":124},"53131608-SB-R01","SOAP, BATHROOM",{"$f":"APR!K179","v":0},{"$f":"APR!L179","v":"carton"},{"$f":"APR!M179","v":1453.4},0]
[{"$f":"SUBTOTAL(103,C$21:C582)","v":124},"44121905-SP-F01","STAMP PAD, FELT",{"$f":"APR!K180","v":0},{"$f":"APR!L180","v":"pack"},{"$f":"APR!M180","v":331.92},0]
[{"$f":"SUBTOTAL(103,C$21:C583)","v":124},"44121613-SR-P01","STAPLE REMOVER, PLIER TYPE",{"$f":"APR!K181","v":0},{"$f":"APR!L181","v":"box"},{"$f":"APR!M181","v":436.32},0]
[{"$f":"SUBTOTAL(103,C$21:C584)","v":124},"31151804-SW-H01","STAPLE WIRE, HEAVY DUTY, 23/13",{"$f":"APR!K182","v":0},{"$f":"APR!L182","v":"pack"},{"$f":"APR!M182","v":234},0]
[{"$f":"SUBTOTAL(103,C$21:C585)","v":124},"31151804-SW-H02","STAPLE WIRE, HEAVY DUTY, 23/17",{"$f":"APR!K183","v":0},{"$f":"APR!L183","v":"pack"},{"$f":"APR!M183","v":414.8},0]
[{"$f":"SUBTOTAL(103,C$21:C586)","v":124},"31151804-SW-S01","STAPLE WIRE, STANDARD",{"$f":"APR!K184","v":0},{"$f":"APR!L184","v":"carton"},{"$f":"APR!M184","v":1892},0]
[{"$f":"SUBTOTAL(103,C$21:C587)","v":124},"44121615-ST-B01","STAPLER, BINDER",{"$f":"APR!K185","v":0},{"$f":"APR!L185","v":"unit"},{"$f":"APR!M185","v":878.8},0]
[{"$f":"SUBTOTAL(103,C$21:C588)","v":124},"44121615-ST-S01","STAPLER, STANDARD TYPE, load cap: 200 staples min ",{"$f":"APR!K186","v":0},{"$f":"APR!L186","v":"pack"},{"$f":"APR!M186","v":657.28},0]
[{"$f":"SUBTOTAL(103,C$21:C589)","v":124},"44121605-TD-H01","TAPE DISPENSER, HANDHELD",{"$f":"APR!K187","v":0},{"$f":"APR!L187","v":"box"},{"$f":"APR!M187","v":291},0]
[{"$f":"SUBTOTAL(103,C$21:C590)","v":124},"44121605-TD-T01","TAPE DISPENSER, TABLE TOP",{"$f":"APR!K188","v":0},{"$f":"APR!L188","v":"piece"},{"$f":"APR!M188","v":47.72},0]
[{"$f":"SUBTOTAL(103,C$21:C591)","v":124},"31201502-TA-E01","TAPE, ELECTRICAL",{"$f":"APR!K189","v":0},{"$f":"APR!L189","v":"pack"},{"$f":"APR!M189","v":455},0]
[{"$f":"SUBTOTAL(103,C$21:C592)","v":124},"14111515-TA-C01","TAPE, FOR ADDING MACHINE",{"$f":"APR!K190","v":0},{"$f":"APR!L190","v":"pack"},{"$f":"APR!M190","v":162.19999999999999},0]
[{"$f":"SUBTOTAL(103,C$21:C593)","v":124},"31201503-TA-M01","TAPE, MASKING, width: 24mm (±1mm)                 ",{"$f":"APR!K191","v":0},{"$f":"APR!L191","v":"pack"},{"$f":"APR!M191","v":661.44},0]
[{"$f":"SUBTOTAL(103,C$21:C594)","v":124},"31201503-TA-M02","TAPE, MASKING, width: 48mm (±1mm)                 ",{"$f":"APR!K192","v":0},{"$f":"APR!L192","v":"pack"},{"$f":"APR!M192","v":630.24},0]
[{"$f":"SUBTOTAL(103,C$21:C595)","v":124},"31201517-TA-P01","TAPE, PACKAGING, width: 48mm (±1mm)               ",{"$f":"APR!K193","v":0},{"$f":"APR!L193","v":"pack"},{"$f":"APR!M193","v":196.44},0]
[{"$f":"SUBTOTAL(103,C$21:C596)","v":124},"31201512-TA-T01","TAPE, TRANSPARENT, width: 24mm (±1mm)             ",{"$f":"APR!K194","v":0},{"$f":"APR!L194","v":"pack"},{"$f":"APR!M194","v":131.04},0]
[{"$f":"SUBTOTAL(103,C$21:C597)","v":124},"31201512-TA-T02","TAPE, TRANSPARENT, width: 48mm (±1mm)             ",{"$f":"APR!K195","v":0},{"$f":"APR!L195","v":"pack"},{"$f":"APR!M195","v":159.12},0]
[{"$f":"SUBTOTAL(103,C$21:C598)","v":124},"44103205-TC-A01","TIME CARD, AMANO",{"$f":"APR!K196","v":0},{"$f":"APR!L196","v":"pack"},{"$f":"APR!M196","v":694.7},0]
[{"$f":"SUBTOTAL(103,C$21:C599)","v":124},"14111704-TT-P01","TOILET TISSUE PAPER 2-plys sheets, 150 pulls      ",{"$f":"APR!K197","v":0},{"$f":"APR!L197","v":"box"},{"$f":"APR!M197","v":540.79999999999995},0]
[{"$f":"SUBTOTAL(103,C$21:C600)","v":124},"47121701-TB-P01","TRASHBAG, plastic, gusseted type, black,          ",{"$f":"APR!K198","v":0},{"$f":"APR!L198","v":"sack"},{"$f":"APR!M198","v":4196.3999999999996},0]
[{"$f":"SUBTOTAL(103,C$21:C601)","v":124},"31151507-TW-P01","TWINE, PLASTIC",{"$f":"APR!K199","v":0},{"$f":"APR!L199","v":"bundle"},{"$f":"APR!M199","v":499.2},0]
[{"$f":"SUBTOTAL(103,C$21:C602)","v":124},"47121702-WB-P01","WASTEBASKET, NON RIGID PLASTIC",{"$f":"APR!K200","v":0},{"$f":"APR!L200","v":"bundle"},{"$f":"APR!M200","v":573.6},0]
[{"$f":"SUBTOTAL(103,C$21:C603)","v":124},"43222609-WR-R01","WIRELESS N-ROUTER",{"$f":"APR!K201","v":0},{"$f":"APR!L201","v":"unit"},{"$f":"APR!M201","v":1037.92},0]
[{"$f":"SUBTOTAL(103,C$21:C604)","v":124},"60121124-WR-P02","WRAPPING PAPER",{"$f":"APR!K202","v":0},{"$f":"APR!L202","v":"bundle"},{"$f":"APR!M202","v":2576.8000000000002},0]
[]
["FOR THE LATEST PRICES AND DETAILED SPECIFICATIONS, PLEASE REFER TO THE ELECTRONIC CATALOGUE @ www.procurementservice.gov.ph/www.philgeps.gov.ph"]
["For verification of balances, call PS-Acctg Division @ Tel. Nos. (02) 563-9351 or email us at accounting@procurementservice.gov.ph"]
["NOTE: ALL SIGNATURES MUST BE OVER PRINTED NAME"]
["STOCKS REQUESTED ARE CERTIFIED TO BE     FUNDS CERTIFIED AVAILABLE:                              APPROVED:"]
["WITHIN APPROVED PROGRAM:"]
[]
[]
[]
["   AGENCY PROPERTY/SUPPLY OFFICER                         AGENCY CHIEF ACCOUNTANT                        AGENCY HEAD/AUTHORIZED SIGNATURE"]
[]
[{"$f":"APR!B215","v":"[  ] FUNDS DEPOSITED WITH PS    [  ] ___________________ CHECK No. ____________________"}]
[{"$f":"APR!B216","v":"IN THE AMOUNT OF: ____________________________________________________________ (P _____________________ ) ENCLOSED"}]
[]
[{"$f":"SUBTOTAL(103,C$21:C619)","v":125},"44122104-PC-G01","PAPER CLIP, 32MM, 100 pieces per box\nor 52 grams (min.) (net of box)",{"$f":"APR!K145","v":0},{"$f":"APR!L145","v":"carton"},{"$f":"APR!M145","v":321.5},{"$f":"D619*F619","v":0}]
[{"$f":"SUBTOTAL(103,C$21:C620)","v":126},"44122104-PC-J02","PAPER CLIP, 48MM, 100 pieces per box\nor 120 grams (min.) (net of box)",{"$f":"APR!K146","v":0},{"$f":"APR!L146","v":"carton"},{"$f":"APR!M146","v":642.5},0]
[{"$f":"SUBTOTAL(103,C$21:C621)","v":127},"44101603-PS-M01","PAPER SHREDDER",{"$f":"APR!K147","v":0},{"$f":"APR!L147","v":"unit"},{"$f":"APR!M147","v":5699.2},0]
[{"$f":"SUBTOTAL(103,C$21:C622)","v":128},"44101601-PT-M01","PAPER TRIMMER CUTTING MACHINE",{"$f":"APR!K148","v":0},{"$f":"APR!L148","v":"unit"},{"$f":"APR!M148","v":7488},0]
[{"$f":"SUBTOTAL(103,C$21:C623)","v":129},"14111507-PP-M01","PAPER, MULTICOPY, 80gsm, size: 210mm x 297mm      ",{"$f":"APR!K149","v":0},{"$f":"APR!L149","v":"box"},{"$f":"APR!M149","v":561.6},0]
[{"$f":"SUBTOTAL(103,C$21:C624)","v":130},"14111507-PP-M02","PAPER, MULTICOPY, 80gsm, size: 216mm x 330mm      ",{"$f":"APR!K150","v":0},{"$f":"APR!L150","v":"box"},{"$f":"APR!M150","v":660.1},0]
[{"$f":"SUBTOTAL(103,C$21:C625)","v":131},"14111507-PP-C01","PAPER, Multi-Purpose (COPY) A4, 70 gsm., 5 reams/box",{"$f":"APR!K151","v":0},{"$f":"APR!L151","v":"box"},{"$f":"APR!M151","v":476.3},0]
[{"$f":"SUBTOTAL(103,C$21:C626)","v":132},"14111507-PP-C02","PAPER, Multi-Purpose (COPY) Legal, 70 gsm., 5 reams/box",{"$f":"APR!K152","v":0},{"$f":"APR!L152","v":"box"},{"$f":"APR!M152","v":571.75},0]
[{"$f":"SUBTOTAL(103,C$21:C627)","v":133},"14111503-PA-P01","PAPER, PARCHMENT, 100 sheets per box",{"$f":"APR!K153","v":0},{"$f":"APR!L153","v":"pack"},{"$f":"APR!M153","v":1768},0]
[{"$f":"SUBTOTAL(103,C$21:C628)","v":134},"14111818-TH-P01","PAPER, THERMAL, 210MM X 30M",{"$f":"APR!K154","v":0},{"$f":"APR!L154","v":"box"},{"$f":"APR!M154","v":1437.6},0]
[{"$f":"SUBTOTAL(103,C$21:C629)","v":135},"14111818-TH-P02","PAPER, THERMAL, 216MM X 30M",{"$f":"APR!K155","v":0},{"$f":"APR!L155","v":"box"},{"$f":"APR!M155","v":1495.2},0]
[{"$f":"SUBTOTAL(103,C$21:C630)","v":136},"44121619-PS-M01","PENCIL SHARPENER",{"$f":"APR!K156","v":0},{"$f":"APR!L156","v":"box"},{"$f":"APR!M156","v":4492.8},0]
[{"$f":"SUBTOTAL(103,C$21:C631)","v":137},"44121706-PE-L01","PENCIL, LEAD WITH ERASER",{"$f":"APR!K157","v":0},{"$f":"APR!L157","v":"pack"},{"$f":"APR!M157","v":235.44},0]
[{"$f":"SUBTOTAL(103,C$21:C632)","v":138},"55121905-PH-F01","PHILIPPINE NATIONAL FLAG",{"$f":"APR!K158","v":0},{"$f":"APR!L158","v":"bundle"},{"$f":"APR!M158","v":2787.2},0]
[{"$f":"SUBTOTAL(103,C$21:C633)","v":139},"43212102-PR-D02","PRINTER, IMPACT DOT MATRIX, 24 pins, 136 column",{"$f":"APR!K159","v":0},{"$f":"APR!L159","v":"unit"},{"$f":"APR!M159","v":18709.599999999999},0]
[{"$f":"SUBTOTAL(103,C$21:C634)","v":140},"43212102-PR-D01","PRINTER, IMPACT DOT MATRIX, 9 pins, 80 columns",{"$f":"APR!K160","v":0},{"$f":"APR!L160","v":"unit"},{"$f":"APR!M160","v":5831.52},0]
[{"$f":"SUBTOTAL(103,C$21:C635)","v":141},"43212104-PR-I01","PRINTER, INKJET, WIRELESS",{"$f":"APR!K161","v":0},{"$f":"APR!L161","v":"unit"},{"$f":"APR!M161","v":10000},0]
[{"$f":"SUBTOTAL(103,C$21:C636)","v":142},"43212105-PR-L01","PRINTER, LASER, MONOCHROME",{"$f":"APR!K162","v":0},{"$f":"APR!L162","v":"unit"},{"$f":"APR!M162","v":1237.5999999999999},{"$f":"D636*F636","v":0}]
[{"$f":"SUBTOTAL(103,C$21:C637)","v":143},"44101602-PU-P01","PUNCHER, paper, heavy duty, with two hole guide   ",{"$f":"APR!K163","v":0},{"$f":"APR!L163","v":"carton"},{"$f":"APR!M163","v":2742.72},{"$f":"D637*F637","v":0}]
[{"$f":"SUBTOTAL(103,C$21:C638)","v":144},"44122106-PP-F02","PUSH PIN",{"$f":"APR!K164","v":0},{"$f":"APR!L164","v":"box"},{"$f":"APR!M164","v":299.52},0]
[{"$f":"SUBTOTAL(103,C$21:C639)","v":145},"47131501-RG-C01","RAGS, ALL COTTON",{"$f":"APR!K165","v":0},{"$f":"APR!L165","v":"sack"},{"$f":"APR!M165","v":1490.7},0]
[{"$f":"SUBTOTAL(103,C$21:C640)","v":146},"14111531-RE-B01","RECORD BOOK, 300 PAGES, size: 214mm x 278mm min   ",{"$f":"APR!K166","v":0},{"$f":"APR!L166","v":"bundle"},{"$f":"APR!M166","v":603.20000000000005},0]
[{"$f":"SUBTOTAL(103,C$21:C641)","v":147},"14111531-RE-B02","RECORD BOOK, 500 PAGES, size: 214mm x 278mm min   ",{"$f":"APR!K167","v":0},{"$f":"APR!L167","v":"bundle"},{"$f":"APR!M167","v":434.25},0]
[{"$f":"SUBTOTAL(103,C$21:C642)","v":148},"44102606-RI-T01","RIBBON, FOR MANUAL TYPEWRITER",{"$f":"APR!K168","v":0},{"$f":"APR!L168","v":"box"},{"$f":"APR!M168","v":205.68},0]
[{"$f":"SUBTOTAL(103,C$21:C643)","v":149},"44122037-RB-P07","RING BINDER, PLASTIC, 25MM",{"$f":"APR!K169","v":0},{"$f":"APR!L169","v":"pack"},{"$f":"APR!M169","v":2412.8000000000002},0]
[{"$f":"SUBTOTAL(103,C$21:C644)","v":150},"44122037-RB-P09","RING BINDER, PLASTIC, 32MM",{"$f":"APR!K170","v":0},{"$f":"APR!L170","v":"pack"},{"$f":"APR!M170","v":4109.92},0]
[{"$f":"SUBTOTAL(103,C$21:C645)","v":151},"44122037-RB-P12","RING BINDER, PLASTIC, 50MM",{"$f":"APR!K171","v":0},{"$f":"APR!L171","v":"pack"},{"$f":"APR!M171","v":4656.4799999999996},0]
[{"$f":"SUBTOTAL(103,C$21:C646)","v":152},"44122101-RU-B01","RUBBER BAND, #18",{"$f":"APR!K172","v":0},{"$f":"APR!L172","v":"carton"},{"$f":"APR!M172","v":4665.5},0]
[{"$f":"SUBTOTAL(103,C$21:C647)","v":153},"41111604-RU-P02","RULER, PLASTIC, 450MM",{"$f":"APR!K173","v":0},{"$f":"APR!L173","v":"box"},{"$f":"APR!M173","v":774},0]
[{"$f":"SUBTOTAL(103,C$21:C648)","v":154},"44121618-SS-S01","SCISSORS",{"$f":"APR!K174","v":0},{"$f":"APR!L174","v":"box"},{"$f":"APR!M174","v":494.28},0]
[{"$f":"SUBTOTAL(103,C$21:C649)","v":155},"47131602-SC-N01","SCOURING PAD",{"$f":"APR!K175","v":0},{"$f":"APR!L175","v":"box"},{"$f":"APR!M175","v":2059.1999999999998},0]
[{"$f":"SUBTOTAL(103,C$21:C650)","v":155},"60121524-SP-G01","SIGN PEN, BLACK, liquid/gel ink, 0.5mm needle tip ",{"$f":"APR!K176","v":0},{"$f":"APR!L176","v":"box"},{"$f":"APR!M176","v":457.2},0]
[{"$f":"SUBTOTAL(103,C$21:C651)","v":155},"60121524-SP-G02","SIGN PEN, BLUE, liquid/gel ink, 0.5mm needle tip  ",{"$f":"APR!K177","v":0},{"$f":"APR!L177","v":"box"},{"$f":"APR!M177","v":457.2},0]
[{"$f":"SUBTOTAL(103,C$21:C652)","v":155},"60121524-SP-G03","SIGN PEN, RED, liquid/gel ink, 0.5mm needle tip   ",{"$f":"APR!K178","v":0},{"$f":"APR!L178","v":"box"},{"$f":"APR!M178","v":457.2},0]
[{"$f":"SUBTOTAL(103,C$21:C653)","v":155},"53131608-SB-R01","SOAP, BATHROOM",{"$f":"APR!K179","v":0},{"$f":"APR!L179","v":"carton"},{"$f":"APR!M179","v":1453.4},0]
[{"$f":"SUBTOTAL(103,C$21:C654)","v":155},"44121905-SP-F01","STAMP PAD, FELT",{"$f":"APR!K180","v":0},{"$f":"APR!L180","v":"pack"},{"$f":"APR!M180","v":331.92},0]
[{"$f":"SUBTOTAL(103,C$21:C655)","v":155},"44121613-SR-P01","STAPLE REMOVER, PLIER TYPE",{"$f":"APR!K181","v":0},{"$f":"APR!L181","v":"box"},{"$f":"APR!M181","v":436.32},0]
[{"$f":"SUBTOTAL(103,C$21:C656)","v":155},"31151804-SW-H01","STAPLE WIRE, HEAVY DUTY, 23/13",{"$f":"APR!K182","v":0},{"$f":"APR!L182","v":"pack"},{"$f":"APR!M182","v":234},0]
[{"$f":"SUBTOTAL(103,C$21:C657)","v":155},"31151804-SW-H02","STAPLE WIRE, HEAVY DUTY, 23/17",{"$f":"APR!K183","v":0},{"$f":"APR!L183","v":"pack"},{"$f":"APR!M183","v":414.8},0]
[{"$f":"SUBTOTAL(103,C$21:C658)","v":155},"31151804-SW-S01","STAPLE WIRE, STANDARD",{"$f":"APR!K184","v":0},{"$f":"APR!L184","v":"carton"},{"$f":"APR!M184","v":1892},0]
[{"$f":"SUBTOTAL(103,C$21:C659)","v":155},"44121615-ST-B01","STAPLER, BINDER",{"$f":"APR!K185","v":0},{"$f":"APR!L185","v":"unit"},{"$f":"APR!M185","v":878.8},0]
[{"$f":"SUBTOTAL(103,C$21:C660)","v":155},"44121615-ST-S01","STAPLER, STANDARD TYPE, load cap: 200 staples min ",{"$f":"APR!K186","v":0},{"$f":"APR!L186","v":"pack"},{"$f":"APR!M186","v":657.28},0]
[{"$f":"SUBTOTAL(103,C$21:C661)","v":155},"44121605-TD-H01","TAPE DISPENSER, HANDHELD",{"$f":"APR!K187","v":0},{"$f":"APR!L187","v":"box"},{"$f":"APR!M187","v":291},0]
[{"$f":"SUBTOTAL(103,C$21:C662)","v":155},"44121605-TD-T01","TAPE DISPENSER, TABLE TOP",{"$f":"APR!K188","v":0},{"$f":"APR!L188","v":"piece"},{"$f":"APR!M188","v":47.72},0]
[{"$f":"SUBTOTAL(103,C$21:C663)","v":155},"31201502-TA-E01","TAPE, ELECTRICAL",{"$f":"APR!K189","v":0},{"$f":"APR!L189","v":"pack"},{"$f":"APR!M189","v":455},0]
[{"$f":"SUBTOTAL(103,C$21:C664)","v":155},"14111515-TA-C01","TAPE, FOR ADDING MACHINE",{"$f":"APR!K190","v":0},{"$f":"APR!L190","v":"pack"},{"$f":"APR!M190","v":162.19999999999999},0]
[{"$f":"SUBTOTAL(103,C$21:C665)","v":155},"31201503-TA-M01","TAPE, MASKING, width: 24mm (±1mm)                 ",{"$f":"APR!K191","v":0},{"$f":"APR!L191","v":"pack"},{"$f":"APR!M191","v":661.44},0]
[{"$f":"SUBTOTAL(103,C$21:C666)","v":155},"31201503-TA-M02","TAPE, MASKING, width: 48mm (±1mm)                 ",{"$f":"APR!K192","v":0},{"$f":"APR!L192","v":"pack"},{"$f":"APR!M192","v":630.24},0]
[{"$f":"SUBTOTAL(103,C$21:C667)","v":155},"31201517-TA-P01","TAPE, PACKAGING, width: 48mm (±1mm)               ",{"$f":"APR!K193","v":0},{"$f":"APR!L193","v":"pack"},{"$f":"APR!M193","v":196.44},0]
[{"$f":"SUBTOTAL(103,C$21:C668)","v":155},"31201512-TA-T01","TAPE, TRANSPARENT, width: 24mm (±1mm)             ",{"$f":"APR!K194","v":0},{"$f":"APR!L194","v":"pack"},{"$f":"APR!M194","v":131.04},0]
[{"$f":"SUBTOTAL(103,C$21:C669)","v":155},"31201512-TA-T02","TAPE, TRANSPARENT, width: 48mm (±1mm)             ",{"$f":"APR!K195","v":0},{"$f":"APR!L195","v":"pack"},{"$f":"APR!M195","v":159.12},0]
[{"$f":"SUBTOTAL(103,C$21:C670)","v":155},"44103205-TC-A01","TIME CARD, AMANO",{"$f":"APR!K196","v":0},{"$f":"APR!L196","v":"pack"},{"$f":"APR!M196","v":694.7},0]
[{"$f":"SUBTOTAL(103,C$21:C671)","v":155},"14111704-TT-P01","TOILET TISSUE PAPER 2-plys sheets, 150 pulls      ",{"$f":"APR!K197","v":0},{"$f":"APR!L197","v":"box"},{"$f":"APR!M197","v":540.79999999999995},{"$f":"D671*F671","v":0}]
[{"$f":"SUBTOTAL(103,C$21:C672)","v":155},"47121701-TB-P01","TRASHBAG, plastic, gusseted type, black,          ",{"$f":"APR!K198","v":0},{"$f":"APR!L198","v":"sack"},{"$f":"APR!M198","v":4196.3999999999996},0]
[{"$f":"SUBTOTAL(103,C$21:C673)","v":155},"31151507-TW-P01","TWINE, PLASTIC",{"$f":"APR!K199","v":0},{"$f":"APR!L199","v":"bundle"},{"$f":"APR!M199","v":499.2},0]
[{"$f":"SUBTOTAL(103,C$21:C674)","v":155},"47121702-WB-P01","WASTEBASKET, NON RIGID PLASTIC",{"$f":"APR!K200","v":0},{"$f":"APR!L200","v":"bundle"},{"$f":"APR!M200","v":573.6},0]
[{"$f":"SUBTOTAL(103,C$21:C675)","v":155},"43222609-WR-R01","WIRELESS N-ROUTER",{"$f":"APR!K201","v":0},{"$f":"APR!L201","v":"unit"},{"$f":"APR!M201","v":1037.92},0]
[{"$f":"SUBTOTAL(103,C$21:C676)","v":155},"60121124-WR-P02","WRAPPING PAPER",{"$f":"APR!K202","v":0},{"$f":"APR!L202","v":"bundle"},{"$f":"APR!M202","v":2576.8000000000002},0]
[]
["FOR THE LATEST PRICES AND DETAILED SPECIFICATIONS, PLEASE REFER TO THE ELECTRONIC CATALOGUE @ www.procurementservice.gov.ph/www.philgeps.gov.ph"]
["For verification of balances, call PS-Acctg Division @ Tel. Nos. (02) 563-9351 or email us at accounting@procurementservice.gov.ph"]
["NOTE: ALL SIGNATURES MUST BE OVER PRINTED NAME"]
["STOCKS REQUESTED ARE CERTIFIED TO BE     FUNDS CERTIFIED AVAILABLE:                              APPROVED:"]
["WITHIN APPROVED PROGRAM:"]
[]
[]
[]
["   AGENCY PROPERTY/SUPPLY OFFICER                         AGENCY CHIEF ACCOUNTANT                        AGENCY HEAD/AUTHORIZED SIGNATURE"]
[]
[{"$f":"APR!B215","v":"[  ] FUNDS DEPOSITED WITH PS    [  ] ___________________ CHECK No. ____________________"}]
[{"$f":"APR!B216","v":"IN THE AMOUNT OF: ____________________________________________________________ (P _____________________ ) ENCLOSED"}]
[]
[{"$f":"SUBTOTAL(103,C$21:C691)","v":156},"60121524-SP-G01","SIGN PEN, BLACK, liquid/gel ink, 0.5mm needle tip ",{"$f":"APR!K176","v":0},{"$f":"APR!L176","v":"box"},{"$f":"APR!M176","v":457.2},{"$f":"D691*F691","v":0}]
[{"$f":"SUBTOTAL(103,C$21:C692)","v":157},"60121524-SP-G02","SIGN PEN, BLUE, liquid/gel ink, 0.5mm needle tip  ",{"$f":"APR!K177","v":0},{"$f":"APR!L177","v":"box"},{"$f":"APR!M177","v":457.2},0]
[{"$f":"SUBTOTAL(103,C$21:C693)","v":158},"60121524-SP-G03","SIGN PEN, RED, liquid/gel ink, 0.5mm needle tip   ",{"$f":"APR!K178","v":0},{"$f":"APR!L178","v":"box"},{"$f":"APR!M178","v":457.2},0]
[{"$f":"SUBTOTAL(103,C$21:C694)","v":159},"53131608-SB-R01","SOAP, BATHROOM",{"$f":"APR!K179","v":0},{"$f":"APR!L179","v":"carton"},{"$f":"APR!M179","v":1453.4},0]
[{"$f":"SUBTOTAL(103,C$21:C695)","v":160},"44121905-SP-F01","STAMP PAD, FELT",{"$f":"APR!K180","v":0},{"$f":"APR!L180","v":"pack"},{"$f":"APR!M180","v":331.92},0]
[{"$f":"SUBTOTAL(103,C$21:C696)","v":161},"44121613-SR-P01","STAPLE REMOVER, PLIER TYPE",{"$f":"APR!K181","v":0},{"$f":"APR!L181","v":"box"},{"$f":"APR!M181","v":436.32},0]
[{"$f":"SUBTOTAL(103,C$21:C697)","v":162},"31151804-SW-H01","STAPLE WIRE, HEAVY DUTY, 23/13",{"$f":"APR!K182","v":0},{"$f":"APR!L182","v":"pack"},{"$f":"APR!M182","v":234},0]
[{"$f":"SUBTOTAL(103,C$21:C698)","v":163},"31151804-SW-H02","STAPLE WIRE, HEAVY DUTY, 23/17",{"$f":"APR!K183","v":0},{"$f":"APR!L183","v":"pack"},{"$f":"APR!M183","v":414.8},0]
[{"$f":"SUBTOTAL(103,C$21:C699)","v":164},"31151804-SW-S01","STAPLE WIRE, STANDARD",{"$f":"APR!K184","v":0},{"$f":"APR!L184","v":"carton"},{"$f":"APR!M184","v":1892},0]
[{"$f":"SUBTOTAL(103,C$21:C700)","v":165},"44121615-ST-B01","STAPLER, BINDER",{"$f":"APR!K185","v":0},{"$f":"APR!L185","v":"unit"},{"$f":"APR!M185","v":878.8},0]
[{"$f":"SUBTOTAL(103,C$21:C701)","v":166},"44121615-ST-S01","STAPLER, STANDARD TYPE, load cap: 200 staples min ",{"$f":"APR!K186","v":0},{"$f":"APR!L186","v":"pack"},{"$f":"APR!M186","v":657.28},0]
[{"$f":"SUBTOTAL(103,C$21:C702)","v":167},"44121605-TD-H01","TAPE DISPENSER, HANDHELD",{"$f":"APR!K187","v":0},{"$f":"APR!L187","v":"box"},{"$f":"APR!M187","v":291},0]
[{"$f":"SUBTOTAL(103,C$21:C703)","v":168},"44121605-TD-T01","TAPE DISPENSER, TABLE TOP",{"$f":"APR!K188","v":0},{"$f":"APR!L188","v":"piece"},{"$f":"APR!M188","v":47.72},0]
[{"$f":"SUBTOTAL(103,C$21:C704)","v":169},"31201502-TA-E01","TAPE, ELECTRICAL",{"$f":"APR!K189","v":0},{"$f":"APR!L189","v":"pack"},{"$f":"APR!M189","v":455},0]
[{"$f":"SUBTOTAL(103,C$21:C705)","v":170},"14111515-TA-C01","TAPE, FOR ADDING MACHINE",{"$f":"APR!K190","v":0},{"$f":"APR!L190","v":"pack"},{"$f":"APR!M190","v":162.19999999999999},0]
[{"$f":"SUBTOTAL(103,C$21:C706)","v":171},"31201503-TA-M01","TAPE, MASKING, width: 24mm (±1mm)                 ",{"$f":"APR!K191","v":0},{"$f":"APR!L191","v":"pack"},{"$f":"APR!M191","v":661.44},0]
[{"$f":"SUBTOTAL(103,C$21:C707)","v":172},"31201503-TA-M02","TAPE, MASKING, width: 48mm (±1mm)                 ",{"$f":"APR!K192","v":0},{"$f":"APR!L192","v":"pack"},{"$f":"APR!M192","v":630.24},0]
[{"$f":"SUBTOTAL(103,C$21:C708)","v":173},"31201517-TA-P01","TAPE, PACKAGING, width: 48mm (±1mm)               ",{"$f":"APR!K193","v":0},{"$f":"APR!L193","v":"pack"},{"$f":"APR!M193","v":196.44},0]
[{"$f":"SUBTOTAL(103,C$21:C709)","v":174},"31201512-TA-T01","TAPE, TRANSPARENT, width: 24mm (±1mm)             ",{"$f":"APR!K194","v":0},{"$f":"APR!L194","v":"pack"},{"$f":"APR!M194","v":131.04},0]
[{"$f":"SUBTOTAL(103,C$21:C710)","v":175},"31201512-TA-T02","TAPE, TRANSPARENT, width: 48mm (±1mm)             ",{"$f":"APR!K195","v":0},{"$f":"APR!L195","v":"pack"},{"$f":"APR!M195","v":159.12},0]
[{"$f":"SUBTOTAL(103,C$21:C711)","v":176},"44103205-TC-A01","TIME CARD, AMANO",{"$f":"APR!K196","v":0},{"$f":"APR!L196","v":"pack"},{"$f":"APR!M196","v":694.7},0]
[{"$f":"SUBTOTAL(103,C$21:C712)","v":177},"14111704-TT-P01","TOILET TISSUE PAPER 2-plys sheets, 150 pulls      ",{"$f":"APR!K197","v":0},{"$f":"APR!L197","v":"box"},{"$f":"APR!M197","v":540.79999999999995},0]
[{"$f":"SUBTOTAL(103,C$21:C713)","v":178},"47121701-TB-P01","TRASHBAG, plastic, gusseted type, black,          ",{"$f":"APR!K198","v":0},{"$f":"APR!L198","v":"sack"},{"$f":"APR!M198","v":4196.3999999999996},0]
[{"$f":"SUBTOTAL(103,C$21:C714)","v":179},"31151507-TW-P01","TWINE, PLASTIC",{"$f":"APR!K199","v":0},{"$f":"APR!L199","v":"bundle"},{"$f":"APR!M199","v":499.2},0]
[{"$f":"SUBTOTAL(103,C$21:C715)","v":180},"47121702-WB-P01","WASTEBASKET, NON RIGID PLASTIC",{"$f":"APR!K200","v":0},{"$f":"APR!L200","v":"bundle"},{"$f":"APR!M200","v":573.6},0]
[{"$f":"SUBTOTAL(103,C$21:C716)","v":181},"43222609-WR-R01","WIRELESS N-ROUTER",{"$f":"APR!K201","v":0},{"$f":"APR!L201","v":"unit"},{"$f":"APR!M201","v":1037.92},0]
[{"$f":"SUBTOTAL(103,C$21:C717)","v":182},"60121124-WR-P02","WRAPPING PAPER",{"$f":"APR!K202","v":0},{"$f":"APR!L202","v":"bundle"},{"$f":"APR!M202","v":2576.8000000000002},0]
[]
[]
[]
[]
[]
[]
[]
[]
[]
[]
[]
[]
[]
[]
[]
[]
[]
[]
[]
[]
[]
[]
[]
[]
[]
[]
[]
[]
[]
[]
[]
[null,null,null,"TOTAL ORDERED AMOUNT",null,null,{"$f":"APR!N203","v":0}]
["FOR THE LATEST PRICES AND DETAILED SPECIFICATIONS, PLEASE REFER TO THE ELECTRONIC CATALOGUE @ www.procurementservice.gov.ph/www.philgeps.gov.ph"]
["For verification of balances, call PS-Acctg Division @ Tel. Nos. (02) 563-9351 or email us at accounting@procurementservice.gov.ph"]
["NOTE: ALL SIGNATURES MUST BE OVER PRINTED NAME"]
["STOCKS REQUESTED ARE CERTIFIED TO BE     FUNDS CERTIFIED AVAILABLE:                              APPROVED:"]
["WITHIN APPROVED PROGRAM:"]
[]
[]
[]
["   AGENCY PROPERTY/SUPPLY OFFICER                         AGENCY CHIEF ACCOUNTANT                        AGENCY HEAD/AUTHORIZED SIGNATURE"]
[]
[{"$f":"APR!B215","v":"[  ] FUNDS DEPOSITED WITH PS    [  ] ___________________ CHECK No. ____________________"}]
[{"$f":"APR!B216","v":"IN THE AMOUNT OF: ____________________________________________________________ (P _____________________ ) ENCLOSED"}]

{"sheet":"NonZero","index":4,"n_rows":367,"n_cols":7,"rows_kept":367,"cut":false,"hidden":false,"merged":[]}
[null,"ITEM CODE","ITEM DESCRIPTION/SPECIFICATIONS","QTY","UNIT","UNIT PRICE"," AMOUNT"]
[{"$f":"SUBTOTAL(103,C$2:C2)","v":0},"13111203-AC-F01","ACETATE",{"$f":"APR!G21","v":0},{"$f":"APR!H21","v":"roll"},{"$f":"APR!I21","v":624},{"$f":"D2*F2","v":0}]
[{"$f":"SUBTOTAL(103,C$2:C3)","v":1},"47131812-AF-A01","AIR FRESHENER, aerosol, 280ml/150g min            ",{"$f":"APR!G22","v":0},{"$f":"APR!H22","v":"can"},{"$f":"APR!I22","v":83.2},0]
[{"$f":"SUBTOTAL(103,C$2:C4)","v":2},"12191601-AL-E01","ALCOHOL, ethyl, 68%-70%, scented, 500ml (-5ml)    ",{"$f":"APR!G23","v":0},{"$f":"APR!H23","v":"bottle"},{"$f":"APR!I23","v":47.82},0]
[{"$f":"SUBTOTAL(103,C$2:C5)","v":3},"39111801-BA-F02","BALLAST, 36 WATTS",{"$f":"APR!G24","v":0},{"$f":"APR!H24","v":"piece"},{"$f":"APR!I24","v":74.78},0]
[{"$f":"SUBTOTAL(103,C$2:C6)","v":3},"26111702-BT-A02","BATTERY, dry cell, AA, 2 pieces per blister pack",{"$f":"APR!G25","v":0},{"$f":"APR!H25","v":"pack"},{"$f":"APR!I25","v":19.5},0]
[{"$f":"SUBTOTAL(103,C$2:C7)","v":3},"26111702-BT-A01","BATTERY, dry cell, AAA, 2 pieces per blister pack",{"$f":"APR!G26","v":0},{"$f":"APR!H26","v":"pack"},{"$f":"APR!I26","v":18.46},0]
[{"$f":"SUBTOTAL(103,C$2:C8)","v":3},"26111702-BT-A03","BATTERY, dry cell, D, 2 pieces per blister pack",{"$f":"APR!G27","v":0},{"$f":"APR!H27","v":"pack"},{"$f":"APR!I27","v":88.4},0]
[{"$f":"SUBTOTAL(103,C$2:C9)","v":3},"44101602-PB-M01","BINDING AND PUNCHING MACHINE",{"$f":"APR!G28","v":0},{"$f":"APR!H28","v":"unit"},{"$f":"APR!I28","v":10400},0]
[{"$f":"SUBTOTAL(103,C$2:C10)","v":3},"47131604-BR-S01","BROOM, SOFT (TAMBO), weight: 200g min tiger grass ",{"$f":"APR!G29","v":0},{"$f":"APR!H29","v":"piece"},{"$f":"APR!I29","v":88.4},0]
[{"$f":"SUBTOTAL(103,C$2:C11)","v":3},"47131604-BR-T01","BROOM, STICK (TINGTING)",{"$f":"APR!G30","v":0},{"$f":"APR!H30","v":"piece"},{"$f":"APR!I30","v":23.92},0]
[{"$f":"SUBTOTAL(103,C$2:C12)","v":4},"44101807-CA-C01","CALCULATOR, COMPACT, electronic, 12 digits cap, 1 unit\nin individual box",{"$f":"APR!G31","v":0},{"$f":"APR!H31","v":"unit"},{"$f":"APR!I31","v":135.19999999999999},0]
[{"$f":"SUBTOTAL(103,C$2:C13)","v":4},"44101810-CA-D01","CALCULATOR, MINI-PRINTING, 1 unit per box",{"$f":"APR!G32","v":0},{"$f":"APR!H32","v":"unit"},{"$f":"APR!I32","v":930.8},0]
[{"$f":"SUBTOTAL(103,C$2:C14)","v":5},"44101810-CA-D02","CALCULATOR, PRINTING, DESKTOP, 1 unit per box",{"$f":"APR!G33","v":0},{"$f":"APR!H33","v":"unit"},{"$f":"APR!I33","v":1965.6},0]
[{"$f":"SUBTOTAL(103,C$2:C15)","v":6},"44101808-CA-S01","CALCULATOR, SCIENTIFIC, 1 unit in indiviual box",{"$f":"APR!G34","v":0},{"$f":"APR!H34","v":"unit"},{"$f":"APR!I34","v":258.83999999999997},0]
[{"$f":"SUBTOTAL(103,C$2:C16)","v":6},"13111201-CF-P01","CARBON FILM, A4 SIZE, 100 sheets per box",{"$f":"APR!G35","v":0},{"$f":"APR!H35","v":"box"},{"$f":"APR!I35","v":197.58},0]
[{"$f":"SUBTOTAL(103,C$2:C17)","v":6},"13111201-CF-P02","CARBON FILM, PE, black, size 216mm x 330mm, 100 sheets per box     ",{"$f":"APR!G36","v":0},{"$f":"APR!H36","v":"box"},{"$f":"APR!I36","v":202.8},0]
[{"$f":"SUBTOTAL(103,C$2:C18)","v":6},"14111525-CA-A01","CARTOLINA, ASSORTED COLORS, 20 pieces per pack",{"$f":"APR!G37","v":0},{"$f":"APR!H37","v":"pack"},{"$f":"APR!I37","v":64.48},0]
[{"$f":"SUBTOTAL(103,C$2:C19)","v":6},"14111525-CA-W01","CARTOLINA, WHITE, 20 pieces per pack",{"$f":"APR!G38","v":0},{"$f":"APR!H38","v":"pack"},{"$f":"APR!I38","v":52},0]
[{"$f":"SUBTOTAL(103,C$2:C20)","v":6},"56101504-CM-B01","CHAIR, MONOBLOC, BEIGE, with backrest, w/o armrest",{"$f":"APR!G39","v":0},{"$f":"APR!H39","v":"piece"},{"$f":"APR!I39","v":254.68},0]
[{"$f":"SUBTOTAL(103,C$2:C21)","v":6},"56101504-CM-W01","CHAIR, MONOBLOC, WHITE, with backrest, w/o armrest",{"$f":"APR!G40","v":0},{"$f":"APR!H40","v":"piece"},{"$f":"APR!I40","v":254.8},0]
[{"$f":"SUBTOTAL(103,C$2:C22)","v":7},"44121710-CH-W01","CHALK, WHITE ENAMEL, 100 pieces per box",{"$f":"APR!G41","v":0},{"$f":"APR!H41","v":"box"},{"$f":"APR!I41","v":25.86},0]
[{"$f":"SUBTOTAL(103,C$2:C23)","v":8},"47131829-TB-C01","CLEANER, TOILET BOWL AND URINAL, , 900ml-1,000ml cap",{"$f":"APR!G42","v":0},{"$f":"APR!H42","v":"bottle"},{"$f":"APR!I42","v":41.6},0]
[{"$f":"SUBTOTAL(103,C$2:C24)","v":9},"47131805-CL-P01","CLEANSER, SCOURING POWDER, 350g min./can",{"$f":"APR!G43","v":0},{"$f":"APR!H43","v":"can"},{"$f":"APR!I43","v":21.27},0]
[{"$f":"SUBTOTAL(103,C$2:C25)","v":10},"60121413-CB-P01","CLEARBOOK, A4 SIZE",{"$f":"APR!G44","v":0},{"$f":"APR!H44","v":"piece"},{"$f":"APR!I44","v":39.520000000000003},0]
[{"$f":"SUBTOTAL(103,C$2:C26)","v":11},"60121413-CB-P02","CLEARBOOK, LEGAL",{"$f":"APR!G45","v":0},{"$f":"APR!H45","v":"piece"},{"$f":"APR!I45","v":43.68},0]
[{"$f":"SUBTOTAL(103,C$2:C27)","v":11},"44122105-BF-C01","CLIP, BACKFOLD, 19MM, 12 pieces per box",{"$f":"APR!G46","v":0},{"$f":"APR!H46","v":"box"},{"$f":"APR!I46","v":7.28},0]
[{"$f":"SUBTOTAL(103,C$2:C28)","v":11},"44122105-BF-C02","CLIP, BACKFOLD, 25MM, 12 pieces per box",{"$f":"APR!G47","v":0},{"$f":"APR!H47","v":"box"},{"$f":"APR!I47","v":10.4},0]
[{"$f":"SUBTOTAL(103,C$2:C29)","v":11},"44122105-BF-C03","CLIP, BACKFOLD, 32MM, 12 pieces per box",{"$f":"APR!G48","v":0},{"$f":"APR!H48","v":"box"},{"$f":"APR!I48","v":19.12},0]
[{"$f":"SUBTOTAL(103,C$2:C30)","v":11},"44122105-BF-C04","CLIP, BACKFOLD, 50MM, 12 pieces per box",{"$f":"APR!G49","v":0},{"$f":"APR!H49","v":"box"},{"$f":"APR!I49","v":36.380000000000003},0]
[{"$f":"SUBTOTAL(103,C$2:C31)","v":12},"44122105-BD-C01","CLIP, BULLDOG",{"$f":"APR!G50","v":0},{"$f":"APR!H50","v":"piece"},{"$f":"APR!I50","v":8.32},0]
[{"$f":"SUBTOTAL(103,C$2:C32)","v":12},"14111513-CO-P04","COLUMNAR PAD, 18 COLS.",{"$f":"APR!G51","v":0},{"$f":"APR!H51","v":"pad"},{"$f":"APR!I51","v":65.52},0]
[{"$f":"SUBTOTAL(103,C$2:C33)","v":12},"39101619-FL-C01","COMPACT FLUORESCENT LAMP, 18 WATTS, 1 piece in individual box",{"$f":"APR!G52","v":0},{"$f":"APR!H52","v":"piece"},{"$f":"APR!I52","v":93.29},0]
[{"$f":"SUBTOTAL(103,C$2:C34)","v":12},"14111506-CF-L11","CONTINUOUS FORM, 1 PLY, 280 x 241mm ,2,000 sets per box               ",{"$f":"APR!G53","v":0},{"$f":"APR!H53","v":"box"},{"$f":"APR!I53","v":630.76},0]
[{"$f":"SUBTOTAL(103,C$2:C35)","v":12},"14111506-CF-L21","CONTINUOUS FORM, 2 PLY, 280 x 241mm, 1,000 sets per box",{"$f":"APR!G54","v":0},{"$f":"APR!H54","v":"box"},{"$f":"APR!I54","v":716.04},0]
[{"$f":"SUBTOTAL(103,C$2:C36)","v":12},"14111506-CF-L31","CONTINUOUS FORM, 3 PLY, 280 x 241mm, 500 sets per box",{"$f":"APR!G55","v":0},{"$f":"APR!H55","v":"box"},{"$f":"APR!I55","v":596.79999999999995},0]
[{"$f":"SUBTOTAL(103,C$2:C37)","v":12},"14111506-CF-L12","CONTINUOUS FORM, 1 PLY, 280MM X 378MM, 2,000 sets per box",{"$f":"APR!G56","v":0},{"$f":"APR!H56","v":"box"},{"$f":"APR!I56","v":950.3},0]
[{"$f":"SUBTOTAL(103,C$2:C38)","v":12},"14111506-CF-L22","CONTINUOUS FORM, 2 PLY, 280MM X 378MM, 1,000 sets per box",{"$f":"APR!G57","v":0},{"$f":"APR!H57","v":"box"},{"$f":"APR!I57","v":1220.96},0]
[{"$f":"SUBTOTAL(103,C$2:C39)","v":12},"14111506-CF-L32","CONTINUOUS FORM, 3 PLY, 280MM X 378MM, 500 sets per box",{"$f":"APR!G58","v":0},{"$f":"APR!H58","v":"box"},{"$f":"APR!I58","v":958.15},0]
[{"$f":"SUBTOTAL(103,C$2:C40)","v":12},"44121801-CT-R01","CORRECTION TAPE, 1 piece in individual plastic",{"$f":"APR!G59","v":0},{"$f":"APR!H59","v":"piece"},{"$f":"APR!I59","v":31.2},0]
[{"$f":"SUBTOTAL(103,C$2:C41)","v":12},"44121612-BL-H01","CUTTER BLADE, 10 pieces per tube",{"$f":"APR!G60","v":0},{"$f":"APR!H60","v":"tube"},{"$f":"APR!I60","v":9.19},0]
[{"$f":"SUBTOTAL(103,C$2:C42)","v":13},"44121612-CU-H01","CUTTER KNIFE",{"$f":"APR!G61","v":0},{"$f":"APR!H61","v":"piece"},{"$f":"APR!I61","v":19.760000000000002},0]
[{"$f":"SUBTOTAL(103,C$2:C43)","v":14},"44111515-DF-B01","DATA FILE BOX, made of chipboard, with closed ends",{"$f":"APR!G62","v":0},{"$f":"APR!H62","v":"piece"},{"$f":"APR!I62","v":69.78},0]
[{"$f":"SUBTOTAL(103,C$2:C44)","v":15},"44122011-DF-F01","DATA FOLDER, made of chipboard, taglia lock       ",{"$f":"APR!G63","v":0},{"$f":"APR!H63","v":"piece"},{"$f":"APR!I63","v":68.64},0]
[{"$f":"SUBTOTAL(103,C$2:C45)","v":16},"44103202-DS-M01","DATING AND STAMPING MACHINE",{"$f":"APR!G64","v":0},{"$f":"APR!H64","v":"piece"},{"$f":"APR!I64","v":478.38},0]
[{"$f":"SUBTOTAL(103,C$2:C46)","v":16},"47131811-DE-P02","DETERGENT POWDER, all purpose, 500 grams (-2.5%) per plastic pouch",{"$f":"APR!G65","v":0},{"$f":"APR!H65","v":"pouch"},{"$f":"APR!I65","v":37.43},0]
[{"$f":"SUBTOTAL(103,C$2:C47)","v":16},"52161535-DV-R01","DIGITAL VOICE RECORDER, memory: 4GB (expandable), 1 unit in individual box",{"$f":"APR!G66","v":0},{"$f":"APR!H66","v":"unit"},{"$f":"APR!I66","v":6229.6},0]
[{"$f":"SUBTOTAL(103,C$2:C48)","v":17},"47131800-DB-S01","DISINFECTANT, bleaching solution",{"$f":"APR!G67","v":0},{"$f":"APR!H67","v":"container"},{"$f":"APR!I67","v":101.82},0]
[{"$f":"SUBTOTAL(103,C$2:C49)","v":18},"47131803-DS-A01","DISINFECTANT SPRAY, aerosol type, 400-550 grams   ",{"$f":"APR!G68","v":0},{"$f":"APR!H68","v":"can"},{"$f":"APR!I68","v":119.6},0]
[{"$f":"SUBTOTAL(103,C$2:C50)","v":18},"45121517-DO-C01","DOCUMENT CAMERA",{"$f":"APR!G69","v":0},{"$f":"APR!H69","v":"unit"},{"$f":"APR!I69","v":25272},0]
[{"$f":"SUBTOTAL(103,C$2:C51)","v":19},"47131601-DU-P01","DUST PAN",{"$f":"APR!G70","v":0},{"$f":"APR!H70","v":"piece"},{"$f":"APR!I70","v":24.96},0]
[{"$f":"SUBTOTAL(103,C$2:C52)","v":19},"43202003-DV-W01","DVD RE-WRITABLE",{"$f":"APR!G71","v":0},{"$f":"APR!H71","v":"piece"},{"$f":"APR!I71","v":21.79},0]
[{"$f":"SUBTOTAL(103,C$2:C53)","v":19},"40101604-EF-G01","ELECTRIC FAN, INDUSTRIAL",{"$f":"APR!G72","v":0},{"$f":"APR!H72","v":"unit"},{"$f":"APR!I72","v":956.8},0]
[{"$f":"SUBTOTAL(103,C$2:C54)","v":19},"40101604-EF-C01","ELECTRIC FAN, ORBIT type, ceiling,  metal blade",{"$f":"APR!G73","v":0},{"$f":"APR!H73","v":"unit"},{"$f":"APR!I73","v":1248},0]
[{"$f":"SUBTOTAL(103,C$2:C55)","v":19},"40101604-EF-S01","ELECTRIC FAN, STANDARD TYPE",{"$f":"APR!G74","v":0},{"$f":"APR!H74","v":"unit"},{"$f":"APR!I74","v":967.1},0]
[{"$f":"SUBTOTAL(103,C$2:C56)","v":19},"40101604-EF-W01","ELECTRIC FAN, WALL TYPE",{"$f":"APR!G75","v":0},{"$f":"APR!H75","v":"unit"},{"$f":"APR!I75","v":790.4},0]
[{"$f":"SUBTOTAL(103,C$2:C57)","v":19},"44103201-ET-R01","ELECTRONIC TIME RECORDER OR BUNDY CLOCK",{"$f":"APR!G76","v":0},{"$f":"APR!H76","v":"unit"},{"$f":"APR!I76","v":3315.52},0]
[{"$f":"SUBTOTAL(103,C$2:C58)","v":19},"44121506-EN-D01","ENVELOPE, DOCUMENTARY, for A4 size document, 500 pieces per box",{"$f":"APR!G77","v":0},{"$f":"APR!H77","v":"box"},{"$f":"APR!I77","v":381.54},0]
[{"$f":"SUBTOTAL(103,C$2:C59)","v":19},"44121506-EN-D02","ENVELOPE, DOCUMENTARY, for legal size document, \n500 pieces per box",{"$f":"APR!G78","v":0},{"$f":"APR!H78","v":"box"},{"$f":"APR!I78","v":507.4},0]
[{"$f":"SUBTOTAL(103,C$2:C60)","v":19},"44121506-EN-X01","ENVELOPE, EXPANDING, KRAFTBOARD,for legal size doc, 100 pieces per box",{"$f":"APR!G79","v":0},{"$f":"APR!H79","v":"box"},{"$f":"APR!I79","v":621.71},0]
[{"$f":"SUBTOTAL(103,C$2:C61)","v":19},"44121506-EN-X02","ENVELOPE, EXPANDING, PLASTIC",{"$f":"APR!G80","v":0},{"$f":"APR!H80","v":"piece"},{"$f":"APR!I80","v":27.61},0]
[{"$f":"SUBTOTAL(103,C$2:C62)","v":19},"44121506-EN-M01","ENVELOPE, MAILING, 500 pieces per box",{"$f":"APR!G81","v":0},{"$f":"APR!H81","v":"box"},{"$f":"APR!I81","v":499.2},0]
[{"$f":"SUBTOTAL(103,C$2:C63)","v":19},"44121504-EN-W01","ENVELOPE, MAILING, WITH WINDOW, 500 pieces per box",{"$f":"APR!G82","v":0},{"$f":"APR!H82","v":"box"},{"$f":"APR!I82","v":561.6},0]
[{"$f":"SUBTOTAL(103,C$2:C64)","v":19},"44121506-EN-P01","ENVELOPE, PAY, 500 pieces per box",{"$f":"APR!G83","v":0},{"$f":"APR!H83","v":"box"},{"$f":"APR!I83","v":119.39},0]
[{"$f":"SUBTOTAL(103,C$2:C65)","v":20},"44111912-ER-B01","ERASER, FELT, FOR BLACKBOARD OR WHITEBOARD",{"$f":"APR!G84","v":0},{"$f":"APR!H84","v":"piece"},{"$f":"APR!I84","v":11.11},0]
[{"$f":"SUBTOTAL(103,C$2:C66)","v":21},"60121534-ER-P01","ERASER, PLASTIC OR RUBBER",{"$f":"APR!G85","v":0},{"$f":"APR!H85","v":"piece"},{"$f":"APR!I85","v":2.29},{"$f":"D66*F66","v":0}]
[{"$f":"SUBTOTAL(103,C$2:C67)","v":21},"43201827-HD-X02","EXTERNAL HARD DRIVE, 1TB, 2.5\"HDD, USB 3.0, 1 unit \nin individual box",{"$f":"APR!G86","v":0},{"$f":"APR!H86","v":"unit"},{"$f":"APR!I86","v":2818.4},0]
[{"$f":"SUBTOTAL(103,C$2:C68)","v":21},"44101714-FX-M01","FACSIMILE MACHINE",{"$f":"APR!G87","v":0},{"$f":"APR!H87","v":"unit"},{"$f":"APR!I87","v":3502.72},0]
[{"$f":"SUBTOTAL(103,C$2:C69)","v":21},"44122118-FA-P01","FASTENER, METAL, 70mm between prongs, 50 sets per box",{"$f":"APR!G88","v":0},{"$f":"APR!H88","v":"box"},{"$f":"APR!I88","v":57.09},0]
[{"$f":"SUBTOTAL(103,C$2:C70)","v":21},"44111515-FO-X01","FILE ORGANIZER, LEGAL",{"$f":"APR!G89","v":0},{"$f":"APR!H89","v":"piece"},{"$f":"APR!I89","v":70.67},0]
[{"$f":"SUBTOTAL(103,C$2:C71)","v":21},"44122018-FT-D01","FILE TAB DIVIDER, A4, 5 colors per pack",{"$f":"APR!G90","v":0},{"$f":"APR!H90","v":"set"},{"$f":"APR!I90","v":12.48},0]
[{"$f":"SUBTOTAL(103,C$2:C72)","v":21},"44122018-FT-D02","FILE TAB DIVIDER, LEGAL, 5 colors per pack",{"$f":"APR!G91","v":0},{"$f":"APR!H91","v":"set"},{"$f":"APR!I91","v":16.64},0]
[{"$f":"SUBTOTAL(103,C$2:C73)","v":21},"46191601-FE-M01","FIRE EXTINGUISHER, DRY CHEMICAL",{"$f":"APR!G92","v":0},{"$f":"APR!H92","v":"unit"},{"$f":"APR!I92","v":1080.56},0]
[{"$f":"SUBTOTAL(103,C$2:C74)","v":21},"46191601-FE-H01","FIRE EXTINGUISHER, PURE HCFC",{"$f":"APR!G93","v":0},{"$f":"APR!H93","v":"unit"},{"$f":"APR!I93","v":4992},0]
[{"$f":"SUBTOTAL(103,C$2:C75)","v":21},"43202010-FD-U01","FLASH DRIVE, 16 GB capacity,1 piece in individual blister pack              ",{"$f":"APR!G94","v":0},{"$f":"APR!H94","v":"piece"},{"$f":"APR!I94","v":194.48},0]
[{"$f":"SUBTOTAL(103,C$2:C76)","v":21},"47131802-FW-L01","FLOOR WAX, LIQUID TYPE, NATURAL",{"$f":"APR!G95","v":0},{"$f":"APR!H95","v":"can"},{"$f":"APR!I95","v":370.5},0]
[{"$f":"SUBTOTAL(103,C$2:C77)","v":21},"47131802-FW-P01","FLOOR WAX, PASTE TYPE, NATURAL",{"$f":"APR!G96","v":0},{"$f":"APR!H96","v":"can"},{"$f":"APR!I96","v":223.6},0]
[{"$f":"SUBTOTAL(103,C$2:C78)","v":21},"47131802-FW-P02","FLOOR WAX, PASTE, RED",{"$f":"APR!G97","v":0},{"$f":"APR!H97","v":"can"},{"$f":"APR!I97","v":202.8},0]
[{"$f":"SUBTOTAL(103,C$2:C79)","v":21},"39101605-FL-T03","FLUORESCENT LAMP, 14 WATTS",{"$f":"APR!G98","v":0},{"$f":"APR!H98","v":"tube"},{"$f":"APR!I98","v":88.4},0]
[{"$f":"SUBTOTAL(103,C$2:C80)","v":21},"39101605-FL-T04","FLUORESCENT LAMP, 28 WATTS",{"$f":"APR!G99","v":0},{"$f":"APR!H99","v":"tube"},{"$f":"APR!I99","v":114.4},0]
[{"$f":"SUBTOTAL(103,C$2:C81)","v":21},"39101628-LT-L01","LINEAR TUBE, LED, 18 WATTS",{"$f":"APR!G100","v":0},{"$f":"APR!H100","v":"tube"},{"$f":"APR!I100","v":280.8},0]
[{"$f":"SUBTOTAL(103,C$2:C82)","v":21},"39111501-FF-C02","FLUORESCENT LIGHTING FIXTURES, 1 X 36 WATTS",{"$f":"APR!G101","v":0},{"$f":"APR!H101","v":"set"},{"$f":"APR!I101","v":364},0]
[{"$f":"SUBTOTAL(103,C$2:C83)","v":21},"44122011-FO-F01","FOLDER, FANCY, A4, 50 pieces per bundle",{"$f":"APR!G102","v":0},{"$f":"APR!H102","v":"bundle"},{"$f":"APR!I102","v":234},0]
[{"$f":"SUBTOTAL(103,C$2:C84)","v":21},"44122011-FO-F02","FOLDER, FANCY, legal, 50 pieces per bundle",{"$f":"APR!G103","v":0},{"$f":"APR!H103","v":"bundle"},{"$f":"APR!I103","v":291.2},0]
[{"$f":"SUBTOTAL(103,C$2:C85)","v":22},"44122011-FO-L01","FOLDER, L-TYPE, A4 SIZE, 50 pieces per pack",{"$f":"APR!G104","v":0},{"$f":"APR!H104","v":"pack"},{"$f":"APR!I104","v":166.4},0]
[{"$f":"SUBTOTAL(103,C$2:C86)","v":23},"44122011-FO-L02","FOLDER, L-TYPE, LEGAL SIZE, 50 pieces per pack",{"$f":"APR!G105","v":0},{"$f":"APR!H105","v":"pack"},{"$f":"APR!I105","v":203.84},0]
[{"$f":"SUBTOTAL(103,C$2:C87)","v":23},"44122027-FO-P01","FOLDER, PRESSBOARD, size: 240mm x 370mm (-5mm), 100 pieces per box    ",{"$f":"APR!G106","v":0},{"$f":"APR!H106","v":"box"},{"$f":"APR!I106","v":746.72},0]
[{"$f":"SUBTOTAL(103,C$2:C88)","v":23},"44122011-FO-T01","FOLDER, TAGBOARD, for A4 size documents, \n100 pieces per pack",{"$f":"APR!G107","v":0},{"$f":"APR!H107","v":"pack"},{"$f":"APR!I107","v":179.28},0]
[{"$f":"SUBTOTAL(103,C$2:C89)","v":23},"44122011-FO-T02","FOLDER, TAGBOARD, for legal size documents ,100 pieces per pack        ",{"$f":"APR!G108","v":0},{"$f":"APR!H108","v":"pack"},{"$f":"APR!I108","v":200.37},0]
[{"$f":"SUBTOTAL(103,C$2:C90)","v":24},"47131830-FC-A01","FURNITURE CLEANER, aerosol, 300ml min./can",{"$f":"APR!G109","v":0},{"$f":"APR!H109","v":"can"},{"$f":"APR!I109","v":84.76},0]
[{"$f":"SUBTOTAL(103,C$2:C91)","v":25},"31201610-GL-J01","GLUE, all purpose, gross weight: 200 grams min    ",{"$f":"APR!G110","v":0},{"$f":"APR!H110","v":"jars"},{"$f":"APR!I110","v":44.18},0]
[{"$f":"SUBTOTAL(103,C$2:C92)","v":25},"55101524-RA-H01","HANDBOOK ON RA9184",{"$f":"APR!G111","v":0},{"$f":"APR!H111","v":"book"},{"$f":"APR!I111","v":61.83},0]
[{"$f":"SUBTOTAL(103,C$2:C93)","v":25},"60121138-IL-B01","ILLUSTRATION BOARD, 760MM X 1000MM",{"$f":"APR!G112","v":0},{"$f":"APR!H112","v":"piece"},{"$f":"APR!I112","v":35.049999999999997},0]
[{"$f":"SUBTOTAL(103,C$2:C94)","v":25},"44111515-IC-B02","INDEX CARD BOX, 3X5",{"$f":"APR!G113","v":0},{"$f":"APR!H113","v":"piece"},{"$f":"APR!I113","v":36.4},0]
[{"$f":"SUBTOTAL(103,C$2:C95)","v":25},"44111515-IC-B01","INDEX CARD BOX, 5X8",{"$f":"APR!G114","v":0},{"$f":"APR!H114","v":"piece"},{"$f":"APR!I114","v":55.12},0]
[{"$f":"SUBTOTAL(103,C$2:C96)","v":25},"14111518-IC-R02","INDEX CARD, 3X5, 500 pieces per pack",{"$f":"APR!G115","v":0},{"$f":"APR!H115","v":"pack"},{"$f":"APR!I115","v":51.27},0]
[{"$f":"SUBTOTAL(103,C$2:C97)","v":25},"14111518-IC-R01","INDEX CARD, 5X8, 500 pieces per pack",{"$f":"APR!G116","v":0},{"$f":"APR!H116","v":"pack"},{"$f":"APR!I116","v":139.34},0]
[{"$f":"SUBTOTAL(103,C$2:C98)","v":25},"44122008-IT-T01","INDEX TAB, 5 sets per box",{"$f":"APR!G117","v":0},{"$f":"APR!H117","v":"box"},{"$f":"APR!I117","v":47.9},0]
[{"$f":"SUBTOTAL(103,C$2:C99)","v":26},"12171703-SI-P01","STAMP PAD INK, purple or violet, 50ml (min.)",{"$f":"APR!G118","v":0},{"$f":"APR!H118","v":"bottle"},{"$f":"APR!I118","v":24.63},0]
[{"$f":"SUBTOTAL(103,C$2:C100)","v":27},"10191509-IN-A01","INSECTICIDE, aerosol type, net content: 600ml min ",{"$f":"APR!G119","v":0},{"$f":"APR!H119","v":"can"},{"$f":"APR!I119","v":124.8},0]
[{"$f":"SUBTOTAL(103,C$2:C101)","v":27},"14111609-LL-C01","LOOSELEAF COVER, 50 sets per bundle",{"$f":"APR!G120","v":0},{"$f":"APR!H120","v":"bundle"},{"$f":"APR!I120","v":539.76},0]
[{"$f":"SUBTOTAL(103,C$2:C102)","v":27},"44111515-MF-B02","MAGAZINE FILE BOX, LARGE",{"$f":"APR!G121","v":0},{"$f":"APR!H121","v":"piece"},{"$f":"APR!I121","v":41.6},0]
[{"$f":"SUBTOTAL(103,C$2:C103)","v":27},"60121124-MA-P01","MANILA PAPER, 10 sheets per pack",{"$f":"APR!G122","v":0},{"$f":"APR!H122","v":"pack"},{"$f":"APR!I122","v":26},0]
[{"$f":"SUBTOTAL(103,C$2:C104)","v":27},"44122106-MP-R01","MAP PIN, ROUND HEAD, 100 pieces per case",{"$f":"APR!G123","v":0},{"$f":"APR!H123","v":"case"},{"$f":"APR!I123","v":40.35},0]
[{"$f":"SUBTOTAL(103,C$2:C105)","v":28},"44121716-MA-F01","MARKER, FLUORESCENT, 3 colors per set",{"$f":"APR!G124","v":0},{"$f":"APR!H124","v":"set"},{"$f":"APR!I124","v":35.549999999999997},0]
[{"$f":"SUBTOTAL(103,C$2:C106)","v":29},"44121708-MP-B01","MARKER, PERMANENT, bullet type, black             ",{"$f":"APR!G125","v":0},{"$f":"APR!H125","v":"piece"},{"$f":"APR!I125","v":9.65},0]
[{"$f":"SUBTOTAL(103,C$2:C107)","v":30},"44121708-MP-B02","MARKER, PERMANENT, bullet type, blue              ",{"$f":"APR!G126","v":0},{"$f":"APR!H126","v":"piece"},{"$f":"APR!I126","v":9.65},0]
[{"$f":"SUBTOTAL(103,C$2:C108)","v":31},"44121708-MP-B03","MARKER, PERMANENT, bullet type, red               ",{"$f":"APR!G127","v":0},{"$f":"APR!H127","v":"piece"},{"$f":"APR!I127","v":9.65},0]
[{"$f":"SUBTOTAL(103,C$2:C109)","v":32},"44121708-MW-B01","MARKER, WHITEBOARD, black",{"$f":"APR!G128","v":0},{"$f":"APR!H128","v":"piece"},{"$f":"APR!I128","v":10.28},0]
[{"$f":"SUBTOTAL(103,C$2:C110)","v":33},"44121708-MW-B02","MARKER, WHITEBOARD, blue",{"$f":"APR!G129","v":0},{"$f":"APR!H129","v":"piece"},{"$f":"APR!I129","v":10.28},0]
[{"$f":"SUBTOTAL(103,C$2:C111)","v":34},"44121708-MW-B03","MARKER, WHITEBOARD, red",{"$f":"APR!G130","v":0},{"$f":"APR!H130","v":"piece"},{"$f":"APR!I130","v":10.28},0]
[{"$f":"SUBTOTAL(103,C$2:C112)","v":34},"52161533-ME-P01","MEGAPHONE",{"$f":"APR!G131","v":0},{"$f":"APR!H131","v":"unit"},{"$f":"APR!I131","v":2704},0]
[{"$f":"SUBTOTAL(103,C$2:C113)","v":34},"56101519-TM-S02","MONOBLOC, TABLE, BEIGE",{"$f":"APR!G132","v":0},{"$f":"APR!H132","v":"unit"},{"$f":"APR!I132","v":1289.5999999999999},0]
[{"$f":"SUBTOTAL(103,C$2:C114)","v":34},"56101519-TM-S01","MONOBLOC, TABLE, WHITE",{"$f":"APR!G133","v":0},{"$f":"APR!H133","v":"unit"},{"$f":"APR!I133","v":1289.5999999999999},0]
[{"$f":"SUBTOTAL(103,C$2:C115)","v":34},"47121804-MP-B01","MOPBUCKET",{"$f":"APR!G134","v":0},{"$f":"APR!H134","v":"unit"},{"$f":"APR!I134","v":1911},0]
[{"$f":"SUBTOTAL(103,C$2:C116)","v":35},"47131613-MP-H02","MOPHANDLE",{"$f":"APR!G135","v":0},{"$f":"APR!H135","v":"piece"},{"$f":"APR!I135","v":142.47999999999999},0]
[{"$f":"SUBTOTAL(103,C$2:C117)","v":36},"47131619-MP-R01","MOPHEAD, made of rayon, weight: 400 grams min     ",{"$f":"APR!G136","v":0},{"$f":"APR!H136","v":"piece"},{"$f":"APR!I136","v":98.8},0]
[{"$f":"SUBTOTAL(103,C$2:C118)","v":36},"43211708-MO-O01","MOUSE, OPTICAL, USB CONNECTION TYPE, 1 unit in individual box",{"$f":"APR!G137","v":0},{"$f":"APR!H137","v":"unit"},{"$f":"APR!I137","v":127.8},0]
[{"$f":"SUBTOTAL(103,C$2:C119)","v":36},"45111609-MM-P01","MULTIMEDIA PROJECTOR, 4000 min ANSI Lumens        ",{"$f":"APR!G138","v":0},{"$f":"APR!H138","v":"unit"},{"$f":"APR!I138","v":26483.599999999999},0]
[{"$f":"SUBTOTAL(103,C$2:C120)","v":36},"14111514-NB-S01","NOTEBOOK, STENOGRAPHER, spiral, 40 leaves         ",{"$f":"APR!G139","v":0},{"$f":"APR!H139","v":"piece"},{"$f":"APR!I139","v":10.4},0]
[{"$f":"SUBTOTAL(103,C$2:C121)","v":37},"14111514-NP-S02","NOTEPAD, STICK-ON, 2X3, 100 sheets per pad",{"$f":"APR!G140","v":0},{"$f":"APR!H140","v":"pad"},{"$f":"APR!I140","v":31.2},0]
[{"$f":"SUBTOTAL(103,C$2:C122)","v":38},"14111514-NP-S03","NOTEPAD, STICK-ON, 3X3, 100 sheets per pad",{"$f":"APR!G141","v":0},{"$f":"APR!H141","v":"pad"},{"$f":"APR!I141","v":40.54},0]
[{"$f":"SUBTOTAL(103,C$2:C123)","v":39},"14111514-NP-S04","NOTEPAD, STICK-ON, 3X4, 100 sheets per pad",{"$f":"APR!G142","v":0},{"$f":"APR!H142","v":"pad"},{"$f":"APR!I142","v":54.06},0]
[{"$f":"SUBTOTAL(103,C$2:C124)","v":40},"12181601-OL-G01","OIL, GENERAL PURPOSE LUBRICANT, 120ml per bottle",{"$f":"APR!G143","v":0},{"$f":"APR!H143","v":"bottle"},{"$f":"APR!I143","v":36.9},0]
[{"$f":"SUBTOTAL(103,C$2:C125)","v":40},"14111531-PP-R01","PAD PAPER, RULED",{"$f":"APR!G144","v":0},{"$f":"APR!H144","v":"pad"},{"$f":"APR!I144","v":18.260000000000002},0]
[{"$f":"SUBTOTAL(103,C$2:C126)","v":40},"44122104-PC-G01","PAPER CLIP, 32MM, 100 pieces per box\nor 52 grams (min.) (net of box)",{"$f":"APR!G145","v":0},{"$f":"APR!H145","v":"box"},{"$f":"APR!I145","v":6.43},0]
[{"$f":"SUBTOTAL(103,C$2:C127)","v":40},"44122104-PC-J02","PAPER CLIP, 48MM, 100 pieces per box\nor 120 grams (min.) (net of box)",{"$f":"APR!G146","v":0},{"$f":"APR!H146","v":"box"},{"$f":"APR!I146","v":12.85},0]
[{"$f":"SUBTOTAL(103,C$2:C128)","v":40},"44101603-PS-M01","PAPER SHREDDER",{"$f":"APR!G147","v":0},{"$f":"APR!H147","v":"unit"},{"$f":"APR!I147","v":5699.2},0]
[{"$f":"SUBTOTAL(103,C$2:C129)","v":40},"44101601-PT-M01","PAPER TRIMMER CUTTING MACHINE",{"$f":"APR!G148","v":0},{"$f":"APR!H148","v":"unit"},{"$f":"APR!I148","v":7488},0]
[{"$f":"SUBTOTAL(103,C$2:C130)","v":40},"14111507-PP-M01","PAPER, MULTICOPY, 80gsm, size: 210mm x 297mm      ",{"$f":"APR!G149","v":0},{"$f":"APR!H149","v":"ream"},{"$f":"APR!I149","v":112.32},{"$f":"D130*F130","v":0}]
[{"$f":"SUBTOTAL(103,C$2:C131)","v":40},"14111507-PP-M02","PAPER, MULTICOPY, 80gsm, size: 216mm x 330mm      ",{"$f":"APR!G150","v":0},{"$f":"APR!H150","v":"ream"},{"$f":"APR!I150","v":132.02000000000001},0]
[{"$f":"SUBTOTAL(103,C$2:C132)","v":40},"14111507-PP-C01","PAPER, Multi-Purpose (COPY) A4, 70 gsm., 5 reams/box",{"$f":"APR!G151","v":0},{"$f":"APR!H151","v":"ream"},{"$f":"APR!I151","v":95.26},0]
[{"$f":"SUBTOTAL(103,C$2:C133)","v":40},"14111507-PP-C02","PAPER, Multi-Purpose (COPY) Legal, 70 gsm., 5 reams/box",{"$f":"APR!G152","v":0},{"$f":"APR!H152","v":"ream"},{"$f":"APR!I152","v":114.35},0]
[{"$f":"SUBTOTAL(103,C$2:C134)","v":40},"14111503-PA-P01","PAPER, PARCHMENT, 100 sheets per box",{"$f":"APR!G153","v":0},{"$f":"APR!H153","v":"box"},{"$f":"APR!I153","v":88.4},0]
[{"$f":"SUBTOTAL(103,C$2:C135)","v":41},"14111818-TH-P01","PAPER, THERMAL, 210MM X 30M",{"$f":"APR!G154","v":0},{"$f":"APR!H154","v":"roll"},{"$f":"APR!I154","v":29.95},0]
[{"$f":"SUBTOTAL(103,C$2:C136)","v":42},"14111818-TH-P02","PAPER, THERMAL, 216MM X 30M",null,{"$f":"APR!H155","v":"roll"},{"$f":"APR!I155","v":31.15}]
[{"$f":"SUBTOTAL(103,C$2:C137)","v":43},"44121619-PS-M01","PENCIL SHARPENER, 1 piece in individual plastic case",{"$f":"APR!G156","v":0},{"$f":"APR!H156","v":"piece"},{"$f":"APR!I156","v":187.2},0]
[{"$f":"SUBTOTAL(103,C$2:C138)","v":44},"44121706-PE-L01","PENCIL, LEAD WITH ERASER, 1 dozen per box",{"$f":"APR!G157","v":0},{"$f":"APR!H157","v":"box"},{"$f":"APR!I157","v":19.62},0]
[{"$f":"SUBTOTAL(103,C$2:C139)","v":44},"55121905-PH-F01","PHILIPPINE NATIONAL FLAG",{"$f":"APR!G158","v":0},{"$f":"APR!H158","v":"piece"},{"$f":"APR!I158","v":278.72000000000003},0]
[{"$f":"SUBTOTAL(103,C$2:C140)","v":44},"43212102-PR-D02","PRINTER, IMPACT DOT MATRIX, 24 pins, 136 column   ",{"$f":"APR!G159","v":0},{"$f":"APR!H159","v":"unit"},{"$f":"APR!I159","v":18709.599999999999},0]
[{"$f":"SUBTOTAL(103,C$2:C141)","v":44},"43212102-PR-D01","PRINTER, IMPACT DOT MATRIX, 9 pins, 80 columns    ",{"$f":"APR!G160","v":0},{"$f":"APR!H160","v":"unit"},{"$f":"APR!I160","v":5831.52},0]
[{"$f":"SUBTOTAL(103,C$2:C142)","v":44},"43212104-PR-I01","PRINTER, INKJET, WIRELESS",{"$f":"APR!G161","v":0},{"$f":"APR!H161","v":"unit"},{"$f":"APR!I161","v":10000},0]
[{"$f":"SUBTOTAL(103,C$2:C143)","v":44},"43212105-PR-L01","PRINTER, LASER, MONOCHROME",{"$f":"APR!G162","v":0},{"$f":"APR!H162","v":"unit"},{"$f":"APR!I162","v":1237.5999999999999},0]
[{"$f":"SUBTOTAL(103,C$2:C144)","v":45},"44101602-PU-P01","PUNCHER, paper, heavy duty, with two hole guide, 1 piece in individual box",{"$f":"APR!G163","v":0},{"$f":"APR!H163","v":"piece"},{"$f":"APR!I163","v":114.28},0]
[{"$f":"SUBTOTAL(103,C$2:C145)","v":46},"44122106-PP-F02","PUSH PIN, 100 pieces per case",{"$f":"APR!G164","v":0},{"$f":"APR!H164","v":"case"},{"$f":"APR!I164","v":24.96},0]
[{"$f":"SUBTOTAL(103,C$2:C146)","v":47},"47131501-RG-C01","RAGS, ALL COTTON, 32 pieces per kilo per bundle",{"$f":"APR!G165","v":0},{"$f":"APR!H165","v":"bundle"},{"$f":"APR!I165","v":49.69},0]
[{"$f":"SUBTOTAL(103,C$2:C147)","v":47},"14111531-RE-B01","RECORD BOOK, 300 PAGES, size: 214mm x 278mm min   ",{"$f":"APR!G166","v":0},{"$f":"APR!H166","v":"book"},{"$f":"APR!I166","v":60.32},0]
[{"$f":"SUBTOTAL(103,C$2:C148)","v":47},"14111531-RE-B02","RECORD BOOK, 500 PAGES, size: 214mm x 278mm min   ",{"$f":"APR!G167","v":0},{"$f":"APR!H167","v":"book"},{"$f":"APR!I167","v":86.85},0]
[{"$f":"SUBTOTAL(103,C$2:C149)","v":48},"44102606-RI-T01","RIBBON, FOR MANUAL TYPEWRITER, In box, with each spool individually wrapped in plastic",{"$f":"APR!G168","v":0},{"$f":"APR!H168","v":"spool"},{"$f":"APR!I168","v":17.14},0]
[{"$f":"SUBTOTAL(103,C$2:C150)","v":49},"44122037-RB-P07","RING BINDER, PLASTIC, 25MM, 10 pieces per bundle",{"$f":"APR!G169","v":0},{"$f":"APR!H169","v":"bundle"},{"$f":"APR!I169","v":150.80000000000001},0]
[{"$f":"SUBTOTAL(103,C$2:C151)","v":50},"44122037-RB-P09","RING BINDER, PLASTIC, 32MM, 10 pieces per bundle",{"$f":"APR!G170","v":0},{"$f":"APR!H170","v":"bundle"},{"$f":"APR!I170","v":256.87},0]
[{"$f":"SUBTOTAL(103,C$2:C152)","v":51},"44122037-RB-P12","RING BINDER, PLASTIC, 50MM, 10 pieces per bundle",{"$f":"APR!G171","v":0},{"$f":"APR!H171","v":"bundle"},{"$f":"APR!I171","v":291.02999999999997},0]
[{"$f":"SUBTOTAL(103,C$2:C153)","v":51},"44122101-RU-B01","RUBBER BAND, 70mm min lay flat length (#18) ",{"$f":"APR!G172","v":0},{"$f":"APR!H172","v":"box"},{"$f":"APR!I172","v":93.31},0]
[{"$f":"SUBTOTAL(103,C$2:C154)","v":51},"41111604-RU-P02","RULER, PLASTIC, 450MM, 1 piece in individual plastic",{"$f":"APR!G173","v":0},{"$f":"APR!H173","v":"piece"},{"$f":"APR!I173","v":15.48},0]
[{"$f":"SUBTOTAL(103,C$2:C155)","v":52},"44121618-SS-S01","SCISSORS, symmetrical, blade length: 65mm, 1 piece in individual plastic",{"$f":"APR!G174","v":0},{"$f":"APR!H174","v":"pair"},{"$f":"APR!I174","v":13.73},0]
[{"$f":"SUBTOTAL(103,C$2:C156)","v":52},"47131602-SC-N01","SCOURING PAD, 5 pieces per pack",{"$f":"APR!G175","v":0},{"$f":"APR!H175","v":"pack"},{"$f":"APR!I175","v":102.96},0]
[{"$f":"SUBTOTAL(103,C$2:C157)","v":53},"60121524-SP-G01","SIGN PEN, BLACK, liquid/gel ink, 0.5mm needle tip ",{"$f":"APR!G176","v":0},{"$f":"APR!H176","v":"piece"},{"$f":"APR!I176","v":38.1},0]
[{"$f":"SUBTOTAL(103,C$2:C158)","v":54},"60121524-SP-G02","SIGN PEN, BLUE, liquid/gel ink, 0.5mm needle tip  ",{"$f":"APR!G177","v":0},{"$f":"APR!H177","v":"piece"},{"$f":"APR!I177","v":38.1},0]
[{"$f":"SUBTOTAL(103,C$2:C159)","v":55},"60121524-SP-G03","SIGN PEN, RED, liquid/gel ink, 0.5mm needle tip   ",{"$f":"APR!G178","v":0},{"$f":"APR!H178","v":"piece"},{"$f":"APR!I178","v":38.1},0]
[{"$f":"SUBTOTAL(103,C$2:C160)","v":56},"53131608-SB-R01","SOAP, BATHROOM, 90 grams, 1 piece in individual box",{"$f":"APR!G179","v":0},{"$f":"APR!H179","v":"piece"},{"$f":"APR!I179","v":22.36},0]
[{"$f":"SUBTOTAL(103,C$2:C161)","v":57},"44121905-SP-F01","STAMP PAD, FELT, bed dimension: 60mm x 100mm",{"$f":"APR!G180","v":0},{"$f":"APR!H180","v":"piece"},{"$f":"APR!I180","v":27.66},0]
[{"$f":"SUBTOTAL(103,C$2:C162)","v":58},"44121613-SR-P01","STAPLE REMOVER, PLIER TYPE",{"$f":"APR!G181","v":0},{"$f":"APR!H181","v":"piece"},{"$f":"APR!I181","v":18.18},0]
[{"$f":"SUBTOTAL(103,C$2:C163)","v":58},"31151804-SW-H01","STAPLE WIRE, HEAVY DUTY, 23/13",{"$f":"APR!G182","v":0},{"$f":"APR!H182","v":"box"},{"$f":"APR!I182","v":23.4},0]
[{"$f":"SUBTOTAL(103,C$2:C164)","v":58},"31151804-SW-H02","STAPLE WIRE, HEAVY DUTY, 23/17",{"$f":"APR!G183","v":0},{"$f":"APR!H183","v":"box"},{"$f":"APR!I183","v":41.48},0]
[{"$f":"SUBTOTAL(103,C$2:C165)","v":58},"31151804-SW-S01","STAPLE WIRE, STANDARD",{"$f":"APR!G184","v":0},{"$f":"APR!H184","v":"box"},{"$f":"APR!I184","v":18.920000000000002},0]
[{"$f":"SUBTOTAL(103,C$2:C166)","v":58},"44121615-ST-B01","STAPLER, BINDER TYPE",{"$f":"APR!G185","v":0},{"$f":"APR!H185","v":"unit"},{"$f":"APR!I185","v":878.8},0]
[{"$f":"SUBTOTAL(103,C$2:C167)","v":59},"44121615-ST-S01","STAPLER, STANDARD TYPE, load cap: 200 staples min, 1 piece in individual box",{"$f":"APR!G186","v":0},{"$f":"APR!H186","v":"piece"},{"$f":"APR!I186","v":82.16},0]
[{"$f":"SUBTOTAL(103,C$2:C168)","v":59},"44121605-TD-H01","TAPE DISPENSER, HANDHELD",{"$f":"APR!G187","v":0},{"$f":"APR!H187","v":"piece"},{"$f":"APR!I187","v":29.1},0]
[{"$f":"SUBTOTAL(103,C$2:C169)","v":59},"44121605-TD-T01","TAPE DISPENSER, TABLE TOP",{"$f":"APR!G188","v":0},{"$f":"APR!H188","v":"piece"},{"$f":"APR!I188","v":47.72},0]
[{"$f":"SUBTOTAL(103,C$2:C170)","v":59},"31201502-TA-E01","TAPE, ELECTRICAL",{"$f":"APR!G189","v":0},{"$f":"APR!H189","v":"roll"},{"$f":"APR!I189","v":18.2},0]
[{"$f":"SUBTOTAL(103,C$2:C171)","v":59},"14111515-TA-C01","TAPE, FOR ADDING MACHINE",{"$f":"APR!G190","v":0},{"$f":"APR!H190","v":"roll"},{"$f":"APR!I190","v":8.11},0]
[{"$f":"SUBTOTAL(103,C$2:C172)","v":60},"31201503-TA-M01","TAPE, MASKING, width: 24mm (±1mm)                 ",{"$f":"APR!G191","v":0},{"$f":"APR!H191","v":"roll"},{"$f":"APR!I191","v":55.12},0]
[{"$f":"SUBTOTAL(103,C$2:C173)","v":61},"31201503-TA-M02","TAPE, MASKING, width: 48mm (±1mm)                 ",{"$f":"APR!G192","v":0},{"$f":"APR!H192","v":"roll"},{"$f":"APR!I192","v":105.04},0]
[{"$f":"SUBTOTAL(103,C$2:C174)","v":62},"31201517-TA-P01","TAPE, PACKAGING, width: 48mm (±1mm)               ",{"$f":"APR!G193","v":0},{"$f":"APR!H193","v":"roll"},{"$f":"APR!I193","v":32.74},0]
[{"$f":"SUBTOTAL(103,C$2:C175)","v":63},"31201512-TA-T01","TAPE, TRANSPARENT, width: 24mm (±1mm)             ",{"$f":"APR!G194","v":0},{"$f":"APR!H194","v":"roll"},{"$f":"APR!I194","v":10.92},0]
[{"$f":"SUBTOTAL(103,C$2:C176)","v":64},"31201512-TA-T02","TAPE, TRANSPARENT, width: 48mm (±1mm)             ",{"$f":"APR!G195","v":0},{"$f":"APR!H195","v":"roll"},{"$f":"APR!I195","v":26.52},0]
[{"$f":"SUBTOTAL(103,C$2:C177)","v":64},"44103205-TC-A01","TIME CARD, AMANO, 100 pieces per bundle",{"$f":"APR!G196","v":0},{"$f":"APR!H196","v":"bundle"},{"$f":"APR!I196","v":69.47},0]
[{"$f":"SUBTOTAL(103,C$2:C178)","v":65},"14111704-TT-P01","TOILET TISSUE PAPER 2-plys sheets, 150 pulls, 12 rolls in a pack",{"$f":"APR!G197","v":0},{"$f":"APR!H197","v":"pack"},{"$f":"APR!I197","v":67.599999999999994},0]
[{"$f":"SUBTOTAL(103,C$2:C179)","v":66},"47121701-TB-P01","TRASHBAG, plastic, gusseted type, black, 10 pcs per roll/pack         ",{"$f":"APR!G198","v":0},{"$f":"APR!H198","v":"roll"},{"$f":"APR!I198","v":139.88},0]
[{"$f":"SUBTOTAL(103,C$2:C180)","v":66},"31151507-TW-P01","TWINE, PLASTIC",{"$f":"APR!G199","v":0},{"$f":"APR!H199","v":"roll"},{"$f":"APR!I199","v":49.92},0]
[{"$f":"SUBTOTAL(103,C$2:C181)","v":67},"47121702-WB-P01","WASTEBASKET, NON RIGID PLASTIC",{"$f":"APR!G200","v":0},{"$f":"APR!H200","v":"piece"},{"$f":"APR!I200","v":23.9},0]
[{"$f":"SUBTOTAL(103,C$2:C182)","v":67},"43222609-WR-R01","WIRELESS N-ROUTER",{"$f":"APR!G201","v":0},{"$f":"APR!H201","v":"unit"},{"$f":"APR!I201","v":1037.92},0]
[{"$f":"SUBTOTAL(103,C$2:C183)","v":67},"60121124-WR-P02","WRAPPING PAPER, 50 sheets per pack",{"$f":"APR!G202","v":0},{"$f":"APR!H202","v":"pack"},{"$f":"APR!I202","v":128.84},0]
[]
[null,"ITEM CODE","ITEM DESCRIPTION/SPECIFICATIONS","QTY","UNIT","UNIT PRICE"," AMOUNT"]
[{"$f":"SUBTOTAL(103,C$186:C186)","v":1},"13111203-AC-F01","ACETATE",{"$f":"APR!K21","v":0},{"$f":"APR!L21","v":"roll"},{"$f":"APR!M21","v":624},{"$f":"D186*F186","v":0}]
[{"$f":"SUBTOTAL(103,C$186:C187)","v":2},"47131812-AF-A01","AIR FRESHENER, aerosol, 280ml/150g min            ",{"$f":"APR!K22","v":0},{"$f":"APR!L22","v":"box"},{"$f":"APR!M22","v":998.4},0]
[{"$f":"SUBTOTAL(103,C$186:C188)","v":3},"12191601-AL-E01","ALCOHOL, ethyl, 68%-70%, scented, 500ml (-5ml)    ",{"$f":"APR!K23","v":0},{"$f":"APR!L23","v":"box"},{"$f":"APR!M23","v":1721.52},0]
[{"$f":"SUBTOTAL(103,C$186:C189)","v":4},"39111801-BA-F02","BALLAST, 36 WATTS",{"$f":"APR!K24","v":0},{"$f":"APR!L24","v":"box"},{"$f":"APR!M24","v":1944.28},0]
[{"$f":"SUBTOTAL(103,C$186:C190)","v":5},"26111702-BT-A02","BATTERY, dry cell, AA, 2 pieces per blister pack",{"$f":"APR!K25","v":0},{"$f":"APR!L25","v":"box"},{"$f":"APR!M25","v":195},0]
[{"$f":"SUBTOTAL(103,C$186:C191)","v":6},"26111702-BT-A01","BATTERY, dry cell, AAA, 2 pieces per blister pack",{"$f":"APR!K26","v":0},{"$f":"APR!L26","v":"box"},{"$f":"APR!M26","v":184.6},0]
[{"$f":"SUBTOTAL(103,C$186:C192)","v":7},"26111702-BT-A03","BATTERY, dry cell, D, 2 pieces per blister pack",{"$f":"APR!K27","v":0},{"$f":"APR!L27","v":"box"},{"$f":"APR!M27","v":884},0]
[{"$f":"SUBTOTAL(103,C$186:C193)","v":8},"44101602-PB-M01","BINDING AND PUNCHING MACHINE",{"$f":"APR!K28","v":0},{"$f":"APR!L28","v":"unit"},{"$f":"APR!M28","v":10400},0]
[{"$f":"SUBTOTAL(103,C$186:C194)","v":9},"47131604-BR-S01","BROOM, SOFT (TAMBO), weight: 200g min tiger grass ",{"$f":"APR!K29","v":0},{"$f":"APR!L29","v":"bundle"},{"$f":"APR!M29","v":2210},0]
[{"$f":"SUBTOTAL(103,C$186:C195)","v":10},"47131604-BR-T01","BROOM, STICK (TINGTING)",{"$f":"APR!K30","v":0},{"$f":"APR!L30","v":"bundle"},{"$f":"APR!M30","v":598},0]
[{"$f":"SUBTOTAL(103,C$186:C196)","v":11},"44101807-CA-C01","CALCULATOR, COMPACT, electronic, 12 digits cap, 1 unit\nin individual box",{"$f":"APR!K31","v":0},{"$f":"APR!L31","v":"carton"},{"$f":"APR!M31","v":5408},0]
[{"$f":"SUBTOTAL(103,C$186:C197)","v":12},"44101810-CA-D01","CALCULATOR, MINI-PRINTING, 1 unit per box",{"$f":"APR!K32","v":0},{"$f":"APR!L32","v":"pack"},{"$f":"APR!M32","v":18616},0]
[{"$f":"SUBTOTAL(103,C$186:C198)","v":13},"44101810-CA-D02","CALCULATOR, PRINTING, DESKTOP, 1 unit per box",{"$f":"APR!K33","v":0},{"$f":"APR!L33","v":"pack"},{"$f":"APR!M33","v":11793.6},0]
[{"$f":"SUBTOTAL(103,C$186:C199)","v":14},"44101808-CA-S01","CALCULATOR, SCIENTIFIC, 1 unit in indiviual box",{"$f":"APR!K34","v":0},{"$f":"APR!L34","v":"carton"},{"$f":"APR!M34","v":10353.6},0]
[{"$f":"SUBTOTAL(103,C$186:C200)","v":15},"13111201-CF-P01","CARBON FILM, A4 SIZE, 100 sheets per box",{"$f":"APR!K35","v":0},{"$f":"APR!L35","v":"carton"},{"$f":"APR!M35","v":9879},0]
[{"$f":"SUBTOTAL(103,C$186:C201)","v":16},"13111201-CF-P02","CARBON FILM, PE, black, size 216mm x 330mm, 100 sheets per box     ",{"$f":"APR!K36","v":0},{"$f":"APR!L36","v":"carton"},{"$f":"APR!M36","v":10140},0]
[{"$f":"SUBTOTAL(103,C$186:C202)","v":17},"14111525-CA-A01","CARTOLINA, ASSORTED COLORS, 20 pieces per pack",{"$f":"APR!K37","v":0},{"$f":"APR!L37","v":"bundle"},{"$f":"APR!M37","v":322.39999999999998},0]
[{"$f":"SUBTOTAL(103,C$186:C203)","v":18},"14111525-CA-W01","CARTOLINA, WHITE, 20 pieces per pack",{"$f":"APR!K38","v":0},{"$f":"APR!L38","v":"bundle"},{"$f":"APR!M38","v":260},0]
[{"$f":"SUBTOTAL(103,C$186:C204)","v":19},"56101504-CM-B01","CHAIR, MONOBLOC, BEIGE, with backrest, w/o armrest",{"$f":"APR!K39","v":0},{"$f":"APR!L39","v":"stack"},{"$f":"APR!M39","v":6367},0]
[{"$f":"SUBTOTAL(103,C$186:C205)","v":20},"56101504-CM-W01","CHAIR, MONOBLOC, WHITE, with backrest, w/o armrest",{"$f":"APR!K40","v":0},{"$f":"APR!L40","v":"stack"},{"$f":"APR!M40","v":6370},0]
[{"$f":"SUBTOTAL(103,C$186:C206)","v":21},"44121710-CH-W01","CHALK, WHITE ENAMEL, 100 pieces per box",{"$f":"APR!K41","v":0},{"$f":"APR!L41","v":"carton"},{"$f":"APR!M41","v":775.8},0]
[{"$f":"SUBTOTAL(103,C$186:C207)","v":22},"47131829-TB-C01","CLEANER, TOILET BOWL AND URINAL, , 900ml-1,000ml cap",{"$f":"APR!K42","v":0},{"$f":"APR!L42","v":"box"},{"$f":"APR!M42","v":499.2},0]
[{"$f":"SUBTOTAL(103,C$186:C208)","v":23},"47131805-CL-P01","CLEANSER, SCOURING POWDER, 350g min./can",{"$f":"APR!K43","v":0},{"$f":"APR!L43","v":"box"},{"$f":"APR!M43","v":1020.96},0]
[{"$f":"SUBTOTAL(103,C$186:C209)","v":24},"60121413-CB-P01","CLEARBOOK, A4 SIZE",{"$f":"APR!K44","v":0},{"$f":"APR!L44","v":"box"},{"$f":"APR!M44","v":474.24},0]
[{"$f":"SUBTOTAL(103,C$186:C210)","v":25},"60121413-CB-P02","CLEARBOOK, LEGAL",{"$f":"APR!K45","v":0},{"$f":"APR!L45","v":"box"},{"$f":"APR!M45","v":524.16},0]
[{"$f":"SUBTOTAL(103,C$186:C211)","v":26},"44122105-BF-C01","CLIP, BACKFOLD, 19MM, 12 pieces per box",{"$f":"APR!K46","v":0},{"$f":"APR!L46","v":"carton"},{"$f":"APR!M46","v":364},0]
[{"$f":"SUBTOTAL(103,C$186:C212)","v":27},"44122105-BF-C02","CLIP, BACKFOLD, 25MM, 12 pieces per box",{"$f":"APR!K47","v":0},{"$f":"APR!L47","v":"carton"},{"$f":"APR!M47","v":520},0]
[{"$f":"SUBTOTAL(103,C$186:C213)","v":28},"44122105-BF-C03","CLIP, BACKFOLD, 32MM, 12 pieces per box",{"$f":"APR!K48","v":0},{"$f":"APR!L48","v":"carton"},{"$f":"APR!M48","v":956},0]
[{"$f":"SUBTOTAL(103,C$186:C214)","v":29},"44122105-BF-C04","CLIP, BACKFOLD, 50MM, 12 pieces per box",{"$f":"APR!K49","v":0},{"$f":"APR!L49","v":"carton"},{"$f":"APR!M49","v":1819},0]
[{"$f":"SUBTOTAL(103,C$186:C215)","v":30},"44122105-BD-C01","CLIP, BULLDOG",{"$f":"APR!K50","v":0},{"$f":"APR!L50","v":"box"},{"$f":"APR!M50","v":299.52},0]
[{"$f":"SUBTOTAL(103,C$186:C216)","v":31},"14111513-CO-P04","COLUMNAR PAD, 18 COLS.",{"$f":"APR!K51","v":0},{"$f":"APR!L51","v":"bundle"},{"$f":"APR!M51","v":655.20000000000005},0]
[{"$f":"SUBTOTAL(103,C$186:C217)","v":32},"39101619-FL-C01","COMPACT FLUORESCENT LAMP, 18 WATTS, 1 piece in individual box",{"$f":"APR!K52","v":0},{"$f":"APR!L52","v":"carton"},{"$f":"APR!M52","v":4664.5},0]
[{"$f":"SUBTOTAL(103,C$186:C218)","v":33},"14111506-CF-L11","CONTINUOUS FORM, 1 PLY, 280 x 241mm ,2,000 sets per box               ",{"$f":"APR!K53","v":0},{"$f":"APR!L53","v":"box"},{"$f":"APR!M53","v":630.76},0]
[{"$f":"SUBTOTAL(103,C$186:C219)","v":34},"14111506-CF-L21","CONTINUOUS FORM, 2 PLY, 280 x 241mm, 1,000 sets per box",{"$f":"APR!K54","v":0},{"$f":"APR!L54","v":"box"},{"$f":"APR!M54","v":716.04},0]
[{"$f":"SUBTOTAL(103,C$186:C220)","v":35},"14111506-CF-L31","CONTINUOUS FORM, 3 PLY, 280 x 241mm, 500 sets per box",{"$f":"APR!K55","v":0},{"$f":"APR!L55","v":"box"},{"$f":"APR!M55","v":596.79999999999995},0]
[{"$f":"SUBTOTAL(103,C$186:C221)","v":36},"14111506-CF-L12","CONTINUOUS FORM, 1 PLY, 280MM X 378MM, 2,000 sets per box",{"$f":"APR!K56","v":0},{"$f":"APR!L56","v":"box"},{"$f":"APR!M56","v":950.3},0]
[{"$f":"SUBTOTAL(103,C$186:C222)","v":37},"14111506-CF-L22","CONTINUOUS FORM, 2 PLY, 280MM X 378MM, 1,000 sets per box",{"$f":"APR!K57","v":0},{"$f":"APR!L57","v":"box"},{"$f":"APR!M57","v":1220.96},0]
[{"$f":"SUBTOTAL(103,C$186:C223)","v":38},"14111506-CF-L32","CONTINUOUS FORM, 3 PLY, 280MM X 378MM, 500 sets per box",{"$f":"APR!K58","v":0},{"$f":"APR!L58","v":"box"},{"$f":"APR!M58","v":958.15},0]
[{"$f":"SUBTOTAL(103,C$186:C224)","v":39},"44121801-CT-R01","CORRECTION TAPE, 1 piece in individual plastic",{"$f":"APR!K59","v":0},{"$f":"APR!L59","v":"box"},{"$f":"APR!M59","v":1560},0]
[{"$f":"SUBTOTAL(103,C$186:C225)","v":40},"44121612-BL-H01","CUTTER BLADE, 10 pieces per tube",{"$f":"APR!K60","v":0},{"$f":"APR!L60","v":"box"},{"$f":"APR!M60","v":183.8},0]
[{"$f":"SUBTOTAL(103,C$186:C226)","v":41},"44121612-CU-H01","CUTTER KNIFE",{"$f":"APR!K61","v":0},{"$f":"APR!L61","v":"box"},{"$f":"APR!M61","v":474.24},0]
[{"$f":"SUBTOTAL(103,C$186:C227)","v":42},"44111515-DF-B01","DATA FILE BOX, made of chipboard, with closed ends",{"$f":"APR!K62","v":0},{"$f":"APR!L62","v":"bundle"},{"$f":"APR!M62","v":558.24},0]
[{"$f":"SUBTOTAL(103,C$186:C228)","v":43},"44122011-DF-F01","DATA FOLDER, made of chipboard, taglia lock       ",{"$f":"APR!K63","v":0},{"$f":"APR!L63","v":"bundle"},{"$f":"APR!M63","v":411.84},0]
[{"$f":"SUBTOTAL(103,C$186:C229)","v":44},"44103202-DS-M01","DATING AND STAMPING MACHINE",{"$f":"APR!K64","v":0},{"$f":"APR!L64","v":"box"},{"$f":"APR!M64","v":5740.56},0]
[{"$f":"SUBTOTAL(103,C$186:C230)","v":45},"47131811-DE-P02","DETERGENT POWDER, all purpose, 500 grams (-2.5%) per plastic pouch",{"$f":"APR!K65","v":0},{"$f":"APR!L65","v":"sack"},{"$f":"APR!M65","v":935.75},0]
[{"$f":"SUBTOTAL(103,C$186:C231)","v":46},"52161535-DV-R01","DIGITAL VOICE RECORDER, memory: 4GB (expandable), 1 unit in individual box",{"$f":"APR!K66","v":0},{"$f":"APR!L66","v":"pack"},{"$f":"APR!M66","v":62296},0]
[{"$f":"SUBTOTAL(103,C$186:C232)","v":47},"47131800-DB-S01","DISINFECTANT, bleaching solution",{"$f":"APR!K67","v":0},{"$f":"APR!L67","v":"box"},{"$f":"APR!M67","v":610.91999999999996},0]
[{"$f":"SUBTOTAL(103,C$186:C233)","v":48},"47131803-DS-A01","DISINFECTANT SPRAY, aerosol type, 400-550 grams   ",{"$f":"APR!K68","v":0},{"$f":"APR!L68","v":"box"},{"$f":"APR!M68","v":1435.2},0]
[{"$f":"SUBTOTAL(103,C$186:C234)","v":49},"45121517-DO-C01","DOCUMENT CAMERA",{"$f":"APR!K69","v":0},{"$f":"APR!L69","v":"unit"},{"$f":"APR!M69","v":25272},0]
[{"$f":"SUBTOTAL(103,C$186:C235)","v":50},"47131601-DU-P01","DUST PAN",{"$f":"APR!K70","v":0},{"$f":"APR!L70","v":"bundle"},{"$f":"APR!M70","v":299.52},0]
[{"$f":"SUBTOTAL(103,C$186:C236)","v":51},"43202003-DV-W01","DVD RE-WRITABLE",{"$f":"APR!K71","v":0},{"$f":"APR!L71","v":"pack"},{"$f":"APR!M71","v":217.9},0]
[{"$f":"SUBTOTAL(103,C$186:C237)","v":52},"40101604-EF-G01","ELECTRIC FAN, INDUSTRIAL",{"$f":"APR!K72","v":0},{"$f":"APR!L72","v":"unit"},{"$f":"APR!M72","v":956.8},0]
[{"$f":"SUBTOTAL(103,C$186:C238)","v":53},"40101604-EF-C01","ELECTRIC FAN, ORBIT type, ceiling,  metal blade",{"$f":"APR!K73","v":0},{"$f":"APR!L73","v":"unit"},{"$f":"APR!M73","v":1248},0]
[{"$f":"SUBTOTAL(103,C$186:C239)","v":54},"40101604-EF-S01","ELECTRIC FAN, STANDARD TYPE",{"$f":"APR!K74","v":0},{"$f":"APR!L74","v":"unit"},{"$f":"APR!M74","v":967.1},0]
[{"$f":"SUBTOTAL(103,C$186:C240)","v":55},"40101604-EF-W01","ELECTRIC FAN, WALL TYPE",{"$f":"APR!K75","v":0},{"$f":"APR!L75","v":"unit"},{"$f":"APR!M75","v":790.4},0]
[{"$f":"SUBTOTAL(103,C$186:C241)","v":56},"44103201-ET-R01","ELECTRONIC TIME RECORDER OR BUNDY CLOCK",{"$f":"APR!K76","v":0},{"$f":"APR!L76","v":"unit"},{"$f":"APR!M76","v":3315.52},0]
[{"$f":"SUBTOTAL(103,C$186:C242)","v":57},"44121506-EN-D01","ENVELOPE, DOCUMENTARY, for A4 size document, 500 pieces per box",{"$f":"APR!K77","v":0},{"$f":"APR!L77","v":"box"},{"$f":"APR!M77","v":381.54},0]
[{"$f":"SUBTOTAL(103,C$186:C243)","v":58},"44121506-EN-D02","ENVELOPE, DOCUMENTARY, for legal size document, \n500 pieces per box",{"$f":"APR!K78","v":0},{"$f":"APR!L78","v":"box"},{"$f":"APR!M78","v":507.4},0]
[{"$f":"SUBTOTAL(103,C$186:C244)","v":59},"44121506-EN-X01","ENVELOPE, EXPANDING, KRAFTBOARD,for legal size doc, 100 pieces per box",{"$f":"APR!K79","v":0},{"$f":"APR!L79","v":"box"},{"$f":"APR!M79","v":621.71},0]
[{"$f":"SUBTOTAL(103,C$186:C245)","v":60},"44121506-EN-X02","ENVELOPE, EXPANDING, PLASTIC",{"$f":"APR!K80","v":0},{"$f":"APR!L80","v":"box"},{"$f":"APR!M80","v":2761},0]
[{"$f":"SUBTOTAL(103,C$186:C246)","v":61},"44121506-EN-M01","ENVELOPE, MAILING, 500 pieces per box",{"$f":"APR!K81","v":0},{"$f":"APR!L81","v":"box"},{"$f":"APR!M81","v":499.2},0]
[{"$f":"SUBTOTAL(103,C$186:C247)","v":62},"44121504-EN-W01","ENVELOPE, MAILING, WITH WINDOW, 500 pieces per box",{"$f":"APR!K82","v":0},{"$f":"APR!L82","v":"box"},{"$f":"APR!M82","v":561.6},0]
[{"$f":"SUBTOTAL(103,C$186:C248)","v":63},"44121506-EN-P01","ENVELOPE, PAY, 500 pieces per box",{"$f":"APR!K83","v":0},{"$f":"APR!L83","v":"box"},{"$f":"APR!M83","v":119.39},0]
[{"$f":"SUBTOTAL(103,C$186:C249)","v":64},"44111912-ER-B01","ERASER, FELT, FOR BLACKBOARD OR WHITEBOARD",{"$f":"APR!K84","v":0},{"$f":"APR!L84","v":"box"},{"$f":"APR!M84","v":133.32},0]
[{"$f":"SUBTOTAL(103,C$186:C250)","v":65},"60121534-ER-P01","ERASER, PLASTIC OR RUBBER",{"$f":"APR!K85","v":0},{"$f":"APR!L85","v":"box"},{"$f":"APR!M85","v":68.7},{"$f":"D250*F250","v":0}]
[{"$f":"SUBTOTAL(103,C$186:C251)","v":66},"43201827-HD-X02","EXTERNAL HARD DRIVE, 1TB, 2.5\"HDD, USB 3.0, 1 unit \nin individual box",{"$f":"APR!K86","v":0},{"$f":"APR!L86","v":"pack"},{"$f":"APR!M86","v":28184},0]
[{"$f":"SUBTOTAL(103,C$186:C252)","v":67},"44101714-FX-M01","FACSIMILE MACHINE",{"$f":"APR!K87","v":0},{"$f":"APR!L87","v":"unit"},{"$f":"APR!M87","v":3502.72},0]
[{"$f":"SUBTOTAL(103,C$186:C253)","v":68},"44122118-FA-P01","FASTENER, METAL, 70mm between prongs, 50 sets per box",{"$f":"APR!K88","v":0},{"$f":"APR!L88","v":"pack"},{"$f":"APR!M88","v":570.9},0]
[{"$f":"SUBTOTAL(103,C$186:C254)","v":69},"44111515-FO-X01","FILE ORGANIZER, LEGAL",{"$f":"APR!K89","v":0},{"$f":"APR!L89","v":"box"},{"$f":"APR!M89","v":3533.5},0]
[{"$f":"SUBTOTAL(103,C$186:C255)","v":70},"44122018-FT-D01","FILE TAB DIVIDER, A4, 5 colors per pack",{"$f":"APR!K90","v":0},{"$f":"APR!L90","v":"pack"},{"$f":"APR!M90","v":124.8},0]
[{"$f":"SUBTOTAL(103,C$186:C256)","v":71},"44122018-FT-D02","FILE TAB DIVIDER, LEGAL, 5 colors per pack",{"$f":"APR!K91","v":0},{"$f":"APR!L91","v":"pack"},{"$f":"APR!M91","v":166.4},0]
[{"$f":"SUBTOTAL(103,C$186:C257)","v":72},"46191601-FE-M01","FIRE EXTINGUISHER, DRY CHEMICAL",{"$f":"APR!K92","v":0},{"$f":"APR!L92","v":"unit"},{"$f":"APR!M92","v":1080.56},0]
[{"$f":"SUBTOTAL(103,C$186:C258)","v":73},"46191601-FE-H01","FIRE EXTINGUISHER, PURE HCFC",{"$f":"APR!K93","v":0},{"$f":"APR!L93","v":"unit"},{"$f":"APR!M93","v":4992},0]
[{"$f":"SUBTOTAL(103,C$186:C259)","v":74},"43202010-FD-U01","FLASH DRIVE, 16 GB capacity,1 piece in individual blister pack              ",{"$f":"APR!K94","v":0},{"$f":"APR!L94","v":"box"},{"$f":"APR!M94","v":972.4},0]
[{"$f":"SUBTOTAL(103,C$186:C260)","v":75},"47131802-FW-L01","FLOOR WAX, LIQUID TYPE, NATURAL",{"$f":"APR!K95","v":0},{"$f":"APR!L95","v":"box"},{"$f":"APR!M95","v":1482},0]
[{"$f":"SUBTOTAL(103,C$186:C261)","v":76},"47131802-FW-P01","FLOOR WAX, PASTE TYPE, NATURAL",{"$f":"APR!K96","v":0},{"$f":"APR!L96","v":"box"},{"$f":"APR!M96","v":894.4},0]
[{"$f":"SUBTOTAL(103,C$186:C262)","v":77},"47131802-FW-P02","FLOOR WAX, PASTE, RED",{"$f":"APR!K97","v":0},{"$f":"APR!L97","v":"box"},{"$f":"APR!M97","v":811.2},0]
[{"$f":"SUBTOTAL(103,C$186:C263)","v":78},"39101605-FL-T03","FLUORESCENT LAMP, 14 WATTS",{"$f":"APR!K98","v":0},{"$f":"APR!L98","v":"box"},{"$f":"APR!M98","v":2210},0]
[{"$f":"SUBTOTAL(103,C$186:C264)","v":79},"39101605-FL-T04","FLUORESCENT LAMP, 28 WATTS",{"$f":"APR!K99","v":0},{"$f":"APR!L99","v":"box"},{"$f":"APR!M99","v":2860},0]
[{"$f":"SUBTOTAL(103,C$186:C265)","v":80},"39101628-LT-L01","LINEAR TUBE, LED, 18 WATTS",{"$f":"APR!K100","v":0},{"$f":"APR!L100","v":"box"},{"$f":"APR!M100","v":5616},0]
[{"$f":"SUBTOTAL(103,C$186:C266)","v":81},"39111501-FF-C02","FLUORESCENT LIGHTING FIXTURES, 1 X 36 WATTS",{"$f":"APR!K101","v":0},{"$f":"APR!L101","v":"box"},{"$f":"APR!M101","v":3640},0]
[{"$f":"SUBTOTAL(103,C$186:C267)","v":82},"44122011-FO-F01","FOLDER, FANCY, A4, 50 pieces per bundle",{"$f":"APR!K102","v":0},{"$f":"APR!L102","v":"bundle"},{"$f":"APR!M102","v":234},0]
[{"$f":"SUBTOTAL(103,C$186:C268)","v":83},"44122011-FO-F02","FOLDER, FANCY, legal, 50 pieces per bundle",{"$f":"APR!K103","v":0},{"$f":"APR!L103","v":"bundle"},{"$f":"APR!M103","v":291.2},0]
[{"$f":"SUBTOTAL(103,C$186:C269)","v":84},"44122011-FO-L01","FOLDER, L-TYPE, A4 SIZE, 50 pieces per pack",{"$f":"APR!K104","v":0},{"$f":"APR!L104","v":"box"},{"$f":"APR!M104","v":3993.6},0]
[{"$f":"SUBTOTAL(103,C$186:C270)","v":85},"44122011-FO-L02","FOLDER, L-TYPE, LEGAL SIZE, 50 pieces per pack",{"$f":"APR!K105","v":0},{"$f":"APR!L105","v":"box"},{"$f":"APR!M105","v":4892.16},0]
[{"$f":"SUBTOTAL(103,C$186:C271)","v":86},"44122027-FO-P01","FOLDER, PRESSBOARD, size: 240mm x 370mm (-5mm), 100 pieces per box    ",{"$f":"APR!K106","v":0},{"$f":"APR!L106","v":"box"},{"$f":"APR!M106","v":746.72},0]
[{"$f":"SUBTOTAL(103,C$186:C272)","v":87},"44122011-FO-T01","FOLDER, TAGBOARD, for A4 size documents, \n100 pieces per pack",{"$f":"APR!K107","v":0},{"$f":"APR!L107","v":"pack"},{"$f":"APR!M107","v":179.28},0]
[{"$f":"SUBTOTAL(103,C$186:C273)","v":88},"44122011-FO-T02","FOLDER, TAGBOARD, for legal size documents ,100 pieces per pack        ",{"$f":"APR!K108","v":0},{"$f":"APR!L108","v":"pack"},{"$f":"APR!M108","v":200.37},0]
[{"$f":"SUBTOTAL(103,C$186:C274)","v":89},"47131830-FC-A01","FURNITURE CLEANER, aerosol, 300ml min./can",{"$f":"APR!K109","v":0},{"$f":"APR!L109","v":"box"},{"$f":"APR!M109","v":1017.12},0]
[{"$f":"SUBTOTAL(103,C$186:C275)","v":90},"31201610-GL-J01","GLUE, all purpose, gross weight: 200 grams min    ",{"$f":"APR!K110","v":0},{"$f":"APR!L110","v":"box"},{"$f":"APR!M110","v":1590.48},0]
[{"$f":"SUBTOTAL(103,C$186:C276)","v":91},"55101524-RA-H01","HANDBOOK ON RA9184",{"$f":"APR!K111","v":0},{"$f":"APR!L111","v":"bundle"},{"$f":"APR!M111","v":1236.5999999999999},0]
[{"$f":"SUBTOTAL(103,C$186:C277)","v":92},"60121138-IL-B01","ILLUSTRATION BOARD, 760MM X 1000MM",{"$f":"APR!K112","v":0},{"$f":"APR!L112","v":"bundle"},{"$f":"APR!M112","v":701},0]
[{"$f":"SUBTOTAL(103,C$186:C278)","v":93},"44111515-IC-B02","INDEX CARD BOX, 3X5",{"$f":"APR!K113","v":0},{"$f":"APR!L113","v":"pack"},{"$f":"APR!M113","v":364},0]
[{"$f":"SUBTOTAL(103,C$186:C279)","v":94},"44111515-IC-B01","INDEX CARD BOX, 5X8",{"$f":"APR!K114","v":0},{"$f":"APR!L114","v":"pack"},{"$f":"APR!M114","v":551.20000000000005},0]
[{"$f":"SUBTOTAL(103,C$186:C280)","v":95},"14111518-IC-R02","INDEX CARD, 3X5, 500 pieces per pack",{"$f":"APR!K115","v":0},{"$f":"APR!L115","v":"box"},{"$f":"APR!M115","v":512.70000000000005},0]
[{"$f":"SUBTOTAL(103,C$186:C281)","v":96},"14111518-IC-R01","INDEX CARD, 5X8, 500 pieces per pack",{"$f":"APR!K116","v":0},{"$f":"APR!L116","v":"box"},{"$f":"APR!M116","v":1393.4},0]
[{"$f":"SUBTOTAL(103,C$186:C282)","v":97},"44122008-IT-T01","INDEX TAB, 5 sets per box",{"$f":"APR!K117","v":0},{"$f":"APR!L117","v":"pack"},{"$f":"APR!M117","v":2395},0]
[{"$f":"SUBTOTAL(103,C$186:C283)","v":98},"12171703-SI-P01","STAMP PAD INK, purple or violet, 50ml (min.)",{"$f":"APR!K118","v":0},{"$f":"APR!L118","v":"box"},{"$f":"APR!M118","v":295.56},0]
[{"$f":"SUBTOTAL(103,C$186:C284)","v":99},"10191509-IN-A01","INSECTICIDE, aerosol type, net content: 600ml min ",{"$f":"APR!K119","v":0},{"$f":"APR!L119","v":"box"},{"$f":"APR!M119","v":1497.6},0]
[{"$f":"SUBTOTAL(103,C$186:C285)","v":100},"14111609-LL-C01","LOOSELEAF COVER, 50 sets per bundle",{"$f":"APR!K120","v":0},{"$f":"APR!L120","v":"bundle"},{"$f":"APR!M120","v":539.76},0]
[{"$f":"SUBTOTAL(103,C$186:C286)","v":101},"44111515-MF-B02","MAGAZINE FILE BOX, LARGE",{"$f":"APR!K121","v":0},{"$f":"APR!L121","v":"pack"},{"$f":"APR!M121","v":832},0]
[{"$f":"SUBTOTAL(103,C$186:C287)","v":102},"60121124-MA-P01","MANILA PAPER, 10 sheets per pack",{"$f":"APR!K122","v":0},{"$f":"APR!L122","v":"bundle"},{"$f":"APR!M122","v":520},0]
[{"$f":"SUBTOTAL(103,C$186:C288)","v":103},"44122106-MP-R01","MAP PIN, ROUND HEAD, 100 pieces per case",{"$f":"APR!K123","v":0},{"$f":"APR!L123","v":"box"},{"$f":"APR!M123","v":403.5},0]
[{"$f":"SUBTOTAL(103,C$186:C289)","v":104},"44121716-MA-F01","MARKER, FLUORESCENT, 3 colors per set",{"$f":"APR!K124","v":0},{"$f":"APR!L124","v":"pack"},{"$f":"APR!M124","v":1706.4},0]
[{"$f":"SUBTOTAL(103,C$186:C290)","v":105},"44121708-MP-B01","MARKER, PERMANENT, bullet type, black             ",{"$f":"APR!K125","v":0},{"$f":"APR!L125","v":"box"},{"$f":"APR!M125","v":115.8},0]
[{"$f":"SUBTOTAL(103,C$186:C291)","v":106},"44121708-MP-B02","MARKER, PERMANENT, bullet type, blue              ",{"$f":"APR!K126","v":0},{"$f":"APR!L126","v":"box"},{"$f":"APR!M126","v":115.8},0]
[{"$f":"SUBTOTAL(103,C$186:C292)","v":107},"44121708-MP-B03","MARKER, PERMANENT, bullet type, red               ",{"$f":"APR!K127","v":0},{"$f":"APR!L127","v":"box"},{"$f":"APR!M127","v":115.8},0]
[{"$f":"SUBTOTAL(103,C$186:C293)","v":108},"44121708-MW-B01","MARKER, WHITEBOARD, black",{"$f":"APR!K128","v":0},{"$f":"APR!L128","v":"box"},{"$f":"APR!M128","v":123.36},0]
[{"$f":"SUBTOTAL(103,C$186:C294)","v":109},"44121708-MW-B02","MARKER, WHITEBOARD, blue",{"$f":"APR!K129","v":0},{"$f":"APR!L129","v":"box"},{"$f":"APR!M129","v":123.36},0]
[{"$f":"SUBTOTAL(103,C$186:C295)","v":110},"44121708-MW-B03","MARKER, WHITEBOARD, red",{"$f":"APR!K130","v":0},{"$f":"APR!L130","v":"box"},{"$f":"APR!M130","v":123.36},0]
[{"$f":"SUBTOTAL(103,C$186:C296)","v":111},"52161533-ME-P01","MEGAPHONE",{"$f":"APR!K131","v":0},{"$f":"APR!L131","v":"unit"},{"$f":"APR!M131","v":2704},0]
[{"$f":"SUBTOTAL(103,C$186:C297)","v":112},"56101519-TM-S02","MONOBLOC, TABLE, BEIGE",{"$f":"APR!K132","v":0},{"$f":"APR!L132","v":"unit"},{"$f":"APR!M132","v":1289.5999999999999},0]
[{"$f":"SUBTOTAL(103,C$186:C298)","v":113},"56101519-TM-S01","MONOBLOC, TABLE, WHITE",{"$f":"APR!K133","v":0},{"$f":"APR!L133","v":"unit"},{"$f":"APR!M133","v":1289.5999999999999},0]
[{"$f":"SUBTOTAL(103,C$186:C299)","v":114},"47121804-MP-B01","MOPBUCKET",{"$f":"APR!K134","v":0},{"$f":"APR!L134","v":"unit"},{"$f":"APR!M134","v":1911},0]
[{"$f":"SUBTOTAL(103,C$186:C300)","v":115},"47131613-MP-H02","MOPHANDLE",{"$f":"APR!K135","v":0},{"$f":"APR!L135","v":"bundle"},{"$f":"APR!M135","v":1709.76},0]
[{"$f":"SUBTOTAL(103,C$186:C301)","v":116},"47131619-MP-R01","MOPHEAD, made of rayon, weight: 400 grams min     ",{"$f":"APR!K136","v":0},{"$f":"APR!L136","v":"bundle"},{"$f":"APR!M136","v":1185.5999999999999},0]
[{"$f":"SUBTOTAL(103,C$186:C302)","v":117},"43211708-MO-O01","MOUSE, OPTICAL, USB CONNECTION TYPE, 1 unit in individual box",{"$f":"APR!K137","v":0},{"$f":"APR!L137","v":"pack"},{"$f":"APR!M137","v":1278},0]
[{"$f":"SUBTOTAL(103,C$186:C303)","v":118},"45111609-MM-P01","MULTIMEDIA PROJECTOR, 4000 min ANSI Lumens        ",{"$f":"APR!K138","v":0},{"$f":"APR!L138","v":"unit"},{"$f":"APR!M138","v":26483.599999999999},0]
[{"$f":"SUBTOTAL(103,C$186:C304)","v":119},"14111514-NB-S01","NOTEBOOK, STENOGRAPHER, spiral, 40 leaves         ",{"$f":"APR!K139","v":0},{"$f":"APR!L139","v":"pack"},{"$f":"APR!M139","v":208},0]
[{"$f":"SUBTOTAL(103,C$186:C305)","v":120},"14111514-NP-S02","NOTEPAD, STICK-ON, 2X3, 100 sheets per pad",{"$f":"APR!K140","v":0},{"$f":"APR!L140","v":"pack"},{"$f":"APR!M140","v":374.4},0]
[{"$f":"SUBTOTAL(103,C$186:C306)","v":121},"14111514-NP-S03","NOTEPAD, STICK-ON, 3X3, 100 sheets per pad",{"$f":"APR!K141","v":0},{"$f":"APR!L141","v":"pack"},{"$f":"APR!M141","v":486.48},0]
[{"$f":"SUBTOTAL(103,C$186:C307)","v":122},"14111514-NP-S04","NOTEPAD, STICK-ON, 3X4, 100 sheets per pad",{"$f":"APR!K142","v":0},{"$f":"APR!L142","v":"pack"},{"$f":"APR!M142","v":648.72},0]
[{"$f":"SUBTOTAL(103,C$186:C308)","v":123},"12181601-OL-G01","OIL, GENERAL PURPOSE LUBRICANT, 120ml per bottle",{"$f":"APR!K143","v":0},{"$f":"APR!L143","v":"box"},{"$f":"APR!M143","v":2656.8},0]
[{"$f":"SUBTOTAL(103,C$186:C309)","v":124},"14111531-PP-R01","PAD PAPER, RULED",{"$f":"APR!K144","v":0},{"$f":"APR!L144","v":"bundle"},{"$f":"APR!M144","v":182.6},0]
[{"$f":"SUBTOTAL(103,C$186:C310)","v":125},"44122104-PC-G01","PAPER CLIP, 32MM, 100 pieces per box\nor 52 grams (min.) (net of box)",{"$f":"APR!K145","v":0},{"$f":"APR!L145","v":"carton"},{"$f":"APR!M145","v":321.5},0]
[{"$f":"SUBTOTAL(103,C$186:C311)","v":126},"44122104-PC-J02","PAPER CLIP, 48MM, 100 pieces per box\nor 120 grams (min.) (net of box)",{"$f":"APR!K146","v":0},{"$f":"APR!L146","v":"carton"},{"$f":"APR!M146","v":642.5},0]
[{"$f":"SUBTOTAL(103,C$186:C312)","v":127},"44101603-PS-M01","PAPER SHREDDER",{"$f":"APR!K147","v":0},{"$f":"APR!L147","v":"unit"},{"$f":"APR!M147","v":5699.2},0]
[{"$f":"SUBTOTAL(103,C$186:C313)","v":128},"44101601-PT-M01","PAPER TRIMMER CUTTING MACHINE",{"$f":"APR!K148","v":0},{"$f":"APR!L148","v":"unit"},{"$f":"APR!M148","v":7488},0]
[{"$f":"SUBTOTAL(103,C$186:C314)","v":129},"14111507-PP-M01","PAPER, MULTICOPY, 80gsm, size: 210mm x 297mm      ",{"$f":"APR!K149","v":0},{"$f":"APR!L149","v":"box"},{"$f":"APR!M149","v":561.6},{"$f":"D314*F314","v":0}]
[{"$f":"SUBTOTAL(103,C$186:C315)","v":130},"14111507-PP-M02","PAPER, MULTICOPY, 80gsm, size: 216mm x 330mm      ",{"$f":"APR!K150","v":0},{"$f":"APR!L150","v":"box"},{"$f":"APR!M150","v":660.1},0]
[{"$f":"SUBTOTAL(103,C$186:C316)","v":131},"14111507-PP-C01","PAPER, Multi-Purpose (COPY) A4, 70 gsm., 5 reams/box",{"$f":"APR!K151","v":0},{"$f":"APR!L151","v":"box"},{"$f":"APR!M151","v":476.3},0]
[{"$f":"SUBTOTAL(103,C$186:C317)","v":132},"14111507-PP-C02","PAPER, Multi-Purpose (COPY) Legal, 70 gsm., 5 reams/box",{"$f":"APR!K152","v":0},{"$f":"APR!L152","v":"box"},{"$f":"APR!M152","v":571.75},0]
[{"$f":"SUBTOTAL(103,C$186:C318)","v":133},"14111503-PA-P01","PAPER, PARCHMENT, 100 sheets per box",{"$f":"APR!K153","v":0},{"$f":"APR!L153","v":"pack"},{"$f":"APR!M153","v":1768},0]
[{"$f":"SUBTOTAL(103,C$186:C319)","v":134},"14111818-TH-P01","PAPER, THERMAL, 210MM X 30M",{"$f":"APR!K154","v":0},{"$f":"APR!L154","v":"box"},{"$f":"APR!M154","v":1437.6},0]
[{"$f":"SUBTOTAL(103,C$186:C320)","v":135},"14111818-TH-P02","PAPER, THERMAL, 216MM X 30M",null,{"$f":"APR!L155","v":"box"},{"$f":"APR!M155","v":1495.2}]
[{"$f":"SUBTOTAL(103,C$186:C321)","v":136},"44121619-PS-M01","PENCIL SHARPENER, 1 piece in individual plastic case",{"$f":"APR!K156","v":0},{"$f":"APR!L156","v":"box"},{"$f":"APR!M156","v":4492.8},0]
[{"$f":"SUBTOTAL(103,C$186:C322)","v":137},"44121706-PE-L01","PENCIL, LEAD WITH ERASER, 1 dozen per box",{"$f":"APR!K157","v":0},{"$f":"APR!L157","v":"pack"},{"$f":"APR!M157","v":235.44},0]
[{"$f":"SUBTOTAL(103,C$186:C323)","v":138},"55121905-PH-F01","PHILIPPINE NATIONAL FLAG",{"$f":"APR!K158","v":0},{"$f":"APR!L158","v":"bundle"},{"$f":"APR!M158","v":2787.2},0]
[{"$f":"SUBTOTAL(103,C$186:C324)","v":139},"43212102-PR-D02","PRINTER, IMPACT DOT MATRIX, 24 pins, 136 column   ",{"$f":"APR!K159","v":0},{"$f":"APR!L159","v":"unit"},{"$f":"APR!M159","v":18709.599999999999},0]
[{"$f":"SUBTOTAL(103,C$186:C325)","v":140},"43212102-PR-D01","PRINTER, IMPACT DOT MATRIX, 9 pins, 80 columns    ",{"$f":"APR!K160","v":0},{"$f":"APR!L160","v":"unit"},{"$f":"APR!M160","v":5831.52},0]
[{"$f":"SUBTOTAL(103,C$186:C326)","v":141},"43212104-PR-I01","PRINTER, INKJET, WIRELESS",{"$f":"APR!K161","v":0},{"$f":"APR!L161","v":"unit"},{"$f":"APR!M161","v":10000},0]
[{"$f":"SUBTOTAL(103,C$186:C327)","v":142},"43212105-PR-L01","PRINTER, LASER, MONOCHROME",{"$f":"APR!K162","v":0},{"$f":"APR!L162","v":"unit"},{"$f":"APR!M162","v":1237.5999999999999},0]
[{"$f":"SUBTOTAL(103,C$186:C328)","v":143},"44101602-PU-P01","PUNCHER, paper, heavy duty, with two hole guide, 1 piece in individual box",{"$f":"APR!K163","v":0},{"$f":"APR!L163","v":"carton"},{"$f":"APR!M163","v":2742.72},0]
[{"$f":"SUBTOTAL(103,C$186:C329)","v":144},"44122106-PP-F02","PUSH PIN, 100 pieces per case",{"$f":"APR!K164","v":0},{"$f":"APR!L164","v":"box"},{"$f":"APR!M164","v":299.52},0]
[{"$f":"SUBTOTAL(103,C$186:C330)","v":145},"47131501-RG-C01","RAGS, ALL COTTON, 32 pieces per kilo per bundle",{"$f":"APR!K165","v":0},{"$f":"APR!L165","v":"sack"},{"$f":"APR!M165","v":1490.7},0]
[{"$f":"SUBTOTAL(103,C$186:C331)","v":146},"14111531-RE-B01","RECORD BOOK, 300 PAGES, size: 214mm x 278mm min   ",{"$f":"APR!K166","v":0},{"$f":"APR!L166","v":"bundle"},{"$f":"APR!M166","v":603.20000000000005},0]
[{"$f":"SUBTOTAL(103,C$186:C332)","v":147},"14111531-RE-B02","RECORD BOOK, 500 PAGES, size: 214mm x 278mm min   ",{"$f":"APR!K167","v":0},{"$f":"APR!L167","v":"bundle"},{"$f":"APR!M167","v":434.25},0]
[{"$f":"SUBTOTAL(103,C$186:C333)","v":148},"44102606-RI-T01","RIBBON, FOR MANUAL TYPEWRITER, In box, with each spool individually wrapped in plastic",{"$f":"APR!K168","v":0},{"$f":"APR!L168","v":"box"},{"$f":"APR!M168","v":205.68},0]
[{"$f":"SUBTOTAL(103,C$186:C334)","v":149},"44122037-RB-P07","RING BINDER, PLASTIC, 25MM, 10 pieces per bundle",{"$f":"APR!K169","v":0},{"$f":"APR!L169","v":"pack"},{"$f":"APR!M169","v":2412.8000000000002},0]
[{"$f":"SUBTOTAL(103,C$186:C335)","v":150},"44122037-RB-P09","RING BINDER, PLASTIC, 32MM, 10 pieces per bundle",{"$f":"APR!K170","v":0},{"$f":"APR!L170","v":"pack"},{"$f":"APR!M170","v":4109.92},0]
[{"$f":"SUBTOTAL(103,C$186:C336)","v":151},"44122037-RB-P12","RING BINDER, PLASTIC, 50MM, 10 pieces per bundle",{"$f":"APR!K171","v":0},{"$f":"APR!L171","v":"pack"},{"$f":"APR!M171","v":4656.4799999999996},0]
[{"$f":"SUBTOTAL(103,C$186:C337)","v":152},"44122101-RU-B01","RUBBER BAND, 70mm min lay flat length (#18) ",{"$f":"APR!K172","v":0},{"$f":"APR!L172","v":"carton"},{"$f":"APR!M172","v":4665.5},0]
[{"$f":"SUBTOTAL(103,C$186:C338)","v":153},"41111604-RU-P02","RULER, PLASTIC, 450MM, 1 piece in individual plastic",{"$f":"APR!K173","v":0},{"$f":"APR!L173","v":"box"},{"$f":"APR!M173","v":774},0]
[{"$f":"SUBTOTAL(103,C$186:C339)","v":154},"44121618-SS-S01","SCISSORS, symmetrical, blade length: 65mm, 1 piece in individual plastic",{"$f":"APR!K174","v":0},{"$f":"APR!L174","v":"box"},{"$f":"APR!M174","v":494.28},0]
[{"$f":"SUBTOTAL(103,C$186:C340)","v":155},"47131602-SC-N01","SCOURING PAD, 5 pieces per pack",{"$f":"APR!K175","v":0},{"$f":"APR!L175","v":"box"},{"$f":"APR!M175","v":2059.1999999999998},0]
[{"$f":"SUBTOTAL(103,C$186:C341)","v":156},"60121524-SP-G01","SIGN PEN, BLACK, liquid/gel ink, 0.5mm needle tip ",{"$f":"APR!K176","v":0},{"$f":"APR!L176","v":"box"},{"$f":"APR!M176","v":457.2},0]
[{"$f":"SUBTOTAL(103,C$186:C342)","v":157},"60121524-SP-G02","SIGN PEN, BLUE, liquid/gel ink, 0.5mm needle tip  ",{"$f":"APR!K177","v":0},{"$f":"APR!L177","v":"box"},{"$f":"APR!M177","v":457.2},0]
[{"$f":"SUBTOTAL(103,C$186:C343)","v":158},"60121524-SP-G03","SIGN PEN, RED, liquid/gel ink, 0.5mm needle tip   ",{"$f":"APR!K178","v":0},{"$f":"APR!L178","v":"box"},{"$f":"APR!M178","v":457.2},0]
[{"$f":"SUBTOTAL(103,C$186:C344)","v":159},"53131608-SB-R01","SOAP, BATHROOM, 90 grams, 1 piece in individual box",{"$f":"APR!K179","v":0},{"$f":"APR!L179","v":"carton"},{"$f":"APR!M179","v":1453.4},0]
[{"$f":"SUBTOTAL(103,C$186:C345)","v":160},"44121905-SP-F01","STAMP PAD, FELT, bed dimension: 60mm x 100mm",{"$f":"APR!K180","v":0},{"$f":"APR!L180","v":"pack"},{"$f":"APR!M180","v":331.92},0]
[{"$f":"SUBTOTAL(103,C$186:C346)","v":161},"44121613-SR-P01","STAPLE REMOVER, PLIER TYPE",{"$f":"APR!K181","v":0},{"$f":"APR!L181","v":"box"},{"$f":"APR!M181","v":436.32},0]
[{"$f":"SUBTOTAL(103,C$186:C347)","v":162},"31151804-SW-H01","STAPLE WIRE, HEAVY DUTY, 23/13",{"$f":"APR!K182","v":0},{"$f":"APR!L182","v":"pack"},{"$f":"APR!M182","v":234},0]
[{"$f":"SUBTOTAL(103,C$186:C348)","v":163},"31151804-SW-H02","STAPLE WIRE, HEAVY DUTY, 23/17",{"$f":"APR!K183","v":0},{"$f":"APR!L183","v":"pack"},{"$f":"APR!M183","v":414.8},0]
[{"$f":"SUBTOTAL(103,C$186:C349)","v":164},"31151804-SW-S01","STAPLE WIRE, STANDARD",{"$f":"APR!K184","v":0},{"$f":"APR!L184","v":"carton"},{"$f":"APR!M184","v":1892},0]
[{"$f":"SUBTOTAL(103,C$186:C350)","v":165},"44121615-ST-B01","STAPLER, BINDER TYPE",{"$f":"APR!K185","v":0},{"$f":"APR!L185","v":"unit"},{"$f":"APR!M185","v":878.8},0]
[{"$f":"SUBTOTAL(103,C$186:C351)","v":166},"44121615-ST-S01","STAPLER, STANDARD TYPE, load cap: 200 staples min, 1 piece in individual box",{"$f":"APR!K186","v":0},{"$f":"APR!L186","v":"pack"},{"$f":"APR!M186","v":657.28},0]
[{"$f":"SUBTOTAL(103,C$186:C352)","v":167},"44121605-TD-H01","TAPE DISPENSER, HANDHELD",{"$f":"APR!K187","v":0},{"$f":"APR!L187","v":"box"},{"$f":"APR!M187","v":291},0]
[{"$f":"SUBTOTAL(103,C$186:C353)","v":168},"44121605-TD-T01","TAPE DISPENSER, TABLE TOP",{"$f":"APR!K188","v":0},{"$f":"APR!L188","v":"piece"},{"$f":"APR!M188","v":47.72},0]
[{"$f":"SUBTOTAL(103,C$186:C354)","v":169},"31201502-TA-E01","TAPE, ELECTRICAL",{"$f":"APR!K189","v":0},{"$f":"APR!L189","v":"pack"},{"$f":"APR!M189","v":455},0]
[{"$f":"SUBTOTAL(103,C$186:C355)","v":170},"14111515-TA-C01","TAPE, FOR ADDING MACHINE",{"$f":"APR!K190","v":0},{"$f":"APR!L190","v":"pack"},{"$f":"APR!M190","v":162.19999999999999},0]
[{"$f":"SUBTOTAL(103,C$186:C356)","v":171},"31201503-TA-M01","TAPE, MASKING, width: 24mm (±1mm)                 ",{"$f":"APR!K191","v":0},{"$f":"APR!L191","v":"pack"},{"$f":"APR!M191","v":661.44},0]
[{"$f":"SUBTOTAL(103,C$186:C357)","v":172},"31201503-TA-M02","TAPE, MASKING, width: 48mm (±1mm)                 ",{"$f":"APR!K192","v":0},{"$f":"APR!L192","v":"pack"},{"$f":"APR!M192","v":630.24},0]
[{"$f":"SUBTOTAL(103,C$186:C358)","v":173},"31201517-TA-P01","TAPE, PACKAGING, width: 48mm (±1mm)               ",{"$f":"APR!K193","v":0},{"$f":"APR!L193","v":"pack"},{"$f":"APR!M193","v":196.44},0]
[{"$f":"SUBTOTAL(103,C$186:C359)","v":174},"31201512-TA-T01","TAPE, TRANSPARENT, width: 24mm (±1mm)             ",{"$f":"APR!K194","v":0},{"$f":"APR!L194","v":"pack"},{"$f":"APR!M194","v":131.04},0]
[{"$f":"SUBTOTAL(103,C$186:C360)","v":175},"31201512-TA-T02","TAPE, TRANSPARENT, width: 48mm (±1mm)             ",{"$f":"APR!K195","v":0},{"$f":"APR!L195","v":"pack"},{"$f":"APR!M195","v":159.12},0]
[{"$f":"SUBTOTAL(103,C$186:C361)","v":176},"44103205-TC-A01","TIME CARD, AMANO, 100 pieces per bundle",{"$f":"APR!K196","v":0},{"$f":"APR!L196","v":"pack"},{"$f":"APR!M196","v":694.7},0]
[{"$f":"SUBTOTAL(103,C$186:C362)","v":177},"14111704-TT-P01","TOILET TISSUE PAPER 2-plys sheets, 150 pulls, 12 rolls in a pack",{"$f":"APR!K197","v":0},{"$f":"APR!L197","v":"box"},{"$f":"APR!M197","v":540.79999999999995},0]
[{"$f":"SUBTOTAL(103,C$186:C363)","v":178},"47121701-TB-P01","TRASHBAG, plastic, gusseted type, black, 10 pcs per roll/pack         ",{"$f":"APR!K198","v":0},{"$f":"APR!L198","v":"sack"},{"$f":"APR!M198","v":4196.3999999999996},0]
[{"$f":"SUBTOTAL(103,C$186:C364)","v":179},"31151507-TW-P01","TWINE, PLASTIC",{"$f":"APR!K199","v":0},{"$f":"APR!L199","v":"bundle"},{"$f":"APR!M199","v":499.2},0]
[{"$f":"SUBTOTAL(103,C$186:C365)","v":180},"47121702-WB-P01","WASTEBASKET, NON RIGID PLASTIC",{"$f":"APR!K200","v":0},{"$f":"APR!L200","v":"bundle"},{"$f":"APR!M200","v":573.6},0]
[{"$f":"SUBTOTAL(103,C$186:C366)","v":181},"43222609-WR-R01","WIRELESS N-ROUTER",{"$f":"APR!K201","v":0},{"$f":"APR!L201","v":"unit"},{"$f":"APR!M201","v":1037.92},0]
[{"$f":"SUBTOTAL(103,C$186:C367)","v":182},"60121124-WR-P02","WRAPPING PAPER, 50 sheets per pack",{"$f":"APR!K202","v":0},{"$f":"APR!L202","v":"bundle"},{"$f":"APR!M202","v":2576.8000000000002},0]

{"sheet":"Instructions","index":5,"n_rows":30,"n_cols":3,"rows_kept":30,"cut":false,"hidden":false,"merged":[[0,0,0,2],[2,0,2,2],[3,0,3,2]]}
["INSTRUCTIONS/CONDITIONS"]
[]
["AGENCY PROCUREMENT REQUEST (APR)"]
["PS Form No. 001"]
[]
["1.0","ACCOMPLISHMENT"]
[]
[null,"1.1","This request form shall be prepared for orders or requisitions of COMMON-USE SUPPLIES, MATERIALS AND EQUIPMENT from the PS Warehouses.  For a complete listing of these items, please refer to the Electronic Catalogue @ www.philgeps.gov.ph.  It shall be prepared in five (5) copies by requisitioning agencies and submitted to the Agency Servicing Division (ASD).  Appropriate box should be properly marked for the desired transaction and the Agency Control Number (ACN) clearly indicated in the space provided."]
[]
[null,"1.2","FUNDING: Pursuant to Section 445.b, paragraph 2 of the Government Auditing and Accounting Manual (GAAM) and Section 4b paragraph 2 of the Executive Order 359; agencies shall remit in advance to the Procurement Service the funds needed to service their requirements for the supplies, materials and equipment as reflected in the said Work and Financial Plan/Annual Procurement Program (APP)."]
[]
["2.0","DELIVERY SCHEME"]
[]
[null,"2.1","For items intended for pick-up, servicing of this transaction shall be through a Fast Lane for which the processing time should take an hour or less, dependent however on the items being ordered or the volume of transactions for the day."]
[]
[null,"2.2","If the agency desires to pick-up the goods at a later/preferred date, this information shall be indicated/stamped in the APR: “For Pick-up on __________”.  The agency shall then come back for the goods on the date as committed otherwise, PS shall deliver the items within three (3) days with reasonable charge for freight or delivery, or cancel the Delivery Receipt (DR)."]
[]
[null,"2.3","Delivery within Metro Manila is free-of-charge depending on the volume being ordered.  The PS Warehousing and Logistics shall notify and inform the agency of exact details of delivery so that the goods are properly received."]
[]
[null,"2.4","A Reply Action Document (RAD) shall accompany the DR/APR to inform the agency of the status of outstanding/undelivered items to be served/delivered."]
[]
[null,"2.5","A Certificate of Non-Availability of Stocks (CNAS) shall accompany the DR/APR to inform the agency of the status of outstanding/undelivered items not to be served/delivered."]
[]
[null,"2.6","Residual funds as a result from this request maybe used by the agency for its next requisitions."]
[]
["3.0","RETURN POLICY:"]
[null,null,"Items sold/delivered to agencies shall be accepted for return or replacement within a period of fourteen (14) to thirty (30) days reckoned from the date of receipt of the item/s."]
[]
["4.0","AGENCY UNDERTAKING:"]
[null,null,"The requisitioning agency herewith undertakes that the requested supplies/materials/equipment are included in its Annual Procurement Plan (APP).  Correspondingly, the PS commits to deliver only the items programmed for purchase as appearing in its APP."]